BEGIN:VCALENDAR
VERSION:2.0
PRODID:-//SLHC - ECPv6.15.20//NONSGML v1.0//EN
CALSCALE:GREGORIAN
METHOD:PUBLISH
X-ORIGINAL-URL:https://smart-living-health.de
X-WR-CALDESC:Veranstaltungen für SLHC
REFRESH-INTERVAL;VALUE=DURATION:PT1H
X-Robots-Tag:noindex
X-PUBLISHED-TTL:PT1H
BEGIN:VTIMEZONE
TZID:Europe/Berlin
BEGIN:DAYLIGHT
TZOFFSETFROM:+0100
TZOFFSETTO:+0200
TZNAME:CEST
DTSTART:20250330T010000
END:DAYLIGHT
BEGIN:STANDARD
TZOFFSETFROM:+0200
TZOFFSETTO:+0100
TZNAME:CET
DTSTART:20251026T010000
END:STANDARD
BEGIN:DAYLIGHT
TZOFFSETFROM:+0100
TZOFFSETTO:+0200
TZNAME:CEST
DTSTART:20260329T010000
END:DAYLIGHT
BEGIN:STANDARD
TZOFFSETFROM:+0200
TZOFFSETTO:+0100
TZNAME:CET
DTSTART:20261025T010000
END:STANDARD
BEGIN:DAYLIGHT
TZOFFSETFROM:+0100
TZOFFSETTO:+0200
TZNAME:CEST
DTSTART:20270328T010000
END:DAYLIGHT
BEGIN:STANDARD
TZOFFSETFROM:+0200
TZOFFSETTO:+0100
TZNAME:CET
DTSTART:20271031T010000
END:STANDARD
END:VTIMEZONE
BEGIN:VEVENT
DTSTART;TZID=Europe/Berlin:20260509T100000
DTEND;TZID=Europe/Berlin:20260509T150000
DTSTAMP:20260425T221158
CREATED:20251124T190632Z
LAST-MODIFIED:20260204T151352Z
UID:5034-1778320800-1778338800@smart-living-health.de
SUMMARY:Erster Gesundheitstag Marzahn-Hellersdorf
DESCRIPTION:Großer Gesundheitstag auf dem Gesundheitscampus am ukb Berlin \nUnter dem Motto „Unser Gesundheitstag – Vorsorge\, Versorgung\, Pflege und Karriere an einem Ort“ lädt der Gesundheitscampus gemeinsam mit zahlreichen Partnern von 10:00 bis 15:00 Uhr alle Bürgerinnen und Bürger herzlich ein.
URL:https://smart-living-health.de/veranstaltung/erster-gesundheitstag-marzahn-hellersdorf/
LOCATION:Gesundheitscampus am ukb\, Berlin\, 12683
CATEGORIES:Tag der offenen Tür
ORGANIZER;CN="Gesundheitscampus am ukb Berlin e. V.":MAILTO:info@gesundheitscampus-am-ukb.de
END:VEVENT
BEGIN:VEVENT
DTSTART;TZID=Europe/Berlin:20260512T110000
DTEND;TZID=Europe/Berlin:20260512T140000
DTSTAMP:20260425T221158
CREATED:20260324T083642Z
LAST-MODIFIED:20260423T093343Z
UID:5265-1778583600-1778594400@smart-living-health.de
SUMMARY:Pflege im Wandel
DESCRIPTION:Praxis\, Digitalisierung und neue Lösungen im Dialog\n\nWie verändert sich Pflege im Alltag? Wo steht die Praxis heute bei Digitalisierung und unterstützenden Lösungen – und was wird wirklich gebraucht? \nZum Tag der Pflege bringt das Haus der Zukunft Akteur:innen aus Pflege\, Versorgung\, Trägerschaft\, Startups und Innovation zusammen. \nDrei Praxisimpulse aus unterschiedlichen Versorgungsbereichen zeigen\, was bereits funktioniert\, wo Hürden bestehen und welche Lösungen aus Sicht der Praxis sinnvoll sind. Im Anschluss lädt die Veranstaltung zu Austausch\, Begegnung und Gesprächen über konkrete Bedarfe und tragfähige Ansätze für die Versorgung ein. \n\n\nDie Veranstaltung richtet sich an Akteur:innen aus Pflege\, Versorgung\, Medizin\, Trägerschaft sowie an Startups und Projekte\, die neue Lösungen für die Pflege entwickeln. Gerade deshalb ist uns die Perspektive der Praxis besonders wichtig. \n\n Agendaentwurf*\n– \n11:00 Uhr Ankommen und Begrüßung \n\nVorstellung und Einführung zum Ziel der Veranstaltung: Praxis\, Bedarf und neue Lösungen in einen gemeinsamen Dialog zu bringen. \n\n11:15 Uhr Praxisimpulse: Wo steht die Pflege in der Digitalisierung? \n\n\nTagesklinik: Wie digital ist der Versorgungsalltag heute? (Arona Kliniken) \n\n\nAmbulanter Pflegedienst: Wo entlasten digitale Lösungen tatsächlich – wo ist der Mensch „unumgänglich“? (Martina Müller-Claud\, GF und PDL\, Gesundheitspflege Helle-Mitte GmbH) \n\n\nStationäre Einrichtung: Was funktioniert bereits und wo bestehen weiterhin Lücken? (Sascha Saßen\, GF hesena Gruppe) \n\n\n11:45 Uhr Gemeinsame Gesprächsrunde / Q&A \n12:30 Uhr Netzwerk / Austausch / Markt der Möglichkeiten / Mittagssnack \n14:00 Uhr Ende  \n— \nEinladung_PFLEGE IM WANDEL \n*Änderungen sind jederzeit möglich. \n\n**Diese Veranstaltung ist eine Zusammenarbeit von der Digital Care Solutions und dem Smart Living & Health Center e. V. \n\n Um Voranmeldung wird gebeten: \nKaren Janda  janda@smart-living-health.de Tel: 030 – 6179 5042 \nJulia Backhaus julia.backhaus@digitalcaresolutions.de
URL:https://smart-living-health.de/veranstaltung/pflege-im-wandel/
LOCATION:Haus der Zukunft am ukb\, Blumberger Damm 2k\, Berlin\, Berlin\, 12683\, Deutschland
CATEGORIES:Netzwerkforum
ORGANIZER;CN="Smart Living & Health Center e.V.":MAILTO:info@haus-der-zukunft-am-ukb.de
END:VEVENT
END:VCALENDAR