BEGIN:VCALENDAR
VERSION:2.0
PRODID:-//SLHC - ECPv6.15.20//NONSGML v1.0//EN
CALSCALE:GREGORIAN
METHOD:PUBLISH
X-WR-CALNAME:SLHC
X-ORIGINAL-URL:https://smart-living-health.de
X-WR-CALDESC:Veranstaltungen für SLHC
REFRESH-INTERVAL;VALUE=DURATION:PT1H
X-Robots-Tag:noindex
X-PUBLISHED-TTL:PT1H
BEGIN:VTIMEZONE
TZID:Europe/Berlin
BEGIN:DAYLIGHT
TZOFFSETFROM:+0100
TZOFFSETTO:+0200
TZNAME:CEST
DTSTART:20250330T010000
END:DAYLIGHT
BEGIN:STANDARD
TZOFFSETFROM:+0200
TZOFFSETTO:+0100
TZNAME:CET
DTSTART:20251026T010000
END:STANDARD
BEGIN:DAYLIGHT
TZOFFSETFROM:+0100
TZOFFSETTO:+0200
TZNAME:CEST
DTSTART:20260329T010000
END:DAYLIGHT
BEGIN:STANDARD
TZOFFSETFROM:+0200
TZOFFSETTO:+0100
TZNAME:CET
DTSTART:20261025T010000
END:STANDARD
BEGIN:DAYLIGHT
TZOFFSETFROM:+0100
TZOFFSETTO:+0200
TZNAME:CEST
DTSTART:20270328T010000
END:DAYLIGHT
BEGIN:STANDARD
TZOFFSETFROM:+0200
TZOFFSETTO:+0100
TZNAME:CET
DTSTART:20271031T010000
END:STANDARD
END:VTIMEZONE
BEGIN:VEVENT
DTSTART;TZID=Europe/Berlin:20260311T170000
DTEND;TZID=Europe/Berlin:20260311T190000
DTSTAMP:20260425T000259
CREATED:20251212T094912Z
LAST-MODIFIED:20251212T095510Z
UID:5070-1773248400-1773255600@smart-living-health.de
SUMMARY:Medizintechnik in der Zeitenwende: KI & Robotik im Gesundheitswesen
DESCRIPTION:KI und Robotik verändern heute schon Diagnostik\, Therapie\, Pflege und Krankenhausbetrieb – mit direkten Auswirkungen auf die Arbeitswelt und Patientenerfahrung.
URL:https://smart-living-health.de/veranstaltung/medizintechnik-in-der-zeitenwende-ki-robotik-im-gesundheitswesen/
LOCATION:VDI Technologiezentrum\, Bülowstraße 78\, Berlin
CATEGORIES:Informationsveranstaltung
END:VEVENT
END:VCALENDAR