BEGIN:VCALENDAR
VERSION:2.0
PRODID:-//SLHC - ECPv6.15.20//NONSGML v1.0//EN
CALSCALE:GREGORIAN
METHOD:PUBLISH
X-WR-CALNAME:SLHC
X-ORIGINAL-URL:https://smart-living-health.de
X-WR-CALDESC:Veranstaltungen für SLHC
REFRESH-INTERVAL;VALUE=DURATION:PT1H
X-Robots-Tag:noindex
X-PUBLISHED-TTL:PT1H
BEGIN:VTIMEZONE
TZID:Europe/Berlin
BEGIN:DAYLIGHT
TZOFFSETFROM:+0100
TZOFFSETTO:+0200
TZNAME:CEST
DTSTART:20230326T010000
END:DAYLIGHT
BEGIN:STANDARD
TZOFFSETFROM:+0200
TZOFFSETTO:+0100
TZNAME:CET
DTSTART:20231029T010000
END:STANDARD
BEGIN:DAYLIGHT
TZOFFSETFROM:+0100
TZOFFSETTO:+0200
TZNAME:CEST
DTSTART:20240331T010000
END:DAYLIGHT
BEGIN:STANDARD
TZOFFSETFROM:+0200
TZOFFSETTO:+0100
TZNAME:CET
DTSTART:20241027T010000
END:STANDARD
BEGIN:DAYLIGHT
TZOFFSETFROM:+0100
TZOFFSETTO:+0200
TZNAME:CEST
DTSTART:20250330T010000
END:DAYLIGHT
BEGIN:STANDARD
TZOFFSETFROM:+0200
TZOFFSETTO:+0100
TZNAME:CET
DTSTART:20251026T010000
END:STANDARD
END:VTIMEZONE
BEGIN:VEVENT
DTSTART;VALUE=DATE:20240514
DTEND;VALUE=DATE:20240517
DTSTAMP:20260421T201852
CREATED:20240222T172128Z
LAST-MODIFIED:20240222T172128Z
UID:3981-1715644800-1715903999@smart-living-health.de
SUMMARY:Pflege Plus - Fachmesse für den Pflegemarkt
DESCRIPTION:Die Fachmesse PFLEGE PLUS bringt FachbesucherInnen mit ausstellenden Unternehmen\, Branchenverbände sowie ExpertInnen des Pflegemarkts zusammen. Seit 1995 informiert die Veranstaltung EntscheiderInnen und Fachpersonal aus Süddeutschland sowie den angrenzenden Regionen zu Produktneuheiten\, Trends und Entwicklungen in der Branche.
URL:https://smart-living-health.de/veranstaltung/pflege-plus-fachmesse-fuer-den-pflegemarkt/
LOCATION:Landesmesse Stuttgart GmbH\, Messepiazza 1\, Stuttgart\, 70629
CATEGORIES:Fachtagung,Messe
ORGANIZER;CN="Landesmesse Stuttgart":MAILTO:info@messe-stuttgart.de
END:VEVENT
BEGIN:VEVENT
DTSTART;TZID=Europe/Berlin:20240523T080000
DTEND;TZID=Europe/Berlin:20240523T140000
DTSTAMP:20260421T201852
CREATED:20240229T142751Z
LAST-MODIFIED:20240229T142751Z
UID:3998-1716451200-1716472800@smart-living-health.de
SUMMARY:Fachtagung: Adipositas - Ein menschliches Anliegen mit Gewicht
DESCRIPTION:Adipositas verstehen\, betreuen und bewältigen \nDieser Fachtag richtet sich an Betroffene\, Angehörige\, Pflegekräfte und Interessierte\, die sich einen vertieften Einblick über das Thema Adipositas verschaffen wollen. \n 
URL:https://smart-living-health.de/veranstaltung/fachtagung-adipositas-ein-menschliches-anliegen-mit-gewicht/
LOCATION:Renafan Akademie gGmbH\, Berliner Straße 36/37\, Berlin\, 13507
CATEGORIES:Digital,Fachtagung,Vor-Ort-Veranstaltung
ORGANIZER;CN="Renafan Akademie":MAILTO:akademie@renafan.de
END:VEVENT
BEGIN:VEVENT
DTSTART;TZID=Europe/Berlin:20240530T163000
DTEND;TZID=Europe/Berlin:20240530T190000
DTSTAMP:20260421T201852
CREATED:20240524T103753Z
LAST-MODIFIED:20240524T103753Z
UID:4122-1717086600-1717095600@smart-living-health.de
SUMMARY:Pflegepolitischer Dialog im Abgeordnetenhaus
DESCRIPTION:Pflegepolitischer Dialog im Abgeordnetenhaus von Berlin – Häusliche Pflege in großer Not! Ausufernde Kosten – fehlende Angebote – wie kann es weiterg \nTreffen Sie sich mit der Berliner Politik\, den pflegepolitischen Sprecher:innen der Fraktionen\, zu Ihren Fragen und Bedürfnissen bei der häuslichen Pflege! Nutzen Sie die Gelegenheit\, die Ihnen die Woche der pflegenden Angehörigen bietet und reden Sie an berufenem Ort in eigener Sache mit!
URL:https://smart-living-health.de/veranstaltung/pflegepolitischer-dialog-im-abgeordnetenhaus/
LOCATION:Abgeordnetenhaus von Berlin\, Niederkirchnerstraße 5\, Berlin\, 10117
CATEGORIES:Dialog,Vor-Ort-Veranstaltung
END:VEVENT
END:VCALENDAR