BEGIN:VCALENDAR
VERSION:2.0
PRODID:-//SLHC - ECPv6.15.20//NONSGML v1.0//EN
CALSCALE:GREGORIAN
METHOD:PUBLISH
X-WR-CALNAME:SLHC
X-ORIGINAL-URL:https://smart-living-health.de
X-WR-CALDESC:Veranstaltungen für SLHC
REFRESH-INTERVAL;VALUE=DURATION:PT1H
X-Robots-Tag:noindex
X-PUBLISHED-TTL:PT1H
BEGIN:VTIMEZONE
TZID:Europe/Berlin
BEGIN:DAYLIGHT
TZOFFSETFROM:+0100
TZOFFSETTO:+0200
TZNAME:CEST
DTSTART:20220327T010000
END:DAYLIGHT
BEGIN:STANDARD
TZOFFSETFROM:+0200
TZOFFSETTO:+0100
TZNAME:CET
DTSTART:20221030T010000
END:STANDARD
BEGIN:DAYLIGHT
TZOFFSETFROM:+0100
TZOFFSETTO:+0200
TZNAME:CEST
DTSTART:20230326T010000
END:DAYLIGHT
BEGIN:STANDARD
TZOFFSETFROM:+0200
TZOFFSETTO:+0100
TZNAME:CET
DTSTART:20231029T010000
END:STANDARD
BEGIN:DAYLIGHT
TZOFFSETFROM:+0100
TZOFFSETTO:+0200
TZNAME:CEST
DTSTART:20240331T010000
END:DAYLIGHT
BEGIN:STANDARD
TZOFFSETFROM:+0200
TZOFFSETTO:+0100
TZNAME:CET
DTSTART:20241027T010000
END:STANDARD
END:VTIMEZONE
BEGIN:VEVENT
DTSTART;VALUE=DATE:20231009
DTEND;VALUE=DATE:20231011
DTSTAMP:20260422T063915
CREATED:20231005T142425Z
LAST-MODIFIED:20231006T065855Z
UID:3635-1696809600-1696982399@smart-living-health.de
SUMMARY:Häuslicher Pflegekongress "LUNA"
DESCRIPTION:Herzlich willkommen bei LUNA – dem Kongress und der zentralen Netzwerkplattform für Leitungskräfte und Geschäftsführungen in der ambulanten Pflege! \nWir freuen uns außerordentlich\, Sie zu diesem innovativen Event in Berlin begrüßen zu dürfen\, bei dem zahlreiche Expertinnen und Experten aus dem Netzwerk der Redaktion “Häusliche Pflege” in vier Vortrags- und Workshopsträngen ihr umfangreiches Fachwissen teilen werden. \nProfitieren Sie von diesem einzigartigen Kongress\, indem Sie sich einen Wissensvorsprung verschaffen\, konkrete Problemlösungen erhalten und Impulse für Ihr Business mitnehmen. Wir haben die Themen gesetzt\, die die Branche bewegen: Personal\, Wirtschaftlichkeit\, Tarifpflicht\, Digitalisierung\, Innovationen\, Pflegequalität und vieles mehr. –
URL:https://smart-living-health.de/veranstaltung/haeuslicher-pflegekongress-luna/
LOCATION:Seminaris CampusHotel\, Takustraße 39\, Berlin\, 14195
CATEGORIES:Kongress,Vor-Ort-Veranstaltung
ORGANIZER;CN="Vincentz Network GmbH & Co. KG":MAILTO:christoph.schulz@vincentz.net
END:VEVENT
BEGIN:VEVENT
DTSTART;TZID=Europe/Berlin:20231017T150000
DTEND;TZID=Europe/Berlin:20231017T180000
DTSTAMP:20260422T063915
CREATED:20221219T155121Z
LAST-MODIFIED:20231016T093342Z
UID:3117-1697554800-1697565600@smart-living-health.de
SUMMARY:Ätherische Öle zur Unterstützung und Begleitung von Demenzerkrankten
DESCRIPTION:Ungefähr 1\,8 Millionen Menschen leiden in Deutschland an dem sogenannten Demenzielen Syndrom.  \nDieser Workshop zeigt\, wie Aromapflege auf verschiedenen Ebenen unterstützen kann\, sich einfach in den Pflegealltag integrieren lässt und dabei die Gedächtnisfähigkeit beeinflusst. Ätherische Öle können bei unterschiedlichen Pflegeproblemen wie Unruhe\, Konzentrationsstörungen\, Hinlauftendenz\, Nervosität\, Störungen im Tag- und Nacht-Rhythmus effektive Helfer sein. Dabei schenkt Aromapflege mit 100% naturreinen Ölen die Möglichkeit zu liebevoller Zuwendung und Lebensfreude\, fördert Vertrauen und Wohlbefinden auf beiden Seiten. \nDatum *13.3.2025 - In Balance - Rituale für mehr Gelassenheit6.5.2025 - Trauer-Verlust- und Sterbebegleitung26.6.2025 - Frisch durch den Sommer9.9.2025 - Pflege zu Hause - Unterstützungsmöglichkeiten durch die Aromapflege16.10.2025 - Aromapflege zur Begleitung bei Demenz27.11.2025 - Zimt und Sterne - mit weihnachtlichen Aromen durch die Adventszeit  AnredeFrauHerrDiv  Kontaktmöglichkeit für Rückfragen *PersonenzahlWas ist Ihr Hintergrund?Was ist Ihr Hintergrund?AusbildungLehrkraftPflegekraftPflegende Angehörigeanderer Hintergrund  Danke für Ihre Nachricht. Wir haben diese erhalten.×Es ist ein Fehler aufgetreten. Bitte versuchen Sie es erneut.×Jetzt anmelden\n  \n     
URL:https://smart-living-health.de/veranstaltung/demenz-einfluss-von-dueften-auf-das-gedaechtnis/
LOCATION:Haus der Zukunft am ukb\, Blumberger Damm 2k\, Berlin\, Berlin\, 12683\, Deutschland
CATEGORIES:Informationsveranstaltung
ORGANIZER;CN="Smart Living & Health Center e.V.":MAILTO:info@haus-der-zukunft-am-ukb.de
END:VEVENT
END:VCALENDAR