BEGIN:VCALENDAR
VERSION:2.0
PRODID:-//SLHC - ECPv6.15.20//NONSGML v1.0//EN
CALSCALE:GREGORIAN
METHOD:PUBLISH
X-ORIGINAL-URL:https://smart-living-health.de
X-WR-CALDESC:Veranstaltungen für SLHC
REFRESH-INTERVAL;VALUE=DURATION:PT1H
X-Robots-Tag:noindex
X-PUBLISHED-TTL:PT1H
BEGIN:VTIMEZONE
TZID:Europe/Berlin
BEGIN:DAYLIGHT
TZOFFSETFROM:+0100
TZOFFSETTO:+0200
TZNAME:CEST
DTSTART:20250330T010000
END:DAYLIGHT
BEGIN:STANDARD
TZOFFSETFROM:+0200
TZOFFSETTO:+0100
TZNAME:CET
DTSTART:20251026T010000
END:STANDARD
BEGIN:DAYLIGHT
TZOFFSETFROM:+0100
TZOFFSETTO:+0200
TZNAME:CEST
DTSTART:20260329T010000
END:DAYLIGHT
BEGIN:STANDARD
TZOFFSETFROM:+0200
TZOFFSETTO:+0100
TZNAME:CET
DTSTART:20261025T010000
END:STANDARD
BEGIN:DAYLIGHT
TZOFFSETFROM:+0100
TZOFFSETTO:+0200
TZNAME:CEST
DTSTART:20270328T010000
END:DAYLIGHT
BEGIN:STANDARD
TZOFFSETFROM:+0200
TZOFFSETTO:+0100
TZNAME:CET
DTSTART:20271031T010000
END:STANDARD
END:VTIMEZONE
BEGIN:VEVENT
DTSTART;VALUE=DATE:20260223
DTEND;VALUE=DATE:20260228
DTSTAMP:20260424T175805
CREATED:20251202T142007Z
LAST-MODIFIED:20260210T104735Z
UID:5063-1771804800-1772236799@smart-living-health.de
SUMMARY:Lebensreise
DESCRIPTION:„Am Ende einer Lebensreise gehören Abschied\, Sterben und Trauer unweigerlich dazu. Mit der Themenwoche „Lebensreise“ möchten wir auch 2026 Raum für Information\, Austausch und persönliche Fragen zu diesen sensiblen Punkten schaffen. \n  \n Programm der Woche\n– \nMo\, 23. Februar 2026 – 14:00 Uhr  \nAromatherapie in der Sterbebegleitung: In Abschieds- und Trauerphasen stoßen wir oft an unsere Grenzen. Ätherische Öle können dabei wohltuend unterstützen. (Annette Last\, Primavera) \n— \nDie\, 24. Februar 2026 – 10:00 Uhr  \nVorsorgevollmacht/ Patientenverfügung: Wie kann sichergestellt werden\, dass alle Wünsche berücksichtigt werden\, wenn ich nicht mehr selbst entscheiden kann? (Wencke Pohle\, Lebenshilfe Berlin e. V.) \n— \nMi\, 25. Februar 2026 – 14:00 Uhr  \nVorstellung Evangelisches Hospiz Berlin-Mahlsdorf (Anne Krüger) \nIm Mittelpunkt stehen die Begleitung schwerkranker Menschen\, die Unterstützung ihrer Angehörigen sowie die Frage\, wie ein würdevoller Abschied gestaltet werden kann. Neben Informationen über die tägliche Arbeit bleibt Raum für persönliche Fragen\, Austausch und Gespräche über ein Thema\, das uns alle berührt. \n— \nDo\, 26. Februar 2026 – 10:00 Uhr  \nBestattungsvorsorge: Sie sorgen sich um die Bestattung eines nahestehenden Menschen und möchten sich über Möglichkeiten und Grenzen informieren? (Dr. Fabian Lenzen\, Bestatterinnung) \n— \nFr\, 27. Februar 2026 – 10:00 Uhr  \nLetzter Knigge: Praktische Hinweise für einen respektvollen\, einfühlsamen Umgang mit Abschied\, Sterben und Trauer. So treten Sie sicher auf. (Ulla Rose\, Home Care e. V.) \n— \nWoche_Lebensreise_Flyer \n**Die Veranstaltungen im Rahmen der Themenwochen sind eine Zusammenarbeit vom Smart Living & Health Center e. V. und der Kontaktstelle PflegeEngagement Biesdorf. Sie finden im Haus der Zukunft am ukb im 1. OG statt. \n📌 Um Voranmeldung wird gebeten:✉️ E-Mail: info@haus-der-zukunft-am-ukb.de📞 Tel: 030 – 6179 5042 \n \n 
URL:https://smart-living-health.de/veranstaltung/lebensreise/
LOCATION:Haus der Zukunft am ukb\, Blumberger Damm 2k\, Berlin\, Berlin\, 12683\, Deutschland
CATEGORIES:Informationsveranstaltung
ORGANIZER;CN="Smart Living & Health Center e.V.":MAILTO:info@haus-der-zukunft-am-ukb.de
END:VEVENT
END:VCALENDAR