BEGIN:VCALENDAR
VERSION:2.0
PRODID:-//SLHC - ECPv6.15.20//NONSGML v1.0//EN
CALSCALE:GREGORIAN
METHOD:PUBLISH
X-WR-CALNAME:SLHC
X-ORIGINAL-URL:https://smart-living-health.de
X-WR-CALDESC:Veranstaltungen für SLHC
REFRESH-INTERVAL;VALUE=DURATION:PT1H
X-Robots-Tag:noindex
X-PUBLISHED-TTL:PT1H
BEGIN:VTIMEZONE
TZID:Europe/Berlin
BEGIN:DAYLIGHT
TZOFFSETFROM:+0100
TZOFFSETTO:+0200
TZNAME:CEST
DTSTART:20250330T010000
END:DAYLIGHT
BEGIN:STANDARD
TZOFFSETFROM:+0200
TZOFFSETTO:+0100
TZNAME:CET
DTSTART:20251026T010000
END:STANDARD
BEGIN:DAYLIGHT
TZOFFSETFROM:+0100
TZOFFSETTO:+0200
TZNAME:CEST
DTSTART:20260329T010000
END:DAYLIGHT
BEGIN:STANDARD
TZOFFSETFROM:+0200
TZOFFSETTO:+0100
TZNAME:CET
DTSTART:20261025T010000
END:STANDARD
BEGIN:DAYLIGHT
TZOFFSETFROM:+0100
TZOFFSETTO:+0200
TZNAME:CEST
DTSTART:20270328T010000
END:DAYLIGHT
BEGIN:STANDARD
TZOFFSETFROM:+0200
TZOFFSETTO:+0100
TZNAME:CET
DTSTART:20271031T010000
END:STANDARD
END:VTIMEZONE
BEGIN:VEVENT
DTSTART;VALUE=DATE:20260518
DTEND;VALUE=DATE:20260523
DTSTAMP:20260419T222014
CREATED:20260204T153606Z
LAST-MODIFIED:20260324T112449Z
UID:5171-1779062400-1779494399@smart-living-health.de
SUMMARY:Woche der pflegenden Angehörigen
DESCRIPTION:Die Woche der pflegenden Angehörigen im Haus der Zukunft am ukb bietet Raum für Information\, Austausch und Entlastung – mit einem Tag der offenen Tür\, Impulsen zu Transfer und Erholung\, musikalischen Angeboten sowie praktischen Einblicken in technische Unterstützung für den Pflegealltag und das eigene Zuhause. \n Programm*\n– \nMo\, 18. Mai 2026 – 10:00 -15:00 Uhr  \nTag der offenen Tür im Beratungszentrum Pflege und Soziales.  \n10:00 Uhr: Was heißt „Pflegebedürftigkeit“ und wann erhalte ich einen Pflegegrad? (Grit Churfürst\, Berliner Pflegestützpunkte) \n13:00 Uhr: Vorsorgevollmacht oder Betreuung? Was brauche ich? (Herr Gallmeister\, Betreuungsbehörde Bezirksamt Marzahn-Hellersdorf) \n— \nDie\, 19. Mai  2026 – 10:00 Uhr  \nTransfer für pflegende Angehörige. (Matthias Schwarz\, etac) \nIn diesem praxisnahen Workshop lernen pflegende Angehörige\, wie sie ihre Liebsten sicher und rückenschonend beim Aufstehen\, Hinsetzen oder Umlagern unterstützen können. Mit einfachen Techniken und Tipps für den Alltag stärken Sie Ihre eigene Gesundheit und erleichtern die Pflege. \n— \nMi\, 20. Mai 2026 – 10:00 Uhr  \nReisemöglichkeiten für Menschen mit Beeinträchtigungen – was ist zu beachten? (Stefan Frhr. von Schlotheim\, FDS Hotel gGmbH)\nErhalten Sie einen Einblick\, worauf es bei der Reiseplanung für Menschen mit Beeinträchtigungen besonders ankommt. \nDabei geht es unter anderem um Fragen wie: \n\nWelches Reiseziel ist geeignet?\nWie kann die An- und Abreise organisiert werden?\nWie lässt sich die Versorgung einer pflegebedürftigen Person sicherstellen?\nWelche räumlichen Voraussetzungen sowie Hilfsmittel sollten vor Ort vorhanden sein?\n\nAnhand dieser Aspekte stellt er außerdem zwei barrierefreie Hotels der Fürst Donnersmarck-Stiftung vor. \n— \nDo\, 21. Mai 2026 – 10:00 Uhr  \nEin mobiler Werkzeugkasten für kleine Glücksmomente im Pflegealltag. (Juliane Bahr & Christiane Klinger\, Kontaktstelle PflegeEngagement) \nEinfache Dinge\, die den Alltag ein Stück heller machen. \n\nRiechen & Schmecken\nTasten & Fühlen\nSehen & Erinnern\nHörne & Klingen\nBewegung & Aktivierung\n\n— \nFr\, 22. Mai 2026 – 10:00 Uhr (hybrid) \nTechnische Unterstützung für Angehörige im eigenen Zuhause \nPflegende Angehörige stehen im Alltag oft vor großen organisatorischen und körperlichen Herausforderungen. Technische Lösungen können dabei helfen\, Sicherheit zu erhöhen\, Entlastung zu schaffen und ein möglichst selbstständiges Leben in den eigenen vier Wänden zu unterstützen. \nThemen u. a.: \n\n\nTechnische Unterstützung im Pflegealltag \n\n\nMehr Sicherheit und Orientierung im eigenen Zuhause \n\n\nEntlastung für pflegende Angehörige \n\n\nBeratung\, Umsetzung und praktische Beispiele aus der Praxis \n\n\n— \n  \n*Änderungen sind jederzeit möglich. \n**Die Veranstaltungen im Rahmen der Themenwochen sind eine Zusammenarbeit vom Smart Living & Health Center e. V. und der Kontaktstelle PflegeEngagement Marzahn-Hellersdorf. Sie finden im Haus der Zukunft am ukb im 1. OG statt. \n📌 Um Voranmeldung wird gebeten:✉️ E-Mail: info@haus-der-zukunft-am-ukb.de📞 Tel: 030 – 6179 5042 \n \n 
URL:https://smart-living-health.de/veranstaltung/woche-der-pflegenden-angehoerigen/
LOCATION:Haus der Zukunft am ukb\, Blumberger Damm 2k\, Berlin\, Berlin\, 12683\, Deutschland
CATEGORIES:Themenwoche
END:VEVENT
END:VCALENDAR