BEGIN:VCALENDAR
VERSION:2.0
PRODID:-//SLHC - ECPv6.15.20//NONSGML v1.0//EN
CALSCALE:GREGORIAN
METHOD:PUBLISH
X-ORIGINAL-URL:https://smart-living-health.de
X-WR-CALDESC:Veranstaltungen für SLHC
REFRESH-INTERVAL;VALUE=DURATION:PT1H
X-Robots-Tag:noindex
X-PUBLISHED-TTL:PT1H
BEGIN:VTIMEZONE
TZID:Europe/Berlin
BEGIN:DAYLIGHT
TZOFFSETFROM:+0100
TZOFFSETTO:+0200
TZNAME:CEST
DTSTART:20240331T010000
END:DAYLIGHT
BEGIN:STANDARD
TZOFFSETFROM:+0200
TZOFFSETTO:+0100
TZNAME:CET
DTSTART:20241027T010000
END:STANDARD
BEGIN:DAYLIGHT
TZOFFSETFROM:+0100
TZOFFSETTO:+0200
TZNAME:CEST
DTSTART:20250330T010000
END:DAYLIGHT
BEGIN:STANDARD
TZOFFSETFROM:+0200
TZOFFSETTO:+0100
TZNAME:CET
DTSTART:20251026T010000
END:STANDARD
BEGIN:DAYLIGHT
TZOFFSETFROM:+0100
TZOFFSETTO:+0200
TZNAME:CEST
DTSTART:20260329T010000
END:DAYLIGHT
BEGIN:STANDARD
TZOFFSETFROM:+0200
TZOFFSETTO:+0100
TZNAME:CET
DTSTART:20261025T010000
END:STANDARD
END:VTIMEZONE
BEGIN:VEVENT
DTSTART;VALUE=DATE:20250403
DTEND;VALUE=DATE:20250404
DTSTAMP:20260420T135937
CREATED:20241119T100105Z
LAST-MODIFIED:20241119T100105Z
UID:4357-1743638400-1743724799@smart-living-health.de
SUMMARY:Digitalforum Gesundheit 2025
DESCRIPTION:Radikal Digital: Deutschland hat die Wahl
URL:https://smart-living-health.de/veranstaltung/digitalforum-gesundheit-2025/
LOCATION:Design Offices Berlin Humboldthafen\, Alexanderufer 3-7\, Berlin\, 10117
CATEGORIES:Kongress
END:VEVENT
BEGIN:VEVENT
DTSTART;TZID=Europe/Berlin:20250407T110000
DTEND;TZID=Europe/Berlin:20250407T123000
DTSTAMP:20260420T135937
CREATED:20250318T093545Z
LAST-MODIFIED:20250407T084741Z
UID:4575-1744023600-1744029000@smart-living-health.de
SUMMARY:Telemonitoring
DESCRIPTION:400.000 Hospitalisationen jährlich sind auf die Herzschwäche zurückzuführen\, damit ist die Herzschwäche die häufigste Krankenhausentlassdiagnose nach der Geburt. Trotz enormer Ausgaben schaffen wir es nicht alle Patientinnen und Patienten frühzeitig für Behandlungen zu identifizieren\, lebensrettende medikamentöse Therapien aufzudosieren und Verschlechterungen zeitgerecht zu erkennen. Die Telemedizin und Unterstützungsangebote helfen\, um Krankenhausaufnahme zu vermeiden und um die richtigen Menschen zu identifizieren\, die Unterstützung benötigen. \nWir zeigen innovative Lösungen\, um EKG-Daten im Alltag ohne Mehraufwand zu erheben. Die ermöglicht sowohl im staionären Umfeld eine Entlastung und auch im privaten Umfeld eine Unterstützung bei der regelmäßigen Kontrolle. \n  \nAnmeldung\nAnredeFrauHerrDiv  Kontaktmöglichkeit für Rückfragen *PersonenzahlWas ist Ihr Hintergrund?Was ist Ihr Hintergrund?KrankenhausPresseStationäre PflegeeinrichtungAmbulanter Pflegedienstanderer Hintergrund  Danke für Ihre Nachricht. Wir haben diese erhalten.×Es ist ein Fehler aufgetreten. Bitte versuchen Sie es erneut.×Jetzt anmelden\n  \nProgramm\n 11:00Christian Gräff | Geschäftsführer des Smart Living & Health Center e. V.\n 11:05Dr. med. Sebastian Winkler | Oberarzt | Klinik für Innere Medizin/Kardiologie ukb | Bedeutung von Telemonitoring in der Versorgung\n 11:20Stephan Oswald | Hamberger Industriewerke GmbH | „HARO-EKG-SEAT – 6-Kanal-EKG im Toilettensitz\n 11:35N. N. | Fraunhofer Institut für Integrierte Schaltungen | \n 11:45Prof. Dr. Arno Elmer | Better@Home Service GmbH | „Smart Senior Living“ \n 12:00Get together\n  \n 
URL:https://smart-living-health.de/veranstaltung/telemonitoring/
LOCATION:Haus der Zukunft am ukb\, Blumberger Damm 2k\, Berlin\, Berlin\, 12683\, Deutschland
CATEGORIES:Fachtagung
END:VEVENT
BEGIN:VEVENT
DTSTART;VALUE=DATE:20250408
DTEND;VALUE=DATE:20250411
DTSTAMP:20260420T135937
CREATED:20250103T132951Z
LAST-MODIFIED:20250103T132951Z
UID:4433-1744070400-1744329599@smart-living-health.de
SUMMARY:DMEA 2025 - Connecting Digital Health
DESCRIPTION:Europas führendes Event für Digital Health/ digitale Gesundheitsversorgung.
URL:https://smart-living-health.de/veranstaltung/dmea-2025-connecting-digital-health/
LOCATION:Messe Berlin\, Eingang Süd\, Messe Berlin\, Eingang Süd\, Großer Saal\, Berlin\, 14055
CATEGORIES:Messe
ORGANIZER;CN="Bundesverband Gesundheits-IT %E2%80%93 bvitg e. V.":MAILTO:dmea@bvitg.de
END:VEVENT
BEGIN:VEVENT
DTSTART;VALUE=DATE:20250408
DTEND;VALUE=DATE:20250411
DTSTAMP:20260420T135937
CREATED:20250103T133613Z
LAST-MODIFIED:20250103T133941Z
UID:4436-1744070400-1744329599@smart-living-health.de
SUMMARY:ALTENPFLEGE
DESCRIPTION:Es erwarten Sie aktuelle Entwicklungen\, Produkte und Dienstleistungen rund um die stationäre und ambulante Pflege. Themen wie Nachhaltigkeit\, Energie\, Digitalisierung\, vernetztes Wohnen und Innovationen stehen bei der Leitmesse im Mittelpunkt.
URL:https://smart-living-health.de/veranstaltung/altenpflege-2/
LOCATION:NürnbergMesse GmbH\, Messezentrum 1\, Nürnberg\, 90471
CATEGORIES:Messe
ORGANIZER;CN="Vincentz Network GmbH & Co. KG":MAILTO:christoph.schulz@vincentz.net
END:VEVENT
BEGIN:VEVENT
DTSTART;VALUE=DATE:20250408
DTEND;VALUE=DATE:20250411
DTSTAMP:20260420T135937
CREATED:20250313T082838Z
LAST-MODIFIED:20250407T092511Z
UID:4563-1744070400-1744329599@smart-living-health.de
SUMMARY:Smart Living & Health Center e. V.  auf der Altenpflege
DESCRIPTION:Besuchen Sie uns und einige Vertreter des Netzwerks in Halle 7 am Stand 7-672! \nTreffen Sie Vertreter von Talent Orange\, etac\, Joka\, Grohe und pi4. \nWir freuen uns auf Sie! \n  \n\nTalent Orange Hochqualifizierte internationale (Pflege-) Fachkräfte für den Einsatz in Gesundheits- und Pflegeeinrichtungen und Krankenhäusern aller Versorgungsstufen.\netac: Etac setzt sich dafür ein\, die Lebens- und Pflegequalität zu verbessern. Die Hilfsmittel zur Patientenhandhabung eignen sich für eine Vielzahl von Pflegebereichen.\nJoka: Der Boden einer Gesundheitseinrichtung muss vielen Herausforderungen standhalten: Böden mit besonderer Oberflächenbeschaffenheit bieten Bakterien keinen Nährboden.\nGrohe: Reinigungs- und wartungsfreundliche Ausstattung für größtmögliche Hygiene.\npi4: Der Workerbot9 entlastet Pflegeteams von lästigen Logistikaufgaben und gibt allen mehr Zeit für die wichtigen Pflegeaufgaben sowie die Kommunikation mit den Bewohnern.
URL:https://smart-living-health.de/veranstaltung/smart-living-health-center-auf-der-altenpflege/
LOCATION:Messe Nürnberg\, Halle 7\, Stand 7-672\, Nürnberg
CATEGORIES:Messe
END:VEVENT
BEGIN:VEVENT
DTSTART;TZID=Europe/Berlin:20250410T130000
DTEND;TZID=Europe/Berlin:20250410T190000
DTSTAMP:20260420T135937
CREATED:20250113T192847Z
LAST-MODIFIED:20250403T075452Z
UID:4465-1744290000-1744311600@smart-living-health.de
SUMMARY:THERA-Trainer Workshop
DESCRIPTION:THERA-Trainer erleben. \nEntdecken Sie robotikunterstützte Therapiegeräte und Softwarelösungen für alle Phasen der neurologischen und geriatrischen Rehabilitation. \nBringen Sie Ihre professionelle Therapie auf das nächste Level! Entdecken Sie die gesamte Produktpalette von THERA-Trainer\, sprechen Sie mit erfahrenen THERA-Trainer Nutzern\, sowie den Experten und überzeugen Sie sich selbst durch Produkt-Workshops und Referentenvorträge. \nFür Therapeuten oder therapeutische Leiter. Vom Einsteiger bis zum erfahrenen Profi. \nAblauf \n13:00 Begrüßung \n13:15 1. Referentenvortrag: Marko Schütze (Therapiezentrum Marko Schütze\, Großenhain)\, ambulante Praxis \n14:00 Workshop/Produkt-Testing STANDING & BALANCING – THERA-Trainer senso und THERA-Trainer balo inkl. Erfahrungstausch/Diskussion \n14:45 Pause \n15:00 2.Referentenvortrag: Philipp Schneider (Kliniken Beelitz\, Beelitz-Heilstätten)\,  stationäre Einrichtung \n15:45 Workshop/Produkt-Testing GAIT – THERA-Trainer lyra inkl. Erfahrungstausch/Diskussion \n17:00 Pause \n17:15 3. Referentenvortrag: Alex Kamps (THERA-Trainer)\, Thema: „Neuentwicklungen bei THERA-Trainer: Der toro als neueste Generation Cycling“ \n17:45 Workshop/Produkt-Testing CYCLING – THERA-Trainer toro NEU\, THERA-Trainer tigo und THERA-Trainer bemo inkl. Erfahrungstausch/Diskussion \n19:00 Ende \n  \nAnmeldung:  \nTel:  07355-93 14-17 oder \nE-Mail: education@thera-trainer.com \n  \nEin Save the Date finden Sie HIER!
URL:https://smart-living-health.de/veranstaltung/thera-trainer-workshop/
LOCATION:Haus der Zukunft am ukb\, Blumberger Damm 2k\, Berlin\, Berlin\, 12683\, Deutschland
CATEGORIES:Workshop
END:VEVENT
BEGIN:VEVENT
DTSTART;TZID=Europe/Berlin:20250428T103000
DTEND;TZID=Europe/Berlin:20250428T120000
DTSTAMP:20260420T135937
CREATED:20250407T084611Z
LAST-MODIFIED:20250407T084633Z
UID:4613-1745836200-1745841600@smart-living-health.de
SUMMARY:Reisemöglichkeiten für Menschen mit Demenz
DESCRIPTION: Urlaub ist für die meisten Menschen etwas Selbstverständliches und war es auch oft für Menschen mit Demenz. Durch die Erkrankung ist eine Reise jedoch ungemein schwerer und wird für die Angehörigen zur echten Belastungsprobe.  \nDie Alzheimer-Angehörigen-Initiative (AAI) organisiert und betreut verschiedene Reiseziele in beliebten Urlaubsregionen Deutschlands\, die sich ideal für den Urlaub mit pflegebedürftigen Senioren eignen.  \nReferent: Herr Pohl (AAI)  \nWo: Tagespflege „Haus am Beerenpfuhl“ (Erdgeschoß neben dem Bistro) \nTangermünder Str. 30\, 12627 Berlin  \nReisemöglichkeiten für Menschen mit Demenz_28.04.2025 \nDie Veranstaltung ist kostenfrei. Um Voranmeldung wird gebeten!  \nTel.: 030 221 902 37 \nE-Mail: kpe@albatrosggmbh.de  (Frau Klinger\, Frau Bahr)
URL:https://smart-living-health.de/veranstaltung/reisemoeglichkeiten-fuer-menschen-mit-demenz/
LOCATION:Berlin
CATEGORIES:Informationsveranstaltung
END:VEVENT
BEGIN:VEVENT
DTSTART;TZID=Europe/Berlin:20250430T140000
DTEND;TZID=Europe/Berlin:20250430T153000
DTSTAMP:20260420T135937
CREATED:20250304T090324Z
LAST-MODIFIED:20250416T073422Z
UID:4547-1746021600-1746027000@smart-living-health.de
SUMMARY:Hitzeschutz - Gut geschützt durch die Sommerhitze
DESCRIPTION:An heißen Tagen einen kühlen Kopf bewahren: Die Zahl der Hitzetage nimmt zu. Was sollte man an diesen Tagen beachten und was macht die Hitze mit unserem Körper? Wir zeigen\, warum und wie man sich an heißen Tagen vor Hitze schützt. \n\nWorauf gilt es gerade an Tagen mit hohen Temperaturen zu achten?\nWie kann ich mir Abkühlung verschaffen?\nWas kann ich in meinen eigenen 4 Wänden tun\, damit die Wohnung kühl bleibt?\n\nWichtige Tipps & Tricks für alle Interessierten. \n  \n Ulrike Krol | Wie und warum Sie sich vor Hitze schützen solltenGesundheits- und Krankenpflegerin\, stellvertretende Klimamanagerin | ukb\n André Zweigert | Wo kann ich mich zu Hitzeschutz informieren?Ball e. V. | Stadtteilzentrum Biesdorf\n Gabriele Renner | Hitzeschutzlösungen für unterwegs und zuhauseE.COOLINE\n  \nUm Voranmeldung wird gebeten.\n\nEmail: info@haus-der-zukunft-am-ukb.de\nTel: 030-6179 5042\n\nAnredeFrauHerrDiv  Kontaktmöglichkeit für Rückfragen *PersonenzahlDanke für Ihre Nachricht. Wir haben diese erhalten.×Es ist ein Fehler aufgetreten. Bitte versuchen Sie es erneut.×Jetzt anmelden
URL:https://smart-living-health.de/veranstaltung/gut-geschuetzt-durch-die-sommerhitze/
LOCATION:Haus der Zukunft am ukb\, Blumberger Damm 2k\, Berlin\, Berlin\, 12683\, Deutschland
CATEGORIES:Informationsveranstaltung
ORGANIZER;CN="Smart Living & Health Center e.V.":MAILTO:info@haus-der-zukunft-am-ukb.de
END:VEVENT
END:VCALENDAR