BEGIN:VCALENDAR
VERSION:2.0
PRODID:-//SLHC - ECPv6.15.20//NONSGML v1.0//EN
CALSCALE:GREGORIAN
METHOD:PUBLISH
X-ORIGINAL-URL:https://smart-living-health.de
X-WR-CALDESC:Veranstaltungen für SLHC
REFRESH-INTERVAL;VALUE=DURATION:PT1H
X-Robots-Tag:noindex
X-PUBLISHED-TTL:PT1H
BEGIN:VTIMEZONE
TZID:Europe/Berlin
BEGIN:DAYLIGHT
TZOFFSETFROM:+0100
TZOFFSETTO:+0200
TZNAME:CEST
DTSTART:20240331T010000
END:DAYLIGHT
BEGIN:STANDARD
TZOFFSETFROM:+0200
TZOFFSETTO:+0100
TZNAME:CET
DTSTART:20241027T010000
END:STANDARD
BEGIN:DAYLIGHT
TZOFFSETFROM:+0100
TZOFFSETTO:+0200
TZNAME:CEST
DTSTART:20250330T010000
END:DAYLIGHT
BEGIN:STANDARD
TZOFFSETFROM:+0200
TZOFFSETTO:+0100
TZNAME:CET
DTSTART:20251026T010000
END:STANDARD
BEGIN:DAYLIGHT
TZOFFSETFROM:+0100
TZOFFSETTO:+0200
TZNAME:CEST
DTSTART:20260329T010000
END:DAYLIGHT
BEGIN:STANDARD
TZOFFSETFROM:+0200
TZOFFSETTO:+0100
TZNAME:CET
DTSTART:20261025T010000
END:STANDARD
END:VTIMEZONE
BEGIN:VEVENT
DTSTART;TZID=Europe/Berlin:20250305T103000
DTEND;TZID=Europe/Berlin:20250305T123000
DTSTAMP:20260420T105547
CREATED:20250114T143648Z
LAST-MODIFIED:20250114T151809Z
UID:4470-1741170600-1741177800@smart-living-health.de
SUMMARY:Das „neue Leben“ nach dem Schlaganfall
DESCRIPTION:Informationsveranstaltung über Möglichkeiten für Betroffene und Angehörige zur Verbesserung der Lebensqualität! \nNichts ist wie vorher – „normal“ braucht ein anderes Format. \nChristiane Klinger von der Kontaktstelle PflegeEngagement klärt im Rahmen dieser Informationsveranstaltung Fragen wie: \n\nWas ist ein Schlaganfall und welche Formen gibt es?\nWie kann es nun weitergehen?\nWie können Angehörige unterstützen?\nWer oder was hilft noch dabei?\n\nSie erhalten  Tipps\, Hinweise und wichtige Informationen. Die Kontaktstelle PflegeEngagement und der Smart Living & Health Center e. V. laden Sie herzlich ein. \n  \nUm Voranmeldung wird dringend gebeten! \nTel: 030-6179 5042 \nEmail: info@haus-der-zukunft-am-ukb.de
URL:https://smart-living-health.de/veranstaltung/das-neue-leben-nach-dem-schlaganfall/
LOCATION:Haus der Zukunft am ukb\, Blumberger Damm 2k\, Berlin\, Berlin\, 12683\, Deutschland
CATEGORIES:Informationsveranstaltung
END:VEVENT
BEGIN:VEVENT
DTSTART;VALUE=DATE:20250311
DTEND;VALUE=DATE:20250313
DTSTAMP:20260420T105547
CREATED:20250219T132726Z
LAST-MODIFIED:20250219T134543Z
UID:4532-1741651200-1741823999@smart-living-health.de
SUMMARY:Clusterkonferenz 2025  - Zukunft der Pflege
DESCRIPTION:Unter dem Motto: „PflegeZukunft menschlich gestalten – Erfolgreicher Transfer und Kompetenzentwicklung.“ werden folgende Themen Schwerpunkte der Clusterkonferenz 2025 sein. \n\nTechnologische Innovationen in der Pflege\nKompetenzentwicklung im Kontext der digitalen Transformation\nEthik und Gesellschaft im Zuge der Digitalisierung in der Pflege\nWissenstransfer und Implementierung
URL:https://smart-living-health.de/veranstaltung/clusterkonferenz-2025-zukunft-der-pflege/
LOCATION:Campus Virchow-Klinikum\, Mittelallee 10\, Berlin\, 13353
CATEGORIES:Konferenz
END:VEVENT
BEGIN:VEVENT
DTSTART;TZID=Europe/Berlin:20250313T140000
DTEND;TZID=Europe/Berlin:20250313T163000
DTSTAMP:20260420T105547
CREATED:20241220T135932Z
LAST-MODIFIED:20250108T105551Z
UID:4426-1741874400-1741883400@smart-living-health.de
SUMMARY:Workshop: In Balance - Rituale für mehr Gelassenheit
DESCRIPTION:Angesichts der bewegenden Ereignisse unserer aktuellen Weltsituation stehen wir alle gerade vor der großen Herausforderung\, in diesen wilden Tagen die innere Ruhe und Balance zu bewahren. Gerade in unberechenbaren Zeiten der Unsicherheit und Unruhe können uns die Düfte der Natur als stärkende Begleiter zur Seite stehen.\n\nIn dieser Zeit ist es umso wichtiger sich selbst Achtsamkeit schenken\, in sich hineinhören\, das Innerste ins Gleichgewicht zu bringen und Harmonie mit anderen zu erleben. Die vielfältigen naturreinen Pflanzenkräften schenken wohltuende Momente der Gelassenheit\, die sich positiv auf Psyche und Wohlbefinden auswirken.\n\nUm Voranmeldung wird gebeten. (Der Workshop findet ab 5 TN statt):\n\nEmail: info@haus-der-zukunft-am-ukb.de\nTel: 030-6179 5042
URL:https://smart-living-health.de/veranstaltung/workshop-in-balance-rituale-fuer-mehr-gelassenheit/
LOCATION:Haus der Zukunft am ukb\, Blumberger Damm 2k\, Berlin\, Berlin\, 12683\, Deutschland
CATEGORIES:Workshop
ORGANIZER;CN="Primavera":MAILTO:info@primaveralife.com
END:VEVENT
BEGIN:VEVENT
DTSTART;VALUE=DATE:20250326
DTEND;VALUE=DATE:20250328
DTSTAMP:20260420T105547
CREATED:20250103T145917Z
LAST-MODIFIED:20250103T145917Z
UID:4451-1742947200-1743119999@smart-living-health.de
SUMMARY:HPI DIGITAL HEALTH INNOVATION FORUM
DESCRIPTION:Das ehrgeizige Ziel dieser zweitägigen Konferenz ist es\, internationale Experten aus der Gesundheitswirtschaft – aus Forschung\, Industrie und Politik – zusammenzubringen\, um die neuesten Entwicklungen und Erkenntnisse zu diskutieren sowie innovative Lösungen für ein digitales Gesundheitssystem vorzustellen.
URL:https://smart-living-health.de/veranstaltung/hpi-digital-health-innovation-forum/
LOCATION:Hasso Plattner Institut\, Prof.-Dr.-Helmert-Str. 2-3\, Potsdam\, 14482
CATEGORIES:Konferenz
ORGANIZER;CN="Hasso Plattner Institut":MAILTO:hpi-info@hpi.de
END:VEVENT
BEGIN:VEVENT
DTSTART;TZID=Europe/Berlin:20250326T140000
DTEND;TZID=Europe/Berlin:20250326T160000
DTSTAMP:20260420T105547
CREATED:20240915T155725Z
LAST-MODIFIED:20241127T142408Z
UID:4285-1742997600-1743004800@smart-living-health.de
SUMMARY:Schwindel im Griff: Von der Diagnose zur Therapie
DESCRIPTION:„Verbesserung der Lebensqualität durch gezielte Behandlungsansätze“ \n\nWas bedeutet Schwindel?\nWie kann ich Schwindelanfällen vorbeugen und damit im Alltag umgehen?\n\n  \n\nVortrag – Unser Gleichgewichtsorgan: Aufbau\, Funktionsweise und mögliche Probleme\nFachvortrag der Neurologie\nVortrag – Vestibuläre Rehabilitation – Vorgehensweise in der Schwindeltherapie\n\nGemeinsam mit dem Therapiezentrum am ukb und dem Gesundheitszentrum am ukb  zeigen wir praktische Alltagsübungen auf und geben einen Überblick über sinnvolle Hilfsmittel. \n 
URL:https://smart-living-health.de/veranstaltung/schwindel-im-griff-von-der-diagnose-zur-therapie-2/
LOCATION:Haus der Zukunft am ukb\, Blumberger Damm 2k\, Berlin\, Berlin\, 12683\, Deutschland
CATEGORIES:Informationsveranstaltung
END:VEVENT
BEGIN:VEVENT
DTSTART;TZID=Europe/Berlin:20250331T100000
DTEND;TZID=Europe/Berlin:20250331T110000
DTSTAMP:20260420T105547
CREATED:20250307T113141Z
LAST-MODIFIED:20250311T132517Z
UID:4553-1743415200-1743418800@smart-living-health.de
SUMMARY:Einführung in die Telematikinfrastruktur
DESCRIPTION:Alle Pflegedienste sollen bis Juli 2025 an die Telematikinfrastruktur angebunden sein. Dies ermöglicht den Zugriff auf die ePatientenakte\, das eRezept oder die sichere Kommunikation mit anderen Leistungsebringern. Doch was wird für die Anbindung benötigt? Welche Schritte müssen bedacht werden und was bringt die Anbindung? Mit Thomas Meißner haben wir einen Referenten aus der Praxis gewinnen können\, der Ihre Fragen rund um die Telematik in der Pflege beantwortet. \n  \n Thomas MeißnerMitglied des Beirates Kompetenzzentrum Digitalisierung und Pflege (§125b SGB XI) beim GKV-SV\nMitglied der Expertengruppe Digitalisierung des Deutschen Pflegerates\n  \nAnmeldung\nAnredeFrauHerrDiv  Kontaktmöglichkeit für Rückfragen *PersonenzahlWas ist Ihr Hintergrund?Was ist Ihr Hintergrund?Ambulanter PflegedienstStationäre Pflegeeinrichtunganderer Hintergrund  Danke für Ihre Nachricht. Wir haben diese erhalten.×Es ist ein Fehler aufgetreten. Bitte versuchen Sie es erneut.×Jetzt anmelden\n  \n 
URL:https://smart-living-health.de/veranstaltung/telematik/
LOCATION:Online
CATEGORIES:Digital,Informationsveranstaltung
ORGANIZER;CN="Smart Living & Health Center e.V.":MAILTO:info@haus-der-zukunft-am-ukb.de
END:VEVENT
END:VCALENDAR