BEGIN:VCALENDAR
VERSION:2.0
PRODID:-//SLHC - ECPv6.15.20//NONSGML v1.0//EN
CALSCALE:GREGORIAN
METHOD:PUBLISH
X-ORIGINAL-URL:https://smart-living-health.de
X-WR-CALDESC:Veranstaltungen für SLHC
REFRESH-INTERVAL;VALUE=DURATION:PT1H
X-Robots-Tag:noindex
X-PUBLISHED-TTL:PT1H
BEGIN:VTIMEZONE
TZID:Europe/Berlin
BEGIN:DAYLIGHT
TZOFFSETFROM:+0100
TZOFFSETTO:+0200
TZNAME:CEST
DTSTART:20240331T010000
END:DAYLIGHT
BEGIN:STANDARD
TZOFFSETFROM:+0200
TZOFFSETTO:+0100
TZNAME:CET
DTSTART:20241027T010000
END:STANDARD
BEGIN:DAYLIGHT
TZOFFSETFROM:+0100
TZOFFSETTO:+0200
TZNAME:CEST
DTSTART:20250330T010000
END:DAYLIGHT
BEGIN:STANDARD
TZOFFSETFROM:+0200
TZOFFSETTO:+0100
TZNAME:CET
DTSTART:20251026T010000
END:STANDARD
BEGIN:DAYLIGHT
TZOFFSETFROM:+0100
TZOFFSETTO:+0200
TZNAME:CEST
DTSTART:20260329T010000
END:DAYLIGHT
BEGIN:STANDARD
TZOFFSETFROM:+0200
TZOFFSETTO:+0100
TZNAME:CET
DTSTART:20261025T010000
END:STANDARD
END:VTIMEZONE
BEGIN:VEVENT
DTSTART;VALUE=DATE:20250211
DTEND;VALUE=DATE:20250213
DTSTAMP:20260420T045728
CREATED:20240710T113623Z
LAST-MODIFIED:20250110T113858Z
UID:4219-1739232000-1739404799@smart-living-health.de
SUMMARY:Pro Care
DESCRIPTION:DAMIT PFLEGE ZUKUNFT HAT\nFrisch – Dynamisch – Innovativ\n\nAuf der Pro Care widmen wir uns dem ganzen Universum der Pflege\, denn Pflege ist nicht nur Altenpflege\, sondern ein großes Ganzes und schließt auch die Pflege jüngerer Menschen ein. Gute Pflege ist nur dann möglich\, wenn Pflege ganzheitlich betrachtet wird. Dazu gehört das Fachwissen\, die richtige Ausstattung und auch die Leidenschaft für den Beruf. Auf der Pro Care werden all diese Aspekte branchenübergreifend thematisiert und der Mensch in den Mittelpunkt gerückt.
URL:https://smart-living-health.de/veranstaltung/pro-care/
LOCATION:Hannover Messe\, Messegelände\, Hannover\, 30521
CATEGORIES:Fachtagung,Messe
END:VEVENT
BEGIN:VEVENT
DTSTART;TZID=Europe/Berlin:20250212T140000
DTEND;TZID=Europe/Berlin:20250212T153000
DTSTAMP:20260420T045728
CREATED:20241203T102322Z
LAST-MODIFIED:20241203T102322Z
UID:4395-1739368800-1739374200@smart-living-health.de
SUMMARY:ePA- Die elektronische Patientenakte
DESCRIPTION:Alles wichtige rund um das Thema ePA. \nWas ist wichtig\, was kommt auf mich zu und was gibt es zu beachten. \nWeitere Informationen folgen. \n  \nUm Voranmeldung wird gebeten: \nEmail: info@haus-der-zukunft-am-ukb.de \nTel. 030-6179 5042
URL:https://smart-living-health.de/veranstaltung/epa-die-elektronische-patientenakte/
LOCATION:Berlin
CATEGORIES:Informationsveranstaltung
END:VEVENT
BEGIN:VEVENT
DTSTART;TZID=Europe/Berlin:20250219T100000
DTEND;TZID=Europe/Berlin:20250219T120000
DTSTAMP:20260420T045728
CREATED:20241127T144702Z
LAST-MODIFIED:20250216T164450Z
UID:4389-1739959200-1739966400@smart-living-health.de
SUMMARY:!Ausgebucht! Patientenverfügung / Vorsorgevollmacht
DESCRIPTION:Unabhängig von Ihrem Alter oder Gesundheitszustand können Sie plötzlich in eine Lage geraten\, in der Sie nicht mehr selbst über eine medizinische Behandlung oder einen ärztlichen Eingriff entscheiden können. Mit einer Patientenverfügung legen Sie für diesen Fall im Voraus fest\, ob Sie in bestimmte medizinische Maßnahmen einwilligen oder sie ablehnen. \nIm Rahmen dieser Informationsveranstaltung erhalten Sie Tipps\, Hinweise und wichtige Informationen rund um die Themen Vorsorgevollmacht und Patientenverfügung. Das Unionhilfswerk\, die Kontaktstelle PflegeEngagement und der Smart Living & Health Center e. V. laden Sie herzlich ein. \n  \nAufgrund der hohen Nachfrage gibt es einen 2. Termin. Am 28. Mai 2025 / 10Uhr! \n\nPatientenverfügung/ Vorsorgevollmacht – 2. Veranstaltung
URL:https://smart-living-health.de/veranstaltung/patientenverfuegung-vorsorgevollmacht/
LOCATION:Haus der Zukunft am ukb\, Blumberger Damm 2k\, Berlin\, Berlin\, 12683\, Deutschland
CATEGORIES:Informationsveranstaltung
ORGANIZER;CN="Smart Living & Health Center e.V.":MAILTO:info@haus-der-zukunft-am-ukb.de
END:VEVENT
END:VCALENDAR