BEGIN:VCALENDAR
VERSION:2.0
PRODID:-//SLHC - ECPv6.15.20//NONSGML v1.0//EN
CALSCALE:GREGORIAN
METHOD:PUBLISH
X-WR-CALNAME:SLHC
X-ORIGINAL-URL:https://smart-living-health.de
X-WR-CALDESC:Veranstaltungen für SLHC
REFRESH-INTERVAL;VALUE=DURATION:PT1H
X-Robots-Tag:noindex
X-PUBLISHED-TTL:PT1H
BEGIN:VTIMEZONE
TZID:Europe/Berlin
BEGIN:DAYLIGHT
TZOFFSETFROM:+0100
TZOFFSETTO:+0200
TZNAME:CEST
DTSTART:20230326T010000
END:DAYLIGHT
BEGIN:STANDARD
TZOFFSETFROM:+0200
TZOFFSETTO:+0100
TZNAME:CET
DTSTART:20231029T010000
END:STANDARD
BEGIN:DAYLIGHT
TZOFFSETFROM:+0100
TZOFFSETTO:+0200
TZNAME:CEST
DTSTART:20240331T010000
END:DAYLIGHT
BEGIN:STANDARD
TZOFFSETFROM:+0200
TZOFFSETTO:+0100
TZNAME:CET
DTSTART:20241027T010000
END:STANDARD
BEGIN:DAYLIGHT
TZOFFSETFROM:+0100
TZOFFSETTO:+0200
TZNAME:CEST
DTSTART:20250330T010000
END:DAYLIGHT
BEGIN:STANDARD
TZOFFSETFROM:+0200
TZOFFSETTO:+0100
TZNAME:CET
DTSTART:20251026T010000
END:STANDARD
END:VTIMEZONE
BEGIN:VEVENT
DTSTART;TZID=Europe/Berlin:20241204T130000
DTEND;TZID=Europe/Berlin:20241204T173000
DTSTAMP:20260419T205357
CREATED:20240717T103306Z
LAST-MODIFIED:20241118T082725Z
UID:4231-1733317200-1733333400@smart-living-health.de
SUMMARY:Zukunft der Pflege: mit Robotik zur Entlastung
DESCRIPTION:Fachgespräch zwischen Pflege\, Wissenschaft und Technologie\n\n\n\n\nMitarbeitende der Pflege stehen in ihrem Beruf unter vielfältigen psychischen und physischen Belastungen. Während\, bedingt durch den demografischen Wandel\, die Zahl der Pflegebedürftigen in den nächsten Jahren weiter ansteigen wird\, ist ein Zuwachs an Pflegekräften in gleichem Maße nicht zu erwarten. Umso wichtiger ist es\, auch technische Möglichkeiten zu nutzen\, um pflegerisches Personal zu entlasten. \nDiese Veranstaltung zeigt auf\, wie der Einsatz von verschiedenen Robotikanwendungen Pflegekräfte in ihrer Arbeit unterstützten kann und was es für eine erfolgreiche Einführung von robotischen Systemen in der Praxis braucht. \n\nDie Veranstaltung richtet sich an Krankenhäuser\, Einrichtungen der (langzeit-)stationären und ambulanten Pflege sowie an Technologieentwickler. Die Teilnahme ist kostenlos\, die Plätze sind begrenzt. \n\nWeitere Informationen und die Anmeldung finden Sie HIER!
URL:https://smart-living-health.de/veranstaltung/robotik-in-der-pflege/
LOCATION:ukb – Kesselhaus\, Warener Str. 7\, Berlin\, 12683
CATEGORIES:Fachtagung
ORGANIZER;CN="Smart Living & Health Center e.V.":MAILTO:info@haus-der-zukunft-am-ukb.de
END:VEVENT
BEGIN:VEVENT
DTSTART;TZID=Europe/Berlin:20241211T163000
DTEND;TZID=Europe/Berlin:20241211T173000
DTSTAMP:20260419T205357
CREATED:20241125T110713Z
LAST-MODIFIED:20241127T150552Z
UID:4376-1733934600-1733938200@smart-living-health.de
SUMMARY:"Plötzlich pflegebedürftig - Was ist nun zu tun?"
DESCRIPTION:„Plötzlich pflegebedürftig – Was ist nun zu tun?“ \nSie bemerken bei sich oder anderen Personen in Ihrem Umfeld einen zunehmenden Unterstützungsbedarf und wissen nicht\, wie Ihnen dabei geholfen werden kann und wie Sie das alles bezahlen sollen? \nPflegebedürftigkeit entwickelt sich oft schleichend oder entsteht plötzlich: ein Schlaganfall\, ein folgenschwerer Sturz\, Demenz. Die Gründe sind vielfältig und belasten die Menschen\, die es betrifft. Auf die Betroffenen und Ihre Angehörigen kommen viele Fragen und Veränderungen zu. \nIn diesem kostenlosen Informationsangebot erfahren Sie\, was Pflegebedürftigkeit im Sinne der Pflegeversicherung bedeutet und welche Antragstellungen bei Pflegebedürftigkeit möglich sind. Darüber hinaus erhalten Sie Informationen über das Begutachtungsverfahren bis hin zu möglichen Leistungen. Gern beantworten wir Ihre Fragen. \n  \nAnmeldungen bitte an: infoveranstaltungen@albatrosggmbh.de \nDen Link für die Veranstaltung erhalten Sie rechtzeitig.\nvor dem Termin zugeschickt.
URL:https://smart-living-health.de/veranstaltung/online-ploetzlich-pflegebeduerftig-was-ist-nun-zu-tun/
LOCATION:Online
CATEGORIES:Digital,Informationsveranstaltung
END:VEVENT
BEGIN:VEVENT
DTSTART;TZID=Europe/Berlin:20241218T150000
DTEND;TZID=Europe/Berlin:20241218T163000
DTSTAMP:20260419T205357
CREATED:20241127T150514Z
LAST-MODIFIED:20241127T150514Z
UID:4391-1734534000-1734539400@smart-living-health.de
SUMMARY:Pflege von A bis Z - Die Pflegebegutachtung
DESCRIPTION:„Die Pflegebegutachtung –\nAlles\, was Sie zur Feststellung der Pflegebedürftigkeit wissen müssen.“ \nEin Pflegegrad ist die Voraussetzung\, um Leistungen der sozialen Pflegeversicherung zu erhalten. Unsere kostenfreie Online-Veranstaltung richtet sich an alle interessierten Versicherten sowie deren An- und Zugehörige\, die mehr darüber erfahren möchten\, wie ein Pflegegrad ermittelt wird und was für die Beantragung erforderlich ist. \nErfahren Sie in der Veranstaltung des Medizinischen Dienstes Berlin-Brandenburg mehr zu: \n\nKriterien der Pflegebedürftigkeit\nAblauf sowie Inhalten der Pflegebegutachtung\nTipps zur Vorbereitung auf die Begutachtung.\n\n  \nHier geht zur ANMELDUNG
URL:https://smart-living-health.de/veranstaltung/pflege-von-a-bis-z-die-pflegebegutachtung/
LOCATION:Online
CATEGORIES:Digital
END:VEVENT
END:VCALENDAR