BEGIN:VCALENDAR
VERSION:2.0
PRODID:-//SLHC - ECPv6.15.20//NONSGML v1.0//EN
CALSCALE:GREGORIAN
METHOD:PUBLISH
X-WR-CALNAME:SLHC
X-ORIGINAL-URL:https://smart-living-health.de
X-WR-CALDESC:Veranstaltungen für SLHC
REFRESH-INTERVAL;VALUE=DURATION:PT1H
X-Robots-Tag:noindex
X-PUBLISHED-TTL:PT1H
BEGIN:VTIMEZONE
TZID:Europe/Berlin
BEGIN:DAYLIGHT
TZOFFSETFROM:+0100
TZOFFSETTO:+0200
TZNAME:CEST
DTSTART:20230326T010000
END:DAYLIGHT
BEGIN:STANDARD
TZOFFSETFROM:+0200
TZOFFSETTO:+0100
TZNAME:CET
DTSTART:20231029T010000
END:STANDARD
BEGIN:DAYLIGHT
TZOFFSETFROM:+0100
TZOFFSETTO:+0200
TZNAME:CEST
DTSTART:20240331T010000
END:DAYLIGHT
BEGIN:STANDARD
TZOFFSETFROM:+0200
TZOFFSETTO:+0100
TZNAME:CET
DTSTART:20241027T010000
END:STANDARD
BEGIN:DAYLIGHT
TZOFFSETFROM:+0100
TZOFFSETTO:+0200
TZNAME:CEST
DTSTART:20250330T010000
END:DAYLIGHT
BEGIN:STANDARD
TZOFFSETFROM:+0200
TZOFFSETTO:+0100
TZNAME:CET
DTSTART:20251026T010000
END:STANDARD
END:VTIMEZONE
BEGIN:VEVENT
DTSTART;TZID=Europe/Berlin:20241009T140000
DTEND;TZID=Europe/Berlin:20241009T160000
DTSTAMP:20260419T205402
CREATED:20240614T120507Z
LAST-MODIFIED:20240927T090743Z
UID:4166-1728482400-1728489600@smart-living-health.de
SUMMARY:Sicherheit im Internet - Einfach erklärt: Von Passwort bis Phishing
DESCRIPTION:Die Möglichkeiten im Internet sind unbegrenzt: Von der schnellen Suche nach Informationen\, über Terminvereinbarungen bis zum Onlinebanking. Damit die Nutzung von PC\, Tablet und Smartphone weiter unbeschwert erfolgt\, sollte man allerdings ein paar einfache Grundregeln und Hinweise ernst nehmen. \nTheresa Kuper vom Projekt Digitaler Engel des Vereins Deutschland sicher im Netz e.V. zeigt\, worauf es ankommt\, um sich sicher im Internet zu bewegen. \nDie Teilnahme ist kostenfrei; um Anmeldung wird gebeten. \nAnredeFrauHerrDiv  Kontaktmöglichkeit für Rückfragen *PersonenzahlDanke für Ihre Nachricht. Wir haben diese erhalten.×Es ist ein Fehler aufgetreten. Bitte versuchen Sie es erneut.×Jetzt anmelden
URL:https://smart-living-health.de/veranstaltung/sicherheit-im-internet-einfach-erklaert-von-passwort-bis-phishing/
LOCATION:Haus der Zukunft am ukb\, Blumberger Damm 2k\, Berlin\, Berlin\, 12683\, Deutschland
CATEGORIES:Informationsveranstaltung
END:VEVENT
BEGIN:VEVENT
DTSTART;VALUE=DATE:20241010
DTEND;VALUE=DATE:20241012
DTSTAMP:20260419T205402
CREATED:20240725T113733Z
LAST-MODIFIED:20240725T113733Z
UID:4244-1728518400-1728691199@smart-living-health.de
SUMMARY:23. Europäischer Gesundheitskongress
DESCRIPTION:Umsetzungsrevolution im Gesundheitswesen\nEIGENINITIATIVE IST DER SCHLÜSSEL ZUM ERFOLG! \n  \nUnser Gesundheitswesen gleicht inzwischen einem Flickenteppich.\nVieles wird begonnen\, doch wenig konsequent zu Ende gebracht. Wichtige Gesetzesvorhaben lassen auf sich warten oder wurden zwischenzeitlich bis zur Unkenntlichkeit verändert. Andere wichtige Themen hat die Politik für die aktuelle Legislatur offensichtlich abgeschrieben. Wir haben ein eklatantes Strategieproblem.
URL:https://smart-living-health.de/veranstaltung/23-europaeischer-gesundheitskongress/
LOCATION:Hilton Munich Park\, Am Tucherpark 7\, München\, 80538
CATEGORIES:Kongress
ORGANIZER;CN="Europ%C3%A4ischer Gesundheitskongress M%C3%BCnchen c/o welcome Gesellschaft f%C3%BCr Eventmarketing und Kommunikation mbH":MAILTO:info@gesundheitskongress.de
END:VEVENT
BEGIN:VEVENT
DTSTART;VALUE=DATE:20241010
DTEND;VALUE=DATE:20241013
DTSTAMP:20260419T205402
CREATED:20240321T094045Z
LAST-MODIFIED:20240321T094045Z
UID:4023-1728518400-1728777599@smart-living-health.de
SUMMARY:12. Kongress der Deutschen Alzheimer Gesellschaft
DESCRIPTION:Wir laden alle\, denen das Thema Demenz am Herzen liegt\, herzlich ein: Menschen mit Demenz und ihre Angehörigen\, alle\, die haupt- und ehrenamtlich in Beratung\, Betreuung\, Pflege und Therapie\, Medizin und Wissenschaft tätig sind\, sowie alle Interessierten. Es erwarten Sie Vorträge\, Symposien\, Workshops und dazwischen viele Gelegenheiten\, miteinander ins Gespräch zu kommen. \nDie Zukunft für Menschen mit Demenz und ihre Angehörigen positiv zu gestalten ist unser gemeinsames Ziel. \nLassen Sie uns zusammen hinsehen\, helfen und handeln! \n 
URL:https://smart-living-health.de/veranstaltung/12-kongress-der-deutschen-alzheimer-gesellschaft/
LOCATION:Stadthalle Fürth\, Rosenstraße 50\, Fürth\, 90762
CATEGORIES:Kongress
ORGANIZER;CN="Deutsche Alzheimer Gesellschaft e. V.":MAILTO:info@deutsche-alzheimer.de
END:VEVENT
BEGIN:VEVENT
DTSTART;TZID=Europe/Berlin:20241011T090000
DTEND;TZID=Europe/Berlin:20241011T170000
DTSTAMP:20260419T205402
CREATED:20241001T081952Z
LAST-MODIFIED:20241001T082008Z
UID:4306-1728637200-1728666000@smart-living-health.de
SUMMARY:19. Fachtagung Palliative Geriatrie
DESCRIPTION:Aktiv gegen Einsamkeit im Alter und im Sterben\nMehr Lebensqualität und Autonomie durch palliativgeriatrische Sorge für hochbetagte und demente Menschen.
URL:https://smart-living-health.de/veranstaltung/19-fachtagung-palliative-geriatrie/
LOCATION:Akademie der Konrad-Adenauer-Stiftung\, Tiergartenstr. 35\, Berlin\, 10785
CATEGORIES:Fachtagung
END:VEVENT
BEGIN:VEVENT
DTSTART;TZID=Europe/Berlin:20241011T100000
DTEND;TZID=Europe/Berlin:20241011T160000
DTSTAMP:20260419T205402
CREATED:20241010T135715Z
LAST-MODIFIED:20241010T140449Z
UID:4323-1728640800-1728662400@smart-living-health.de
SUMMARY:Tag der offenen Tür im Beratungszentrum Pflege und Soziales
DESCRIPTION:10.30 Uhr: „Demenz – das Vergessen verstehen“\nInformationen zum Krankheitsbild Demenz sowie zur Kommunikation mit den Erkrankten \n13:00 Uhr: „Vorsorge treffen“\nInformationen zur Patientenverfügung und Vorsorgevollmacht (Unionhilfswerk) \nAnmeldung für die Vorträge:\nTelefonisch: 030 270049840/ E-Mail: biesdorf@pspberlin.de
URL:https://smart-living-health.de/veranstaltung/tag-der-offenen-tuer-im-beratungszentrum-pflege-und-soziales/
LOCATION:Haus der Zukunft am ukb\, Blumberger Damm 2k\, Berlin\, Berlin\, 12683\, Deutschland
CATEGORIES:Informationsveranstaltung
END:VEVENT
BEGIN:VEVENT
DTSTART;VALUE=DATE:20241013
DTEND;VALUE=DATE:20241016
DTSTAMP:20260419T205402
CREATED:20240705T085426Z
LAST-MODIFIED:20240705T085426Z
UID:4210-1728777600-1729036799@smart-living-health.de
SUMMARY:World Health Summit 2024
DESCRIPTION:This year’s World Health Summit will focus on Building Trust for a Healthier World by reflecting on the most pressing topics
URL:https://smart-living-health.de/veranstaltung/world-health-summit-2024/
LOCATION:JW Marriott Hotel Berlin\, Stauffenbergstraße 26\, Berlin\, 10785
CATEGORIES:Digital,Fachtagung
END:VEVENT
BEGIN:VEVENT
DTSTART;TZID=Europe/Berlin:20241017T140000
DTEND;TZID=Europe/Berlin:20241017T163000
DTSTAMP:20260419T205402
CREATED:20240118T150741Z
LAST-MODIFIED:20240910T133734Z
UID:3895-1729173600-1729182600@smart-living-health.de
SUMMARY:Aromapflege zur Begleitung bei Demenz
DESCRIPTION:Ungefähr 1\,8 Millionen Menschen leiden in Deutschland an dem sogenannten Demenzielen Syndrom.  \nDieser Workshop zeigt\, wie Aromapflege auf verschiedenen Ebenen unterstützen kann\, sich einfach in den Pflegealltag integrieren lässt und dabei die Gedächtnisfähigkeit beeinflusst. Ätherische Öle können bei unterschiedlichen Pflegeproblemen wie Unruhe\, Konzentrationsstörungen\, Hinlauftendenz\, Nervosität\, Störungen im Tag- und Nacht-Rhythmus effektive Helfer sein. Dabei schenkt Aromapflege mit 100% naturreinen Ölen die Möglichkeit zu liebevoller Zuwendung und Lebensfreude\, fördert Vertrauen und Wohlbefinden auf beiden Seiten. \nEine Übersicht aller Workshops finden Sie hier Aromaworkshops 2024 \n  \nUm Voranmeldung wird gebeten – Der Workshop findet ab 5 Teilnehmern statt! \n\nAnmeldung\nDatum *13.3.2025 - In Balance - Rituale für mehr Gelassenheit6.5.2025 - Trauer-Verlust- und Sterbebegleitung26.6.2025 - Frisch durch den Sommer9.9.2025 - Pflege zu Hause - Unterstützungsmöglichkeiten durch die Aromapflege16.10.2025 - Aromapflege zur Begleitung bei Demenz27.11.2025 - Zimt und Sterne - mit weihnachtlichen Aromen durch die Adventszeit  AnredeFrauHerrDiv  Kontaktmöglichkeit für Rückfragen *PersonenzahlWas ist Ihr Hintergrund?Was ist Ihr Hintergrund?AusbildungLehrkraftPflegekraftPflegende Angehörigeanderer Hintergrund  Danke für Ihre Nachricht. Wir haben diese erhalten.×Es ist ein Fehler aufgetreten. Bitte versuchen Sie es erneut.×Jetzt anmelden\n  \nTel. 030-6179 5042 \nE-Mail: info@haus-der-zukunft-am-ukb.de
URL:https://smart-living-health.de/veranstaltung/arompflege-zur-begleitung-bei-demenz/
LOCATION:Haus der Zukunft am ukb\, Blumberger Damm 2k\, Berlin\, Berlin\, 12683\, Deutschland
CATEGORIES:Workshop
ORGANIZER;CN="Primavera":MAILTO:info@primaveralife.com
END:VEVENT
BEGIN:VEVENT
DTSTART;VALUE=DATE:20241022
DTEND;VALUE=DATE:20241024
DTSTAMP:20260419T205402
CREATED:20240915T152534Z
LAST-MODIFIED:20241001T093336Z
UID:4280-1729555200-1729727999@smart-living-health.de
SUMMARY:Roadshow in Zukunftsatmosphäre
DESCRIPTION:Was macht ein Wirbelsturm mit einem Rollstuhl?\nWer ist Wächter des Star-Kissens?\nWie kommt ein Kind mit nur einem Click richtig gut voran?\nWas ist das Transfer- 3 Phasen Konzept?\nKann man sich mit einem Coaster aus der Bahn bewegen?\n\n  \nDetails zur Fachtagung sowie Informationen zur Anmeldung finden Sie hier: Details_Roadshow_Event
URL:https://smart-living-health.de/veranstaltung/save-the-date-roadshow-in-zukunkftsatmosphaere/
LOCATION:Haus der Zukunft am ukb\, Blumberger Damm 2k\, Berlin\, Berlin\, 12683\, Deutschland
CATEGORIES:Fachtagung,Schulung
END:VEVENT
BEGIN:VEVENT
DTSTART;VALUE=DATE:20241022
DTEND;VALUE=DATE:20241026
DTSTAMP:20260419T205402
CREATED:20240917T125532Z
LAST-MODIFIED:20240917T125532Z
UID:4291-1729555200-1729900799@smart-living-health.de
SUMMARY:DKOU 2024
DESCRIPTION:„Zukunft wollen. Zukunft machen.“ Unter diesem Motto steht der DKOU 2024\, der Deutsche Kongress für Orthopädie und Unfallchirurgie
URL:https://smart-living-health.de/veranstaltung/dkou-2024/
LOCATION:Messe Berlin\, Eingang Süd\, Messe Berlin\, Eingang Süd\, Großer Saal\, Berlin\, 14055
CATEGORIES:Kongress
ORGANIZER;CN="Intercongress GmbH":MAILTO:dkou@intercongress.de
END:VEVENT
BEGIN:VEVENT
DTSTART;TZID=Europe/Berlin:20241024T150000
DTEND;TZID=Europe/Berlin:20241024T193000
DTSTAMP:20260419T205402
CREATED:20240917T124959Z
LAST-MODIFIED:20240917T124959Z
UID:4288-1729782000-1729798200@smart-living-health.de
SUMMARY:Aktionstag Arthrose im Rahmen des DKOU2024
DESCRIPTION:Gelenkschmerzen und Bewegungseinschränkungen \nPatiententag auf dem Deutschen Kongress für Orthopädie und Unfallchirurgie (DKOU). \nAm 24. Oktober 2024 findet erneut der beliebte Patiententag auf dem Deutschen Kongress für Orthopädie und Unfallchirurgie (DKOU) in Berlin statt. Interessierte erfahren beim „Aktionstag Arthrose“\, wie sie ihre Lebensqualität trotz Gelenkschmerzen und Bewegungseinschränkungen steigern können. Das Besondere: Top-Experten aus der Orthopädie und Unfallchirurgie bereiten aktuelle Forschungsergebnisse verständlich auf und diskutieren darüber mit den Teilnehmenden.
URL:https://smart-living-health.de/veranstaltung/aktionstag-arthrose-im-rahmen-des-dkou2024/
LOCATION:Messe Berlin\, Eingang Süd\, Messe Berlin\, Eingang Süd\, Großer Saal\, Berlin\, 14055
CATEGORIES:Kongress
END:VEVENT
END:VCALENDAR