BEGIN:VCALENDAR
VERSION:2.0
PRODID:-//SLHC - ECPv6.15.20//NONSGML v1.0//EN
CALSCALE:GREGORIAN
METHOD:PUBLISH
X-ORIGINAL-URL:https://smart-living-health.de
X-WR-CALDESC:Veranstaltungen für SLHC
REFRESH-INTERVAL;VALUE=DURATION:PT1H
X-Robots-Tag:noindex
X-PUBLISHED-TTL:PT1H
BEGIN:VTIMEZONE
TZID:Europe/Berlin
BEGIN:DAYLIGHT
TZOFFSETFROM:+0100
TZOFFSETTO:+0200
TZNAME:CEST
DTSTART:20230326T010000
END:DAYLIGHT
BEGIN:STANDARD
TZOFFSETFROM:+0200
TZOFFSETTO:+0100
TZNAME:CET
DTSTART:20231029T010000
END:STANDARD
BEGIN:DAYLIGHT
TZOFFSETFROM:+0100
TZOFFSETTO:+0200
TZNAME:CEST
DTSTART:20240331T010000
END:DAYLIGHT
BEGIN:STANDARD
TZOFFSETFROM:+0200
TZOFFSETTO:+0100
TZNAME:CET
DTSTART:20241027T010000
END:STANDARD
BEGIN:DAYLIGHT
TZOFFSETFROM:+0100
TZOFFSETTO:+0200
TZNAME:CEST
DTSTART:20250330T010000
END:DAYLIGHT
BEGIN:STANDARD
TZOFFSETFROM:+0200
TZOFFSETTO:+0100
TZNAME:CET
DTSTART:20251026T010000
END:STANDARD
END:VTIMEZONE
BEGIN:VEVENT
DTSTART;TZID=Europe/Berlin:20240903T170000
DTEND;TZID=Europe/Berlin:20240903T190000
DTSTAMP:20260419T163239
CREATED:20240701T081911Z
LAST-MODIFIED:20240701T082008Z
UID:4196-1725382800-1725390000@smart-living-health.de
SUMMARY:Einsam in der Großstadt
DESCRIPTION:Der Anteil der Einsamen in unserer Gesellschaft wächst\, warnte das Bundesinstitut für Bevölkerungsforschung\, und das nicht nur bei den älteren Menschen. Vor Corona lag er bei 15 Prozent\, 2021 bei 47 Prozent. Nicht nur eine Pandemie macht einsam\, sondern auch die soziale Isolation einer individualisierten und auch digitalisierten Gesellschaft\, in der man nur noch Gleichgesinnte trifft. Dabei wollen Menschen einfach nur Teil der Gesellschaft sein und Dazugehören\, was scheinbar immer schwieriger wird. Denn es bedarf eines Grundvertrauens und Erstimpulses\, auf andere zuzugehen. Hinzu kommt\, dass Ältere häufig Mobilitätseinschränkungen haben und ihr Sozialraum natürlicherweise kleiner wird. \nAls Kooperationspartner laden wir Sie ganz herzlich zur Veranstaltung 1 aus der Reihe „Alleingelassen?“ des Politischen Bildungsforums Berlin ein. \n  \nUm Anmeldung wird gebeten: Anmeldung_KAS_Einsamkeit \n 
URL:https://smart-living-health.de/veranstaltung/einsam-in-der-grossstadt/
LOCATION:Haus der Zukunft am ukb\, Blumberger Damm 2k\, Berlin\, Berlin\, 12683\, Deutschland
CATEGORIES:Informationsveranstaltung,Vor-Ort-Veranstaltung
END:VEVENT
BEGIN:VEVENT
DTSTART;TZID=Europe/Berlin:20240904T163000
DTEND;TZID=Europe/Berlin:20240904T180000
DTSTAMP:20260419T163239
CREATED:20240709T131459Z
LAST-MODIFIED:20240726T083515Z
UID:4216-1725467400-1725472800@smart-living-health.de
SUMMARY:Die elektronische Patientenakte (ePA) kommt für alle!
DESCRIPTION:Im Januar 2025 ist es endlich soweit: Die elektronische Patientenakte (ePA) kommt für alle! \nDas wirft natürlich viele Fragen auf: \n\nWas bringt die ePA eigentlich?\nWie funktioniert sie?\nWelche Daten werden gespeichert und wie bleiben sie geschützt?\n\nDie Selbsthilfekontaktstelle Marzahn-Hellersdorf lädt zu diesem Thema alle dazu interessierten Menschen am Mittwoch\, 04. September von 16:30 bis 18:00 Uhr zu einer Informationsveranstaltung ein. \nReferentin ist Frau Michaela Wetzel vom Berliner Landeskompetenzzentrum Pflege 4.0. Das Landeskompetenzzentrum ist neutral und klärt über das Thema auf. In der Veranstaltung wird Frau Wetzel insbesondere auf die oben genannten Fragen eingehen. \nDie Teilnahme ist vielseitig möglich: \n\nin der Selbsthilfe-\, Kontakt- und Beratungsstelle Marzahn-Hellersdorf\, Alt Marzahn 59 A\, 12685\, Telefon 030 / 5425103 oder\nONLINE oder\nim Haus der Zukunft\, Blumberger Damm 2K\, 12683\, Telefon 030 / 61795042 -> Die Übertragung findet ab angemeldeten 5 Teilnehmern statt!\n\n  \nDen Zugang für die Online-Teilnahme erhalten Sie nach Anmeldung. \nDas Angebot ist kostenfrei!
URL:https://smart-living-health.de/veranstaltung/die-elektronische-patientenakte-epa-kommt-fuer-alle/
LOCATION:Haus der Zukunft am ukb\, Blumberger Damm 2k\, Berlin\, Berlin\, 12683\, Deutschland
CATEGORIES:Digital,Informationsveranstaltung
END:VEVENT
BEGIN:VEVENT
DTSTART;TZID=Europe/Berlin:20240908T080000
DTEND;TZID=Europe/Berlin:20240908T170000
DTSTAMP:20260419T163239
CREATED:20240908T152816Z
LAST-MODIFIED:20240908T152816Z
UID:4267-1725782400-1725814800@smart-living-health.de
SUMMARY:Schwindel im Griff: Von der Diagnose zur Therapie
DESCRIPTION:Verbesserung der Lebensqualität durch gezielte Behandlungsansätze \n  \nSAVE THE DATE – Weitere Informationen folgen!
URL:https://smart-living-health.de/veranstaltung/schwindel-im-griff-von-der-diagnose-zur-therapie/
LOCATION:Haus der Zukunft am ukb\, Blumberger Damm 2k\, Berlin\, Berlin\, 12683\, Deutschland
CATEGORIES:Informationsveranstaltung
ORGANIZER;CN="Smart Living & Health Center e.V.":MAILTO:info@haus-der-zukunft-am-ukb.de
END:VEVENT
BEGIN:VEVENT
DTSTART;TZID=Europe/Berlin:20240917T100000
DTEND;TZID=Europe/Berlin:20240917T140000
DTSTAMP:20260419T163239
CREATED:20240903T163541Z
LAST-MODIFIED:20240903T163541Z
UID:4258-1726567200-1726581600@smart-living-health.de
SUMMARY:3. Seniorenmesse
DESCRIPTION:Auch in diesem Jahr lädt das Unionhilfswerk wieder zur Seniorenmesse in Marzahn-Hellersdorf ein. \nZum dritten Mal werden verschiedene Vereine\, Initiativen\, Stadtteilzentren und Vertreter der Ämter Angebote und Informationen vorstellen. \nSchwerpunkt dieses Jahr „Bewegung im Alter“. \nÜberzeugen Sie sich und seien Sie aktiv dabei!
URL:https://smart-living-health.de/veranstaltung/3-seniorenmesse/
LOCATION:Kulturzentrum Hellersdorf\, Carola-Neher-Str. 1\, Berlin\, 12619
CATEGORIES:Messe,Vor-Ort-Veranstaltung
END:VEVENT
BEGIN:VEVENT
DTSTART;VALUE=DATE:20240919
DTEND;VALUE=DATE:20240921
DTSTAMP:20260419T163239
CREATED:20240227T100925Z
LAST-MODIFIED:20240710T114307Z
UID:3986-1726704000-1726876799@smart-living-health.de
SUMMARY:3. Notfallmedizinisches Symposium Berlin-Nordost
DESCRIPTION:Unter dem Motto „The first 24“ beschäftigt sich das zweitägige interdisziplinäre und interprofessionelle Symposium mit den entscheidenden Aspekten der Versorgung von Notfallpatienten in den ersten 24 Stunden.
URL:https://smart-living-health.de/veranstaltung/3-notfallmedizinisches-symposium-berlin-nordost/
LOCATION:BG Klinikum Unfallkrankenhaus Berlin\, Warener Str. 7\, Berlin\, 12683
CATEGORIES:Symposium
END:VEVENT
BEGIN:VEVENT
DTSTART;TZID=Europe/Berlin:20240924T170000
DTEND;TZID=Europe/Berlin:20240924T190000
DTSTAMP:20260419T163239
CREATED:20240701T081524Z
LAST-MODIFIED:20240701T082122Z
UID:4193-1727197200-1727204400@smart-living-health.de
SUMMARY:Demenz\, ein Tsunami der alternden Gesellschaft
DESCRIPTION:Einsame Menschen leiden. Und das auch physisch durch Zunahme von Krankheiten wie Schlaganfall\, Herzinfarkt und Demenz. So hat Großbritannien ein Ministry for Loneliness eingerichtet und wird in den Medien schon von einer Einsamkeitsepidemie gesprochen. \nFehlen Orte\, an denen man sich trifft? Gibt es keinen intergenerativen Austausch mehr? Vergrößern Assistenzsysteme in der Pflege die Lücke? Wie haben sich die Strukturen unserer Gesellschaft verändert und was können wir gegen Einsamkeit tun? \nAls Kooperationspartner laden wir Sie herzlich  zur Veranstaltung 2 aus der Reihe „Alleingelassen?“ des Politischen Bildungsforums Berlin ins Haus der Zukunft am ukb ein. \n  \nUm Voranmeldung wird gebeten: Anmeldung_KAS_Demenz
URL:https://smart-living-health.de/veranstaltung/demenz-ein-tsunami-der-alternden-gesellschaft/
LOCATION:Haus der Zukunft am ukb\, Blumberger Damm 2k\, Berlin\, Berlin\, 12683\, Deutschland
CATEGORIES:Informationsveranstaltung,Vor-Ort-Veranstaltung
END:VEVENT
BEGIN:VEVENT
DTSTART;VALUE=DATE:20240925
DTEND;VALUE=DATE:20240929
DTSTAMP:20260419T163239
CREATED:20240121T135053Z
LAST-MODIFIED:20240121T135053Z
UID:3898-1727222400-1727567999@smart-living-health.de
SUMMARY:REHACARE 2024
DESCRIPTION:REHACARE 2024 – Selbstbestimmt leben\n\n \n \n\n\n\nEs lohnt sich\, vom 25. – 28. September 2024 in Düsseldorf dabei zu sein: Sie erleben die weltweit größte Fachmesse für Rehabilitation und Pflege mit der größten Bandbreite an Marktteilnehmern live vor Ort. \n\n\n\n\n\n \n \n\n\nDas erwartet Sie: \n\nInternationale Produktschau für Hilfsmittel\nÜber 700 Aussteller aus mehr als 35 Ländern\nVerschiedene Themenparks und Fachforen zu sozialer und beruflicher Rehabilitation\, Hilfsmitteln und deren Versorgung\nGrößte Bandbreite an bekannten Hilfsmittelherstellern\nInnovative Lösungen für jeden Lebensbereich und jede Behinderung
URL:https://smart-living-health.de/veranstaltung/rehacare-2024/
LOCATION:Messe Düsseldorf\, Stockumer Kirchstraße 61\, Düsseldorf\, 40474
CATEGORIES:Messe
ORGANIZER;CN="Messe D%C3%BCsseldorf":MAILTO:info@messe-duesseldorf.de
END:VEVENT
BEGIN:VEVENT
DTSTART;TZID=Europe/Berlin:20240925T140000
DTEND;TZID=Europe/Berlin:20240925T160000
DTSTAMP:20260419T163239
CREATED:20240624T111640Z
LAST-MODIFIED:20240624T111640Z
UID:4183-1727272800-1727280000@smart-living-health.de
SUMMARY:Dialogforum Gute Pflege in Marzahn-Hellersdorf
DESCRIPTION:– Pflege zu Hause-  Wer hilft mir persönlich und was hilft mir digital? \nAnalog und Digital den Pflegealltag erleichtern \nWenn Sie vor der Aufgabe stehen\, eine Person zu Hause zu pflegen\, können viele Fragen aufkommen. \nIn unserer Veranstaltung möchten wir Einblicke in verschiedene Bereiche geben. Die Fragen „Wo finde ich persönliche Beratung und Unterstützung?“ und „Welche digitalen Unterstützungs-möglichkeiten gibt es?“ leiten uns dabei. \nEs werden Angebote in Berlin\, in Marzahn-Hellersdorf sowie digitale Möglichkeiten vorgestellt. \nLassen Sie uns ins Gespräch kommen\, um gemeinsam Ihren Weg zu finden. \n  \nWir bitten um Anmeldung \nE-Mail:  netzwerk.alter@ba-mh.berlin.de \nTel:   030 514 30 93 (Pflegestützpunkt Marzahn) \n  \nWeitere Informationen finden Sie in der Datei anbei: DialogForum_2024
URL:https://smart-living-health.de/veranstaltung/dialogforum-gute-pflege-in-marzahn-hellersdorf/
LOCATION:Haus der Zukunft am ukb\, Blumberger Damm 2k\, Berlin\, Berlin\, 12683\, Deutschland
CATEGORIES:Dialog,Vor-Ort-Veranstaltung
ORGANIZER;CN="Smart Living & Health Center e.V.":MAILTO:info@haus-der-zukunft-am-ukb.de
END:VEVENT
END:VCALENDAR