BEGIN:VCALENDAR
VERSION:2.0
PRODID:-//SLHC - ECPv6.15.20//NONSGML v1.0//EN
CALSCALE:GREGORIAN
METHOD:PUBLISH
X-ORIGINAL-URL:https://smart-living-health.de
X-WR-CALDESC:Veranstaltungen für SLHC
REFRESH-INTERVAL;VALUE=DURATION:PT1H
X-Robots-Tag:noindex
X-PUBLISHED-TTL:PT1H
BEGIN:VTIMEZONE
TZID:Europe/Berlin
BEGIN:DAYLIGHT
TZOFFSETFROM:+0100
TZOFFSETTO:+0200
TZNAME:CEST
DTSTART:20230326T010000
END:DAYLIGHT
BEGIN:STANDARD
TZOFFSETFROM:+0200
TZOFFSETTO:+0100
TZNAME:CET
DTSTART:20231029T010000
END:STANDARD
BEGIN:DAYLIGHT
TZOFFSETFROM:+0100
TZOFFSETTO:+0200
TZNAME:CEST
DTSTART:20240331T010000
END:DAYLIGHT
BEGIN:STANDARD
TZOFFSETFROM:+0200
TZOFFSETTO:+0100
TZNAME:CET
DTSTART:20241027T010000
END:STANDARD
BEGIN:DAYLIGHT
TZOFFSETFROM:+0100
TZOFFSETTO:+0200
TZNAME:CEST
DTSTART:20250330T010000
END:DAYLIGHT
BEGIN:STANDARD
TZOFFSETFROM:+0200
TZOFFSETTO:+0100
TZNAME:CET
DTSTART:20251026T010000
END:STANDARD
END:VTIMEZONE
BEGIN:VEVENT
DTSTART;TZID=Europe/Berlin:20240710T130000
DTEND;TZID=Europe/Berlin:20240710T183000
DTSTAMP:20260419T193226
CREATED:20240705T085129Z
LAST-MODIFIED:20240705T085129Z
UID:4206-1720616400-1720636200@smart-living-health.de
SUMMARY:Barcamp Health Innovation
DESCRIPTION:Patient Journey – Wie erleichtern wir die Patientenreise durch unser Gesundheitssystem? \n  \nDas Barcamp Health-IT wird zum Barcamp Health Innovation! Damit führen wir das erfolgreiche Format auch in diesem Jahr fort und erweitern es um innovative Fragestellungen und Themen\, die keinen unmittelbaren IT-Bezug haben.
URL:https://smart-living-health.de/veranstaltung/barcamp-health-innovation/
LOCATION:Oracle Deutschland (Gebäude EDGE Grand Central Berlin)\, Invalidenstr. 65\, Berlin\, 10557
CATEGORIES:Workshop
END:VEVENT
BEGIN:VEVENT
DTSTART;VALUE=DATE:20240715
DTEND;VALUE=DATE:20240716
DTSTAMP:20260419T193226
CREATED:20240701T091039Z
LAST-MODIFIED:20240701T091039Z
UID:4202-1721001600-1721087999@smart-living-health.de
SUMMARY:Weiterbildungstag Digital Health
DESCRIPTION:Zum Ende der Weiterbildung sind Sie in der Lage\, eigenständig Konzepte für digitale Diagnose- und Therapieanwendungen zu entwickeln und/oder bei der effizienten Implementierung in ihrer Gesundheitseinrichtung mitzuwirken.
URL:https://smart-living-health.de/veranstaltung/weiterbildungstag-digital-health-2/
LOCATION:IB Hochschule für Gesundheit und Soziales\, Warener Str. 7\, Berlin\, 12683
CATEGORIES:Weiterbildung
END:VEVENT
END:VCALENDAR