BEGIN:VCALENDAR
VERSION:2.0
PRODID:-//SLHC - ECPv6.15.20//NONSGML v1.0//EN
CALSCALE:GREGORIAN
METHOD:PUBLISH
X-WR-CALNAME:SLHC
X-ORIGINAL-URL:https://smart-living-health.de
X-WR-CALDESC:Veranstaltungen für SLHC
REFRESH-INTERVAL;VALUE=DURATION:PT1H
X-Robots-Tag:noindex
X-PUBLISHED-TTL:PT1H
BEGIN:VTIMEZONE
TZID:Europe/Berlin
BEGIN:DAYLIGHT
TZOFFSETFROM:+0100
TZOFFSETTO:+0200
TZNAME:CEST
DTSTART:20230326T010000
END:DAYLIGHT
BEGIN:STANDARD
TZOFFSETFROM:+0200
TZOFFSETTO:+0100
TZNAME:CET
DTSTART:20231029T010000
END:STANDARD
BEGIN:DAYLIGHT
TZOFFSETFROM:+0100
TZOFFSETTO:+0200
TZNAME:CEST
DTSTART:20240331T010000
END:DAYLIGHT
BEGIN:STANDARD
TZOFFSETFROM:+0200
TZOFFSETTO:+0100
TZNAME:CET
DTSTART:20241027T010000
END:STANDARD
BEGIN:DAYLIGHT
TZOFFSETFROM:+0100
TZOFFSETTO:+0200
TZNAME:CEST
DTSTART:20250330T010000
END:DAYLIGHT
BEGIN:STANDARD
TZOFFSETFROM:+0200
TZOFFSETTO:+0100
TZNAME:CET
DTSTART:20251026T010000
END:STANDARD
END:VTIMEZONE
BEGIN:VEVENT
DTSTART;TZID=Europe/Berlin:20240603T143000
DTEND;TZID=Europe/Berlin:20240603T160000
DTSTAMP:20260421T185634
CREATED:20240326T151744Z
LAST-MODIFIED:20240524T104112Z
UID:4034-1717425000-1717430400@smart-living-health.de
SUMMARY:ONLINE: Elektronische Patientenakte und E-Rezept
DESCRIPTION:Die elektronische Patientenakte (ePA) und das eRezept sind zwei wichtige Neuerungen im Gesundheitswesen\, die viele Vorteile mit sich bringen. Auch Senior:innen können von den Vorteilen der ePA und des E-Rezeptes profitieren. Doch wie funktionieren diese Anwendungen und welche Voraussetzungen müssen erfüllt sein\, um sie nutzen zu können? Und wie sieht es mit dem Thema Datenschutz und -sicherheit aus? In dieser Veranstaltung geben wir Ihnen Antworten auf diese Fragen. \nEine Anmeldung für die Veranstaltung ist nicht erforderlich. Sie können über folgende Zugangsdaten teilnehmen: \nhttps://eu02web.zoom-x.de/j/3387023588?omn=67963586921 \nMeeting-ID: 338 702 3588 \nWir freuen uns auf Ihre Teilnahme. \n 
URL:https://smart-living-health.de/veranstaltung/online-elektronische-patientenakte-und-e-rezept/
LOCATION:Online
CATEGORIES:Informationsveranstaltung
END:VEVENT
BEGIN:VEVENT
DTSTART;TZID=Europe/Berlin:20240605T090000
DTEND;TZID=Europe/Berlin:20240605T110000
DTSTAMP:20260421T185634
CREATED:20240216T111354Z
LAST-MODIFIED:20240508T100444Z
UID:3966-1717578000-1717585200@smart-living-health.de
SUMMARY:Fachveranstaltung: Hilfsmittel & Pflegehilfsmittel durch Pflegefachkräfte
DESCRIPTION:Hilfsmittel zur häuslichen Pflege auch ohne ärztliche Verordnung: Das ist seit mehr als einem Jahr möglich. Wir zeigen\, wie man als Pflegefachkraft Hilfsmittel und Pflegehilfsmittel empfehlen kann\, was es zu beachten gilt und wollen uns mit Ihnen zu Ihren Erfahrungen damit austauschen. \nMit dem Gesundheitsversorgungsweiterentwicklungsgesetz wurde erstmalig die Möglichkeit geschaffen\, dass auch Pflegefachkräfte Hilfs- und Pflegehilfsmittel empfehlen können und eine ärztliche Verordnung damit nicht mehr notwendig ist. \nWir zeigen\, wie dies praktisch funktioniert. Vor Ort informieren Sie Sarah Broy\, eine erfahrene Pflegefachkraft und Ralph Näf\, Ansprechpartner aus dem Bereich der Pflegelogistik. \nAuf einen regen und lockeren Frühstücks-Austausch u.a. über Ihre eigenen Erfahrungen zu dem Verfahren freuen wir uns sehr. Bei guten Wetter wird die Veranstaltung teilweise auf der Terrasse statt finden. \nDie Veranstaltung ist kostenfrei – um Voranmeldung wird gebeten! \nAnmeldung\nAnredeFrauHerrDiv  Danke für Ihre Nachricht. Wir haben diese erhalten.×Es ist ein Fehler aufgetreten. Bitte versuchen Sie es erneut.×Jetzt anmeldenPersonenzahl\noder unter: \ninfo@haus-der-zukunft-am-ukb.de \n030-6179 5042
URL:https://smart-living-health.de/veranstaltung/fachveranstaltung-hilfsmittel-pflegehilfsmittel-durch-pflegefachkraefte/
LOCATION:Haus der Zukunft am ukb\, Blumberger Damm 2k\, Berlin\, Berlin\, 12683\, Deutschland
CATEGORIES:Fachtagung,Informationsveranstaltung,Vor-Ort-Veranstaltung
END:VEVENT
BEGIN:VEVENT
DTSTART;TZID=Europe/Berlin:20240608T090000
DTEND;TZID=Europe/Berlin:20240608T170000
DTSTAMP:20260421T185634
CREATED:20240227T133057Z
LAST-MODIFIED:20240408T122724Z
UID:3995-1717837200-1717866000@smart-living-health.de
SUMMARY:Paulas Pflege in Familien fördern (PfiFf)
DESCRIPTION:Pflegene Angehörige sind der größte Pflegdienst. Sie meistern die Pflege ihrer Liebsten und kümmern sich zugleich um die bürokrtaischen Verfahren. Pflege in Familien fördern (PfiFf) soll hier unterstützen und bietet einen Überblick und Hilfe bei vielen Fragen zur Pflege von Angehörigen. Von der Antragsstellung bis zu Transferschulungen stehen in diesem Kurs praxisnahe Informationen im Vordergrund. \nAnmeldung\nBitte melden Sie sich telefonisch an unter: 030 130 173 922 oder  030 130 173 900. Die Teilnahme ist kostenfrei.
URL:https://smart-living-health.de/veranstaltung/paulas-pflege-in-familien-foerdern-pfiff-2/
LOCATION:Haus der Zukunft am ukb\, Blumberger Damm 2k\, Berlin\, Berlin\, 12683\, Deutschland
CATEGORIES:Vor-Ort-Veranstaltung
END:VEVENT
BEGIN:VEVENT
DTSTART;TZID=Europe/Berlin:20240613T100000
DTEND;TZID=Europe/Berlin:20240613T130000
DTSTAMP:20260421T185634
CREATED:20240319T102430Z
LAST-MODIFIED:20240319T102528Z
UID:4017-1718272800-1718283600@smart-living-health.de
SUMMARY:ONLINE: Training Digitalkompetenz
DESCRIPTION:Die Digitalisierung der Gesundheits- und Sozialwirtschaft ist auch für die Mitarbeitenden eine große Herausforderung. Egal\, ob auf der Tour\, der Station oder in der Verwaltung:\, die Arbeit verändert sich und neue Anforderungen kommen im ohnehin bereits überlasteten Arbeitsalltag hinzu. \nIn diesem Online-Training Digitalkompetenz wird Ihren Mitarbeitenden Werkzeuge und Wissen an die Hand gegeben\, wie Sie die Herausforderungen der digitalen Welt besser meistern. Gemeinsam werden wir so fit(ter) für die digitale Welt.
URL:https://smart-living-health.de/veranstaltung/online-training-digitalkompetenz/
LOCATION:Online
CATEGORIES:Digital,Weiterbildung
END:VEVENT
BEGIN:VEVENT
DTSTART;VALUE=DATE:20240620
DTEND;VALUE=DATE:20240623
DTSTAMP:20260421T185634
CREATED:20240220T082959Z
LAST-MODIFIED:20240220T095856Z
UID:3974-1718841600-1719100799@smart-living-health.de
SUMMARY:IRMA
DESCRIPTION:Internationale Reha- und Mobilitätsmesse für Alle  \nDie IRMA ist eine Messe für Menschen mit Behinderung\, Rollstuhlfahrer\, Senioren\, Pflegebedürftige und deren Angehörige. \n 
URL:https://smart-living-health.de/veranstaltung/irma-2/
LOCATION:Messezentrum Hamburg\, Lagerstraße 10\, Hamburg\, 20357
CATEGORIES:Messe
ORGANIZER;CN="Escales GmbH":MAILTO:info@mobilitaetsmesse.de
END:VEVENT
BEGIN:VEVENT
DTSTART;TZID=Europe/Berlin:20240620T140000
DTEND;TZID=Europe/Berlin:20240620T160000
DTSTAMP:20260421T185634
CREATED:20240118T145722Z
LAST-MODIFIED:20240617T080937Z
UID:3890-1718892000-1718899200@smart-living-health.de
SUMMARY:ABGESAGT: Selbstfürsorge - Tu dir selbst was Gutes! *Mentalhealth*
DESCRIPTION:In unsrem Alltag werden oft hohe Erwartungen an uns gestellt und es ist nicht immer leicht diesen gerecht zu werden. Um uns den Herausforderungen des Lebens kraftvoll stellen zu können ist liebevolle Selbstfürsorge ein wichtiger Schlüssel. 100 % naturreine ätherische Öle können uns auf körperlicher als auch psychischer Ebene unterstützen wieder zu voller Kraft zu kommen und von Innen und Außen zu strahlen. \nNimm Dir Zeit für Dich und tu dir selbst etwas Gutes. \nSchaffe Dir eine Oase und bedufte den Raum mit Deinem Lieblingsduft\, verwöhne Dich mit einem duftenden Körper Öl oder einer Lotion und komm zur Ruhe. Es gibt viele Wege mit ätherischen Ölen Momente zu schaffen\, die nur uns selbst gehören und uns guttun. \n  \nUm Anmeldung wird gebeten:\nTel: 030 – 6179 5042 \nEmail: info@haus-der-zukunft-am-ukb.de \n  \nEine Übersicht aller Workshops finden Sie hier Aromaworkshops 2024
URL:https://smart-living-health.de/veranstaltung/selbstfuersorge-tu-dir-selbst-was-gutes/
LOCATION:Haus der Zukunft am ukb\, Blumberger Damm 2k\, Berlin\, Berlin\, 12683\, Deutschland
CATEGORIES:Workshop
ORGANIZER;CN="Primavera":MAILTO:info@primaveralife.com
END:VEVENT
BEGIN:VEVENT
DTSTART;TZID=Europe/Berlin:20240622T110000
DTEND;TZID=Europe/Berlin:20240622T160000
DTSTAMP:20260421T185634
CREATED:20240507T071925Z
LAST-MODIFIED:20240603T121526Z
UID:4099-1719054000-1719072000@smart-living-health.de
SUMMARY:TAG DER OFFENEN TÜR
DESCRIPTION: 
URL:https://smart-living-health.de/veranstaltung/tag-der-offenen-tuer/
LOCATION:Haus der Zukunft am ukb\, Blumberger Damm 2k\, Berlin\, Berlin\, 12683\, Deutschland
CATEGORIES:Vor-Ort-Veranstaltung
ORGANIZER;CN="Smart Living & Health Center e.V.":MAILTO:info@haus-der-zukunft-am-ukb.de
END:VEVENT
BEGIN:VEVENT
DTSTART;TZID=Europe/Berlin:20240622T170000
DTEND;TZID=Europe/Berlin:20240622T233000
DTSTAMP:20260421T185634
CREATED:20240507T082110Z
LAST-MODIFIED:20240617T091345Z
UID:4101-1719075600-1719099000@smart-living-health.de
SUMMARY:Lange Nacht der Wissenschaften
DESCRIPTION:Der Gesundheitscampus am ukb Berlin e.V. nimmt zum ersten Mal an der Langen Nacht der Wissenschaften teil. Termin notieren und vorbeikommen.
URL:https://smart-living-health.de/veranstaltung/lange-nacht-der-wissenschaften/
LOCATION:Gesundheitscampus am ukb\, Berlin\, 12683
CATEGORIES:Vor-Ort-Veranstaltung
END:VEVENT
BEGIN:VEVENT
DTSTART;VALUE=DATE:20240626
DTEND;VALUE=DATE:20240629
DTSTAMP:20260421T185634
CREATED:20240121T141029Z
LAST-MODIFIED:20240121T141029Z
UID:3902-1719360000-1719619199@smart-living-health.de
SUMMARY:Hauptstadtkongress
DESCRIPTION:Der Hauptstadtkongress ist das bedeutendste Kongressereignis am deutschen Healthcare-Markt. Hier werden Jahr für Jahr die wichtigen Reformvorhaben diskutiert und Weichen zur Modernisierung unseres Gesundheitswesens gestellt. 
URL:https://smart-living-health.de/veranstaltung/hauptstadtkongress/
LOCATION:HUB27 Messe Berlin\, Jafféstraße 2\, Berlin\, 14055
CATEGORIES:Kongress
END:VEVENT
END:VCALENDAR