BEGIN:VCALENDAR
VERSION:2.0
PRODID:-//SLHC - ECPv6.15.20//NONSGML v1.0//EN
CALSCALE:GREGORIAN
METHOD:PUBLISH
X-ORIGINAL-URL:https://smart-living-health.de
X-WR-CALDESC:Veranstaltungen für SLHC
REFRESH-INTERVAL;VALUE=DURATION:PT1H
X-Robots-Tag:noindex
X-PUBLISHED-TTL:PT1H
BEGIN:VTIMEZONE
TZID:Europe/Berlin
BEGIN:DAYLIGHT
TZOFFSETFROM:+0100
TZOFFSETTO:+0200
TZNAME:CEST
DTSTART:20230326T010000
END:DAYLIGHT
BEGIN:STANDARD
TZOFFSETFROM:+0200
TZOFFSETTO:+0100
TZNAME:CET
DTSTART:20231029T010000
END:STANDARD
BEGIN:DAYLIGHT
TZOFFSETFROM:+0100
TZOFFSETTO:+0200
TZNAME:CEST
DTSTART:20240331T010000
END:DAYLIGHT
BEGIN:STANDARD
TZOFFSETFROM:+0200
TZOFFSETTO:+0100
TZNAME:CET
DTSTART:20241027T010000
END:STANDARD
BEGIN:DAYLIGHT
TZOFFSETFROM:+0100
TZOFFSETTO:+0200
TZNAME:CEST
DTSTART:20250330T010000
END:DAYLIGHT
BEGIN:STANDARD
TZOFFSETFROM:+0200
TZOFFSETTO:+0100
TZNAME:CET
DTSTART:20251026T010000
END:STANDARD
END:VTIMEZONE
BEGIN:VEVENT
DTSTART;TZID=Europe/Berlin:20240307T100000
DTEND;TZID=Europe/Berlin:20240307T170000
DTSTAMP:20260420T110632
CREATED:20240108T193213Z
LAST-MODIFIED:20240108T193222Z
UID:3860-1709805600-1709830800@smart-living-health.de
SUMMARY:Karrieretag Berlin
DESCRIPTION:Die Jobmesse in Berlin \n\nTermin 7.3.\nTermin 2.10.
URL:https://smart-living-health.de/veranstaltung/karrieretag-berlin/
LOCATION:Estrel Berlin\, Sonnenallee 225\, Berlin\, 12057
CATEGORIES:Messe
END:VEVENT
BEGIN:VEVENT
DTSTART;TZID=Europe/Berlin:20240320T140000
DTEND;TZID=Europe/Berlin:20240320T150000
DTSTAMP:20260420T110632
CREATED:20240126T155424Z
LAST-MODIFIED:20240202T132056Z
UID:3938-1710943200-1710946800@smart-living-health.de
SUMMARY:Pflege - was nun?!
DESCRIPTION:Plötzlich auf Hilfe angewiesen?  \nPlötzlich pflegebedürftig?  \nPlötzlich pflegender Angehöriger? \n\nDiese Veranstaltung gibt einen ersten kurzen Überblick über das Thema Pflege und entsprechende Leistungen! \n\nhilfreiche Hinweise zur MDK- Begutachtung\nWelche Pflichten und Fristen muss ich bei einem vorhandenen Pflegegrad einhalten?\nWer übernimmt welche Kosten bei der Pflegebedürftigkeit und was passiert\, wenn ich mir die Pflege nicht leisten kann?\n\n  \nUm Anmeldung wird gebeten: \nTel: 030 – 6179 5042 \nEmail: info@haus-der-zukunft-am-ukb.de
URL:https://smart-living-health.de/veranstaltung/pflege-was-nun/
LOCATION:Haus der Zukunft am ukb\, Blumberger Damm 2k\, Berlin\, Berlin\, 12683\, Deutschland
CATEGORIES:Informationsveranstaltung
ORGANIZER;CN="Renafan":MAILTO:0304381900
END:VEVENT
BEGIN:VEVENT
DTSTART;TZID=Europe/Berlin:20240321T140000
DTEND;TZID=Europe/Berlin:20240321T163000
DTSTAMP:20260420T110632
CREATED:20231211T133030Z
LAST-MODIFIED:20240318T123717Z
UID:3805-1711029600-1711038600@smart-living-health.de
SUMMARY:Abgesagt: Mental Health - Ätherische Öle zum Glücklichsein
DESCRIPTION:Bei der Selbstfürsorge geht es darum\, rücksichtsvoll mit sich selbst umzugehen. Wissenschaftliche Studienergebnisse belegen: Schöne angenehme Düfte können einen besonderen Moment positiver Gefühle entstehen lassen und entführen uns für einen Glücksmoment aus dem Alltag. \nGerade im Pflegealltag ist es nicht immer einfach sich selbst Zeit zu geben und sich etwas Gutes zu tun\, doch können schon kleine Schritte viel bewirken. Wir stellen Ihnen einfache Möglichkeiten vor\, wie es gelingt\, sich mit Aromapflege eine kleine Auszeit zu nehmen und etwas Gutes für sich zu tun. Denn Körper und Seele benötigen Zeit zur Regenerierung\, um mit den Herausforderungen des Lebens besser umzugehen. \n  \nUm Voranmeldung wird gebeten! \nEine Übersicht aller Workshops finden Sie hier Aromaworkshops 2024 \n  \nAnmeldung\nDatum *13.3.2025 - In Balance - Rituale für mehr Gelassenheit6.5.2025 - Trauer-Verlust- und Sterbebegleitung26.6.2025 - Frisch durch den Sommer9.9.2025 - Pflege zu Hause - Unterstützungsmöglichkeiten durch die Aromapflege16.10.2025 - Aromapflege zur Begleitung bei Demenz27.11.2025 - Zimt und Sterne - mit weihnachtlichen Aromen durch die Adventszeit  AnredeFrauHerrDiv  Kontaktmöglichkeit für Rückfragen *PersonenzahlWas ist Ihr Hintergrund?Was ist Ihr Hintergrund?AusbildungLehrkraftPflegekraftPflegende Angehörigeanderer Hintergrund  Danke für Ihre Nachricht. Wir haben diese erhalten.×Es ist ein Fehler aufgetreten. Bitte versuchen Sie es erneut.×Jetzt anmelden\n  \nTel. 030-6179 5042 \nE-Mail: info@haus-der-zukunft-am-ukb.de
URL:https://smart-living-health.de/veranstaltung/psychische-gesundheit-mental-health/
LOCATION:Haus der Zukunft am ukb\, Blumberger Damm 2k\, Berlin\, Berlin\, 12683\, Deutschland
CATEGORIES:Workshop
ORGANIZER;CN="Primavera":MAILTO:info@primaveralife.com
END:VEVENT
BEGIN:VEVENT
DTSTART;TZID=Europe/Berlin:20240327T100000
DTEND;TZID=Europe/Berlin:20240327T110000
DTSTAMP:20260420T110632
CREATED:20240311T080114Z
LAST-MODIFIED:20240311T080114Z
UID:4003-1711533600-1711537200@smart-living-health.de
SUMMARY:ONLINE: Pflegen und bei Kräften bleiben – aber wie?
DESCRIPTION:Im Rahmen der monatlichen Veranstaltungsreihe der Pflegestützpunkte Berlin  wird gezeigt\, wie Sie den Pflegealltag besser meistern können.  \nIm kurzen Vortrag werden Ihnen die verschiedenen Entlastungsmöglichkeiten im Rahmen der Pflegeversicherung sowie ergänzende Angebote für pflegende An- Zugehörige vorgestellt. Außerdem gibt es „Raum“\, sich selbstreflexiv mit dem Thema Stress auseinanderzusetzen.  \nAlles unter dem Motto: Self-Care in der Care-Arbeit! Wir freuen uns auf Sie!“\n\nAnmeldungen unter der E-Mail-Adresse infoveranstaltungen@albatrosggmbh.de . Den Link erhalten Sie rechtzeitig vor dem Termin zugeschickt.
URL:https://smart-living-health.de/veranstaltung/online-pflegen-und-bei-kraeften-bleiben-aber-wie/
LOCATION:Online
CATEGORIES:Digital,Informationsveranstaltung
END:VEVENT
END:VCALENDAR