BEGIN:VCALENDAR
VERSION:2.0
PRODID:-//SLHC - ECPv6.15.20//NONSGML v1.0//EN
CALSCALE:GREGORIAN
METHOD:PUBLISH
X-WR-CALNAME:SLHC
X-ORIGINAL-URL:https://smart-living-health.de
X-WR-CALDESC:Veranstaltungen für SLHC
REFRESH-INTERVAL;VALUE=DURATION:PT1H
X-Robots-Tag:noindex
X-PUBLISHED-TTL:PT1H
BEGIN:VTIMEZONE
TZID:Europe/Berlin
BEGIN:DAYLIGHT
TZOFFSETFROM:+0100
TZOFFSETTO:+0200
TZNAME:CEST
DTSTART:20230326T010000
END:DAYLIGHT
BEGIN:STANDARD
TZOFFSETFROM:+0200
TZOFFSETTO:+0100
TZNAME:CET
DTSTART:20231029T010000
END:STANDARD
BEGIN:DAYLIGHT
TZOFFSETFROM:+0100
TZOFFSETTO:+0200
TZNAME:CEST
DTSTART:20240331T010000
END:DAYLIGHT
BEGIN:STANDARD
TZOFFSETFROM:+0200
TZOFFSETTO:+0100
TZNAME:CET
DTSTART:20241027T010000
END:STANDARD
BEGIN:DAYLIGHT
TZOFFSETFROM:+0100
TZOFFSETTO:+0200
TZNAME:CEST
DTSTART:20250330T010000
END:DAYLIGHT
BEGIN:STANDARD
TZOFFSETFROM:+0200
TZOFFSETTO:+0100
TZNAME:CET
DTSTART:20251026T010000
END:STANDARD
END:VTIMEZONE
BEGIN:VEVENT
DTSTART;VALUE=DATE:20240202
DTEND;VALUE=DATE:20240203
DTSTAMP:20260420T165522
CREATED:20240104T101429Z
LAST-MODIFIED:20240104T101429Z
UID:3823-1706832000-1706918399@smart-living-health.de
SUMMARY:Weiterbildungstag Digital Health
DESCRIPTION:Im Rahmen des Krankenhauszukunftsgesetzes wird Digitalisierung im stationären als auch im ambulanten Setting ein wesentlicher Bestandteil im Gesundheitswesen. Für eine gelungene Umsetzung ist Voraussetzung\, dass das medizinische Personal (Ärzt*innen\, Therapeut*innen\, Pflegemitarbeitende) und Mitarbeitende in der Medizintechnik und IT zusammen die neuen Möglichkeiten von Hard- und Software wie beispielsweise Extended-Reality nutzen\, um in der Diagnostik als auch in der Therapie ein neues Qualitätslevel zu erreichen. \nDas eintägige Seminar „Weiterbildungstag Digital Health“ gibt Ihnen einen optimalen Einstieg in das Themengebiet Digital Health. Es richtet sich an Personen\, die im Gesundheitswesen tätig sind und Interesse daran haben\, die digitale Transformation innerhalb ihrer Einrichtung voranzutreiben. Sie werden ein Verständnis dafür entwickeln\, wie modernste Technologien in der Gesundheitsbranche eingesetzt werden können und welche Chancen eine Implementierung digitaler Anwendungen mit sich bringt.
URL:https://smart-living-health.de/veranstaltung/weiterbildungstag-digital-health/
LOCATION:IB Hochschule für Gesundheit und Soziales\, Warener Str. 7\, Berlin\, 12683
CATEGORIES:Schulung,Weiterbildung
END:VEVENT
BEGIN:VEVENT
DTSTART;TZID=Europe/Berlin:20240210T100000
DTEND;TZID=Europe/Berlin:20240210T170000
DTSTAMP:20260420T165522
CREATED:20240122T104938Z
LAST-MODIFIED:20240122T104938Z
UID:3910-1707559200-1707584400@smart-living-health.de
SUMMARY:Paulas Pflege in Familien fördern (PfiFf)
DESCRIPTION:Pflegene Angehörige sind der größte Pflegdienst. Sie meistern die Pflege ihrer Liebsten und kümmern sich zugleich um die bürokrtaischen Verfahren. Pflege in Familien fördern (PfiFf) soll hier unterstützen und bietet einen Überblick und Hilfe bei vielen Fragen zur Pflege von Angehörigen. Von der Antragsstellung bis zu Transferschulungen stehen in diesem Kurs praxisnahe Informationen im Vordergrund. \nAnmeldung\nBitte melden Sie sich telefonisch an unter: 030 130 173 922 oder  030 130 173 900. Die Teilnahme ist kostenfrei.
URL:https://smart-living-health.de/veranstaltung/paulas-pflege-in-familien-foerdern-pfiff/
LOCATION:Haus der Zukunft am ukb\, Blumberger Damm 2k\, Berlin\, Berlin\, 12683\, Deutschland
CATEGORIES:Vor-Ort-Veranstaltung
END:VEVENT
BEGIN:VEVENT
DTSTART;TZID=Europe/Berlin:20240214T100000
DTEND;TZID=Europe/Berlin:20240214T120000
DTSTAMP:20260420T165522
CREATED:20240104T101948Z
LAST-MODIFIED:20240104T101948Z
UID:3827-1707904800-1707912000@smart-living-health.de
SUMMARY:Auftaktveranstaltung: Kooperation opta data ZukunftsStiftung und der IB Hochschule für Gesundheit und Soziales
DESCRIPTION:Das Ansehen von systemrelevanten\, akademischen Gesundheitsfachberufen in der Gesellschaft stärken und die Digitalisierung in diesem Bereich dynamisch vorantreiben – mit diesem Ansatz ergänzt die opta data Zukunfts-Stiftung ideal das Bestreben der IB Hochschule\, moderne\, zeitgemäße Studieninhalte zu vermitteln. Dazu gehören auch die gemeinsam mit dem Unfallkrankenhaus Berlin (ukb) entwickelten praxisorientierten Studiengänge Digital Health (B.Sc. und M.Sc.). \n  \nHinweis zum Veranstaltungsort (+digitale Teilnahme möglich): \nBG Klinikum Unfallkrankenhaus Berlin\, Raum S0.70 im Haus S\, Reha-Klinik Warener Str. 7 12683 Berlin
URL:https://smart-living-health.de/veranstaltung/auftaktveranstaltung-kooperation-opta-data-zukunftsstiftung-und-der-ib-hochschule-fuer-gesundheit-und-soziales/
LOCATION:BG Klinikum Unfallkrankenhaus Berlin\, Warener Str. 7\, Berlin\, 12683
END:VEVENT
BEGIN:VEVENT
DTSTART;TZID=Europe/Berlin:20240221T100000
DTEND;TZID=Europe/Berlin:20240221T110000
DTSTAMP:20260420T165522
CREATED:20240121T141432Z
LAST-MODIFIED:20240212T121819Z
UID:3906-1708509600-1708513200@smart-living-health.de
SUMMARY:ONLINE: Technische Hilfsmittel für ein langes selbstbestimmtes Leben
DESCRIPTION:Der Wunsch sehr vieler Personen ist es\, möglichst lange und selbstbestimmt im vertrauten Umfeld leben zu können. Um das zu ermöglichen\, können technische Hilfsmittel zum Einsatz kommen.\n\nPflegestützpunkt Marzahn-Hellersdorf:  Für unsere Veranstaltung im Februar kooperieren wir mit dem Smart Living & Health Center e. V.\, der seinen Sitz\, wie der Pflegestützpunkt Biesdorf\, im Haus der Zukunft am ukb in Marzahn-Hellersdorf hat. Der Verein betreibt dort das Smart Living & Health Center\, eine Musterwohnung mit vielen smarten Produkten\, die in den eigenen vier Wänden zum Einsatz kommen können. Anhand einiger Beispiele möchten wir Ihnen zeigen\, welche technischen Möglichkeiten man nutzen kann\, um sich und anderen das Leben zu erleichtern.\n  \nAnmeldungen gerne per E-Mail an infoveranstaltungen@albatrosggmbh.de entgegen. \nDen Link für die Teilnahme erhalten Sie rechtzeitig vor dem Termin.
URL:https://smart-living-health.de/veranstaltung/online-technische-hilfsmittel-fuer-ein-langes-selbstbestimmtes-leben/
LOCATION:Online
CATEGORIES:Digital,Informationsveranstaltung
ORGANIZER;CN="Smart Living & Health Center e.V.":MAILTO:info@haus-der-zukunft-am-ukb.de
END:VEVENT
BEGIN:VEVENT
DTSTART;TZID=Europe/Berlin:20240222T170000
DTEND;TZID=Europe/Berlin:20240222T190000
DTSTAMP:20260420T165522
CREATED:20231211T132846Z
LAST-MODIFIED:20240122T120343Z
UID:3803-1708621200-1708628400@smart-living-health.de
SUMMARY:Erholsamer Schlaf mit Aromapflege
DESCRIPTION:Wie können entspannende und ausgleichende ätherische Öle helfen\, schlaffördernde Rituale zu gestalten? \nGut ein Drittel unseres Lebens verschlafen wir. Was für viele „vertane Zeit“ sein mag\, ist für den Körper lebenswichtig\, denn länger anhaltender Schlafmangel schadet der körperlichen und geistigen Gesundheit. Für alle\, die problemlos ein- und durchschlafen\, ist dies kein großes Thema. Doch gerade im Schichtdienst kommt Schlaf oft zu kurz und der Körper muss sich an unregelmäßige Zeiten anpassen. Wir zeigen Ihnen wie duftende Aromapflege helfen kann\, gut und erholsam in Morpheus Arme zu sinken\, welche ätherischen Öle dazu geeignet sind und wie sie angewendet werden. \n  \nBesonders im Schichtdienst sind erholsame Schlafphasen wichtig.  \nAuch aus diesem Grund haben wir diesen Workshop auf den späten Nachmittag\, auf 17 Uhr gelegt!  \n  \nEine Übersicht aller Workshops finden Sie hier Aromaworkshops 2024 \n  \nAnmeldung\nDatum *13.3.2025 - In Balance - Rituale für mehr Gelassenheit6.5.2025 - Trauer-Verlust- und Sterbebegleitung26.6.2025 - Frisch durch den Sommer9.9.2025 - Pflege zu Hause - Unterstützungsmöglichkeiten durch die Aromapflege16.10.2025 - Aromapflege zur Begleitung bei Demenz27.11.2025 - Zimt und Sterne - mit weihnachtlichen Aromen durch die Adventszeit  AnredeFrauHerrDiv  Kontaktmöglichkeit für Rückfragen *PersonenzahlWas ist Ihr Hintergrund?Was ist Ihr Hintergrund?AusbildungLehrkraftPflegekraftPflegende Angehörigeanderer Hintergrund  Danke für Ihre Nachricht. Wir haben diese erhalten.×Es ist ein Fehler aufgetreten. Bitte versuchen Sie es erneut.×Jetzt anmelden\n  \nTel. 030-6179 5042 \nE-Mail: info@haus-der-zukunft-am-ukb.de
URL:https://smart-living-health.de/veranstaltung/gesunder-schlaf/
LOCATION:Haus der Zukunft am ukb\, Blumberger Damm 2k\, Berlin\, Berlin\, 12683\, Deutschland
CATEGORIES:Workshop
ORGANIZER;CN="Primavera":MAILTO:info@primaveralife.com
END:VEVENT
BEGIN:VEVENT
DTSTART;TZID=Europe/Berlin:20240226T143000
DTEND;TZID=Europe/Berlin:20240226T160000
DTSTAMP:20260420T165522
CREATED:20230717T103107Z
LAST-MODIFIED:20240115T093916Z
UID:3445-1708957800-1708963200@smart-living-health.de
SUMMARY:Wie richte ich mein Smartphone und Tablet richtig ein?
DESCRIPTION:Ein Smartphone ist mehr als ein Telefon. Moderne Handys sind der Zugang zu neuen Informationen\, können bei der Suche nach Orten unterstützen und eine wichtige Assistenz im Alltag sein. Wir zeigen\, wie der Einstieg leicht gelingt\, was es zu beachten gilt und welche Anwendungen/ Apps nicht fehlen sollten. \nDurch die Veranstaltung führt Hr. Klaus Meyer vom netcomputer.club \nHinweis: Bitte bringen Sie Ihre eigenen Geräte\, wie z.B. das Handy oder das Tablet mit\, welches eingerichtet werden soll bzw. für welches Sie Hilfe benötigen !!! \nAnredeFrauHerrDiv  Kontaktmöglichkeit für Rückfragen *PersonenzahlDanke für Ihre Nachricht. Wir haben diese erhalten.×Es ist ein Fehler aufgetreten. Bitte versuchen Sie es erneut.×Jetzt anmelden
URL:https://smart-living-health.de/veranstaltung/wie-richte-ich-smartphone-und-tablet-richtig-ein/
LOCATION:Haus der Zukunft am ukb\, Blumberger Damm 2k\, Berlin\, Berlin\, 12683\, Deutschland
CATEGORIES:Vor-Ort-Veranstaltung
ORGANIZER;CN="Smart Living & Health Center e.V.":MAILTO:info@haus-der-zukunft-am-ukb.de
END:VEVENT
BEGIN:VEVENT
DTSTART;TZID=Europe/Berlin:20240228T100000
DTEND;TZID=Europe/Berlin:20240228T183000
DTSTAMP:20260420T165522
CREATED:20231117T113934Z
LAST-MODIFIED:20231117T114420Z
UID:3728-1709114400-1709145000@smart-living-health.de
SUMMARY:#CHB24 - Connected Health Brandenburg 2024
DESCRIPTION:Die Landeskonferenz Digitalisierung im Gesundheitswesen ist im neuen Format als „Connected Health Brandenburg 2024“ (#CHB24) zurück: Wir freuen uns auf eine lebendige und spannende Veranstaltung am 28. Februar 2024\, 10:00 – 18:30 Uhr in Potsdam (Universität Potsdam\, Campus Griebnitzsee) gemeinsam mit Ihnen!  \n\n\nIm Fokus stehen Themen wie die ambulante Digitalisierung\, die Digitalgesetze für bessere Versorgung und Forschung im Gesundheitswesen\, KI in der Medizin sowie die Sicherung der Versorgung im ländlichen Raum und viele mehr. Mit Workshops und innovativen Methoden wie Lego® Serious Play® und Speedmatching werden Vernetzung und praxisorientierter Austausch bei diesem Symposium leicht gemacht und richtig Spaß machen.
URL:https://smart-living-health.de/veranstaltung/chb24-connected-health-brandenburg-2024/
LOCATION:Universität Potsdam\, Campus Griebnitzsee\, Potsdam
CATEGORIES:Konferenz
END:VEVENT
BEGIN:VEVENT
DTSTART;TZID=Europe/Berlin:20240228T150000
DTEND;TZID=Europe/Berlin:20240228T160000
DTSTAMP:20260420T165522
CREATED:20230814T151044Z
LAST-MODIFIED:20240118T144029Z
UID:3566-1709132400-1709136000@smart-living-health.de
SUMMARY:Wie nutze ich das Elektronische Rezept (E-Rezept)?
DESCRIPTION:Bereits seit 2022 ist es möglich\, seine Medikamente ohne Papierrezept zu erhalten. Dafür ist die App „E-Rezept“ der Gematik notwendig. \nMit einem Smartphone kann man bereits die Grundfunktionen ganz einfach auch ohne Anmeldung nutzen. Dazu wird das Rezept einfach mit der Kamera des Handys erfasst. Danach ist es in der App gespeichert und kann in der Apotheke ausgelesen werden. \nDie App hat im Vergleich zur Papiervariante allerdings viele weitere Vorteile\, welche allerdings eine Anmeldung erfordern: So können Sie gleich sehen\, ob und wo bestimmte Medikamente vorrätig sind oder sie bestellt werden müssen. Auch die Bestellung können Sie aus der App heraus veranlassen. Darüber hinaus sind Mehrfachverordnungen möglich\, sodass chronische Patientinnen und Patienten bei Medikamenten\, die sie wiederkehrend und dauerhaft benötigen\, nicht immer bei der Praxis vorstellig werden müssen. \nSie wollen wissen\, wie Sie das E-Rezept nutzen und welche Möglichkeiten damit verbunden sind? Dann melden Sie sich noch heute zu unserer Informationsveranstaltung\, durchgeführt mit der Apotheke am ukb an! \n  \nHier anmelden: \nAnredeFrauHerrDiv  Kontaktmöglichkeit für Rückfragen *Personenzahl				\n													\n				Danke für Ihre Nachricht. Wir haben diese erhalten.×Es ist ein Fehler aufgetreten. Bitte versuchen Sie es erneut.×Jetzt anmelden
URL:https://smart-living-health.de/veranstaltung/wie-nutze-ich-das-elektronische-rezept-e-rezept/
LOCATION:Haus der Zukunft am ukb\, Blumberger Damm 2k\, Berlin\, Berlin\, 12683\, Deutschland
CATEGORIES:Informationsveranstaltung,Vor-Ort-Veranstaltung
ORGANIZER;CN="Smart Living & Health Center e.V.":MAILTO:info@haus-der-zukunft-am-ukb.de
END:VEVENT
END:VCALENDAR