BEGIN:VCALENDAR
VERSION:2.0
PRODID:-//SLHC - ECPv6.15.20//NONSGML v1.0//EN
CALSCALE:GREGORIAN
METHOD:PUBLISH
X-ORIGINAL-URL:https://smart-living-health.de
X-WR-CALDESC:Veranstaltungen für SLHC
REFRESH-INTERVAL;VALUE=DURATION:PT1H
X-Robots-Tag:noindex
X-PUBLISHED-TTL:PT1H
BEGIN:VTIMEZONE
TZID:Europe/Berlin
BEGIN:DAYLIGHT
TZOFFSETFROM:+0100
TZOFFSETTO:+0200
TZNAME:CEST
DTSTART:20230326T010000
END:DAYLIGHT
BEGIN:STANDARD
TZOFFSETFROM:+0200
TZOFFSETTO:+0100
TZNAME:CET
DTSTART:20231029T010000
END:STANDARD
BEGIN:DAYLIGHT
TZOFFSETFROM:+0100
TZOFFSETTO:+0200
TZNAME:CEST
DTSTART:20240331T010000
END:DAYLIGHT
BEGIN:STANDARD
TZOFFSETFROM:+0200
TZOFFSETTO:+0100
TZNAME:CET
DTSTART:20241027T010000
END:STANDARD
BEGIN:DAYLIGHT
TZOFFSETFROM:+0100
TZOFFSETTO:+0200
TZNAME:CEST
DTSTART:20250330T010000
END:DAYLIGHT
BEGIN:STANDARD
TZOFFSETFROM:+0200
TZOFFSETTO:+0100
TZNAME:CET
DTSTART:20251026T010000
END:STANDARD
END:VTIMEZONE
BEGIN:VEVENT
DTSTART;TZID=Europe/Berlin:20240123T100000
DTEND;TZID=Europe/Berlin:20240123T113000
DTSTAMP:20260420T195717
CREATED:20240104T105558Z
LAST-MODIFIED:20240104T105558Z
UID:3831-1706004000-1706009400@smart-living-health.de
SUMMARY:Online: KI im Alltag älterer Menschen
DESCRIPTION:Was steckt hinter dem Begriff Künstliche Intelligenz (KI) und vor allem: Wo treffen ältere Menschen in ihrem Alltag auf Verfahren und Technologien\, die auf KI basieren? Können KI-basierte Systeme zur Lebensqualität im Alter beitragen und welche Chancen und Herausforderungen sind damit verbunden? Das Projekt „KI für ein gutes Altern“ der BAGSO widmet sich diesen und vielen weiteren Fragen zum Themenfeld Künstliche Intelligenz. Ausgangspunkt sind dabei stets die Lebenswelten und Interessen älterer Menschen.
URL:https://smart-living-health.de/veranstaltung/online-ki-im-alltag-aelterer-menschen/
LOCATION:Online
CATEGORIES:Digital,Informationsveranstaltung
END:VEVENT
BEGIN:VEVENT
DTSTART;TZID=Europe/Berlin:20240123T190000
DTEND;TZID=Europe/Berlin:20240123T190000
DTSTAMP:20260420T195717
CREATED:20231219T150131Z
LAST-MODIFIED:20240104T141720Z
UID:3812-1706036400-1706036400@smart-living-health.de
SUMMARY:Stärkung der ambulanten Pflege im Lichte des demographischen Wandels - Parlamentarischer Abend
DESCRIPTION:Es ist der Wunsch der weit überwiegenden Zahl der Menschen auch im Falle von Pflege­bedürftigkeit im vertrauten Umfeld\, zuhause versorgt zu werden. Doch die Zahl der betrof­fenen Menschen wird in den nächsten Jahren aufgrund des demographischen Wandels bedeutend zunehmen. Der Schlüsselwohnbereich für die ambulanten Pflege ist das Badezimmer. Im Rahmen des Parlamentarischen Abends werden wir die Praxis des Sanitärhandwerks beleuchten\, welches jährlich rund eine Million Bäder saniert. Zudem möchten wir die Perspektive der ambulanten Pflege vermitteln\, denn das Badezimmer ist u.a. auch Arbeitsplatz der ambulant Pflegenden und damit ein wichtiger Fokus auf gute Arbeitsbedingungen in der Pflege. \nProgramm\n 19:00 Uhr Prof. Dr. Christel BiensteinPräsidentin Deutscher Berufsverband für Pflegeberufe e. V.\n 19:05 Uhr Michael HilpertPräsident des Zentralverbandes Sanitär Heizung Klima\n 19:15 Uhr Optimierung der Ausführung und Finanzierung von pflegegerechten BädernVorstellung der Studienergebnisse“\n 19:30 Uhr Podiumsdiskussion der Handlungsempfehlungen\nAnmeldung\nAnredeFrauHerrDiv  Kontaktmöglichkeit *Danke für Ihre Nachricht. Wir haben diese erhalten.×Es ist ein Fehler aufgetreten. Bitte versuchen Sie es erneut.×Jetzt anmelden
URL:https://smart-living-health.de/veranstaltung/staerkung-der-ambulanten-pflege-im-lichte-des-demographischen-wandels-parlamentarischer-abend/
LOCATION:Berlin
END:VEVENT
BEGIN:VEVENT
DTSTART;TZID=Europe/Berlin:20240125T143000
DTEND;TZID=Europe/Berlin:20240125T160000
DTSTAMP:20260420T195717
CREATED:20240104T103555Z
LAST-MODIFIED:20240104T103555Z
UID:3829-1706193000-1706198400@smart-living-health.de
SUMMARY:Online: Digitale Gesundheitsanwendungen (DiGA)
DESCRIPTION:In dem wird Frau Dr. Elisabeth Siegmund-Schultze von der DiGA-Finder GmbH vorstellen was Digitale Gesundheitsanwendungen (kurz DiGA) sind und welche verschiedenen Arten es gibt. An einem konkreten Beispiel werden die Vorteile der Nutzung gezeigt.
URL:https://smart-living-health.de/veranstaltung/online-digitale-gesundheitsanwendungen-diga/
LOCATION:Berlin
CATEGORIES:Digital
END:VEVENT
BEGIN:VEVENT
DTSTART;TZID=Europe/Berlin:20240125T150000
DTEND;TZID=Europe/Berlin:20240125T150000
DTSTAMP:20260420T195717
CREATED:20231221T091619Z
LAST-MODIFIED:20240111T110959Z
UID:3816-1706194800-1706194800@smart-living-health.de
SUMMARY:BKG-Fachveranstaltung: Innovativer Hitzeschutz in Gesundheitseinrichtungen
DESCRIPTION:Programm\n 15:00 Uhr Christian GräffGeschäftsführer des Gesundheitscampus am ukb Berlin e. V.\n 15:05 Uhr Marc SchreinerGeschäftsführer der Berliner Krankenhausgesellschaft e. V.\n 15:10 Uhr Dipl.-Ing. Arch. Stefanie MatthysGeschäftsführerin des European Network Architecture for Health | „Bauen für die Gesundheit in Zeiten des Klimawandels“\n 15:40 Uhr Dr. Andrea NakoinzÄrztin\, Klimamanagerin am ukb\, wissenschaftliche Mitarbeiterin im Hitze-Team von KLUG | „Hitzeresiliente Gesundheitseinrichtungen – Warum Klimaanlagen nicht die Lösung sind und was wir stattdessen tun können“\n 16:10 Uhr Podiumsdiskussion Moderation Marc Schreiner | Ellen Haußdörfer\, Staatssekretärin für Gesundheit und Pflege Berlin |PD Dr. med. Peter Bobbert\, Präsident der Ärztekammer Berlin | Dipl.-Ing. Stefanie Matthys\, Architektin\, Geschäftsführerin ENAH | Dr. Andrea Nakoinz\, Ärztin\, Klimamanagerin am ukb\n  \nDie Plätze für die kostenfreie Veranstaltung sind begrenzt!  \nBitte melden Sie sich bis zum 17. Januar 2024 per E-Mail (events@bkgev.de) mit den Angaben zu Institution\, Titel\, Vor- und Nachnamen an.
URL:https://smart-living-health.de/veranstaltung/bkg-fachveranstaltung-innovativer-hitzeschutz-in-gesundheitseinrichtungen/
LOCATION:Haus der Zukunft am ukb\, Blumberger Damm 2k\, Berlin\, Berlin\, 12683\, Deutschland
CATEGORIES:Vor-Ort-Veranstaltung
END:VEVENT
BEGIN:VEVENT
DTSTART;VALUE=DATE:20240130
DTEND;VALUE=DATE:20240201
DTSTAMP:20260420T195717
CREATED:20231116T130404Z
LAST-MODIFIED:20231117T114514Z
UID:3716-1706572800-1706745599@smart-living-health.de
SUMMARY:DER BMC-KONGRESS
DESCRIPTION:WEICHEN FÜR DIE GESUNDHEITSWENDE STELLEN \nLangzeit- statt Kurzzeitperspektive in der Gesundheitspolitik.\nGeschäftsmodelle\, die mit Gesundheit funktionieren.\nEin Gesundheitswesen\, das für die Menschen arbeitet. \nFür eine Gesundheitswende müssen wir eingefahrene Spuren verlassen und neue Wege gehen. Das gelingt nur mit ambitionierten Zielen\, Freiräumen für neue Lösungen und in einer Kultur des Miteinanders. \nFreuen Sie sich auf zwei Tage intensives Netzwerken und spannende Diskussionen mit Entscheidungsträger:innen\, Expert:innen aus Wissenschaft und Versorgung sowie weiteren Partner:innen aus der Gesundheitsbranche zum Auftakt in das gesundheitspolitische Jahr 2024!
URL:https://smart-living-health.de/veranstaltung/der-bmc-kongress/
LOCATION:Langenbeck-Virchow-Haus\, Luisenstr. 58/59\, Berlin\, 10117
CATEGORIES:Kongress,Vor-Ort-Veranstaltung
END:VEVENT
END:VCALENDAR