BEGIN:VCALENDAR
VERSION:2.0
PRODID:-//SLHC - ECPv6.15.20//NONSGML v1.0//EN
CALSCALE:GREGORIAN
METHOD:PUBLISH
X-WR-CALNAME:SLHC
X-ORIGINAL-URL:https://smart-living-health.de
X-WR-CALDESC:Veranstaltungen für SLHC
REFRESH-INTERVAL;VALUE=DURATION:PT1H
X-Robots-Tag:noindex
X-PUBLISHED-TTL:PT1H
BEGIN:VTIMEZONE
TZID:Europe/Berlin
BEGIN:DAYLIGHT
TZOFFSETFROM:+0100
TZOFFSETTO:+0200
TZNAME:CEST
DTSTART:20220327T010000
END:DAYLIGHT
BEGIN:STANDARD
TZOFFSETFROM:+0200
TZOFFSETTO:+0100
TZNAME:CET
DTSTART:20221030T010000
END:STANDARD
BEGIN:DAYLIGHT
TZOFFSETFROM:+0100
TZOFFSETTO:+0200
TZNAME:CEST
DTSTART:20230326T010000
END:DAYLIGHT
BEGIN:STANDARD
TZOFFSETFROM:+0200
TZOFFSETTO:+0100
TZNAME:CET
DTSTART:20231029T010000
END:STANDARD
BEGIN:DAYLIGHT
TZOFFSETFROM:+0100
TZOFFSETTO:+0200
TZNAME:CEST
DTSTART:20240331T010000
END:DAYLIGHT
BEGIN:STANDARD
TZOFFSETFROM:+0200
TZOFFSETTO:+0100
TZNAME:CET
DTSTART:20241027T010000
END:STANDARD
END:VTIMEZONE
BEGIN:VEVENT
DTSTART;VALUE=DATE:20231009
DTEND;VALUE=DATE:20231011
DTSTAMP:20260421T002028
CREATED:20231005T142425Z
LAST-MODIFIED:20231006T065855Z
UID:3635-1696809600-1696982399@smart-living-health.de
SUMMARY:Häuslicher Pflegekongress "LUNA"
DESCRIPTION:Herzlich willkommen bei LUNA – dem Kongress und der zentralen Netzwerkplattform für Leitungskräfte und Geschäftsführungen in der ambulanten Pflege! \nWir freuen uns außerordentlich\, Sie zu diesem innovativen Event in Berlin begrüßen zu dürfen\, bei dem zahlreiche Expertinnen und Experten aus dem Netzwerk der Redaktion “Häusliche Pflege” in vier Vortrags- und Workshopsträngen ihr umfangreiches Fachwissen teilen werden. \nProfitieren Sie von diesem einzigartigen Kongress\, indem Sie sich einen Wissensvorsprung verschaffen\, konkrete Problemlösungen erhalten und Impulse für Ihr Business mitnehmen. Wir haben die Themen gesetzt\, die die Branche bewegen: Personal\, Wirtschaftlichkeit\, Tarifpflicht\, Digitalisierung\, Innovationen\, Pflegequalität und vieles mehr. –
URL:https://smart-living-health.de/veranstaltung/haeuslicher-pflegekongress-luna/
LOCATION:Seminaris CampusHotel\, Takustraße 39\, Berlin\, 14195
CATEGORIES:Kongress,Vor-Ort-Veranstaltung
ORGANIZER;CN="Vincentz Network GmbH & Co. KG":MAILTO:christoph.schulz@vincentz.net
END:VEVENT
BEGIN:VEVENT
DTSTART;TZID=Europe/Berlin:20231011T093000
DTEND;TZID=Europe/Berlin:20231011T123000
DTSTAMP:20260421T002028
CREATED:20230703T105412Z
LAST-MODIFIED:20230824T100236Z
UID:3396-1697016600-1697027400@smart-living-health.de
SUMMARY:Hilfsmittel und Pflegehilfsmittel durch Pflegefachkräfte
DESCRIPTION:Hilfsmittel zur häuslichen Pflege auch ohne ärztliche Verordnung: Das ist seit mehr als einem Jahr möglich. Wir zeigen\, wie man als Pflegefachkraft Hilfsmittel und Pflegehilfsmittel empfehlen kann\, was es zu beachten gilt und wollen uns mit Ihnen zu Ihren Erfahrungen damit austauschen. \nMit dem Gesundheitsversorgungsweiterentwicklungsgesetz wurde erstmalig die Möglichkeit geschaffen\, dass auch Pflegefachkräfte Hilfs- und Pflegehilfsmittel empfehlen können und eine ärztliche Verordnung damit nicht mehr notwendig ist. \nWir zeigen\, wie dies praktisch funktioniert. Vor Ort informieren Sie Sarah Broy\, eine erfahrene Pflegefachkraft und Marc Drieghe\, Ansprechpartner aus dem Bereich der Pflegelogistik. \nAuf einen regen Austausch u.a. über Ihre eigenen Erfahrungen zu dem Verfahren freuen wir uns sehr. \nUnsere Referenten: \n Sarah BroyPflegefachkraft\n Marc Drieghemedisani gmbh\, hat langjährige Erfahrung im Bereich Pflegelogistik\n  \nHier geht’s zur Anmeldung \nAnredeFrauHerrDiv  Danke für Ihre Nachricht. Wir haben diese erhalten.×Es ist ein Fehler aufgetreten. Bitte versuchen Sie es erneut.×Jetzt anmeldenPersonenzahl\n 
URL:https://smart-living-health.de/veranstaltung/hilfsmitteln-und-pflegehilfsmittel-durch-pflegefachkraefte/
LOCATION:Haus der Zukunft am ukb\, Blumberger Damm 2k\, Berlin\, Berlin\, 12683\, Deutschland
CATEGORIES:Pflege,Vor-Ort-Veranstaltung
END:VEVENT
BEGIN:VEVENT
DTSTART;TZID=Europe/Berlin:20231012T100000
DTEND;TZID=Europe/Berlin:20231012T113000
DTSTAMP:20260421T002028
CREATED:20230718T085722Z
LAST-MODIFIED:20230718T111515Z
UID:3461-1697104800-1697110200@smart-living-health.de
SUMMARY:Die elektronische Patientenakte (ePA) - Wie sie funktioniert und welche Vorteile sie hat
DESCRIPTION:Alle Gesundheitsdokumente sicher an einem Ort gespeichert\, den Impfpass oder Medikationsplan jederzeit digital dabei – das ist dank der 2021 eingeführten Elektronischen Patientenakte (ePA) möglich. Sie haben Ihre Gesundheit stets im Blick und Ihre behandelnden Ärzt:innen können sich schnell einen Überblick über vorige Befunde und stattgefundene Behandlungen verschaffen – jedoch nur\, wenn Sie das möchten und die Dokumente zur Einsicht freigeben. \nIn dieser Online-Veranstaltung erfahren Sie\,  was genau sich hinter der elektronischen Patientenakte verbirgt und wie gesetzlich Versicherte sie sicher nutzen können. Außerdem räumt Bérengère Codjo\, ePA-Expertin bei der BARMER\, mit einigen Mythen auf\, die sich rund um die ePA ranken.
URL:https://smart-living-health.de/veranstaltung/die-elektronische-patientenakte-epa-wie-sie-funktioniert-und-welche-vorteile-sie-hat/
LOCATION:Online
CATEGORIES:Digital
END:VEVENT
BEGIN:VEVENT
DTSTART;VALUE=DATE:20231015
DTEND;VALUE=DATE:20231018
DTSTAMP:20260421T002028
CREATED:20230728T112647Z
LAST-MODIFIED:20230728T112647Z
UID:3504-1697328000-1697587199@smart-living-health.de
SUMMARY:WORLD HEALTH SUMMIT 2023
DESCRIPTION:Health for All is the Goal – World Health Summit is the Forum\nThe World Health Summit 2023 from October 15-17 once again brings together stakeholders from politics\, science\, the private sector\, and civil society from around the world in Berlin\, Germany and online. Held under the theme „A Defining Year for Global Health Action“\, WHS 2023 will set the agenda for a healthier future by inspiring innovative solutions for better health and well-being for all.
URL:https://smart-living-health.de/veranstaltung/world-health-summit-2023/
LOCATION:JW Marriott Hotel Berlin\, Stauffenbergstraße 26\, Berlin\, 10785
CATEGORIES:Digital,Konferenz
ORGANIZER;CN="Charit%C3%A9 %E2%80%93 Universit%C3%A4tsmedizin Berlin":MAILTO:carsten.schicker@charite.de
END:VEVENT
BEGIN:VEVENT
DTSTART;TZID=Europe/Berlin:20231017T150000
DTEND;TZID=Europe/Berlin:20231017T180000
DTSTAMP:20260421T002028
CREATED:20221219T155121Z
LAST-MODIFIED:20231016T093342Z
UID:3117-1697554800-1697565600@smart-living-health.de
SUMMARY:Ätherische Öle zur Unterstützung und Begleitung von Demenzerkrankten
DESCRIPTION:Ungefähr 1\,8 Millionen Menschen leiden in Deutschland an dem sogenannten Demenzielen Syndrom.  \nDieser Workshop zeigt\, wie Aromapflege auf verschiedenen Ebenen unterstützen kann\, sich einfach in den Pflegealltag integrieren lässt und dabei die Gedächtnisfähigkeit beeinflusst. Ätherische Öle können bei unterschiedlichen Pflegeproblemen wie Unruhe\, Konzentrationsstörungen\, Hinlauftendenz\, Nervosität\, Störungen im Tag- und Nacht-Rhythmus effektive Helfer sein. Dabei schenkt Aromapflege mit 100% naturreinen Ölen die Möglichkeit zu liebevoller Zuwendung und Lebensfreude\, fördert Vertrauen und Wohlbefinden auf beiden Seiten. \nDatum *13.3.2025 - In Balance - Rituale für mehr Gelassenheit6.5.2025 - Trauer-Verlust- und Sterbebegleitung26.6.2025 - Frisch durch den Sommer9.9.2025 - Pflege zu Hause - Unterstützungsmöglichkeiten durch die Aromapflege16.10.2025 - Aromapflege zur Begleitung bei Demenz27.11.2025 - Zimt und Sterne - mit weihnachtlichen Aromen durch die Adventszeit  AnredeFrauHerrDiv  Kontaktmöglichkeit für Rückfragen *PersonenzahlWas ist Ihr Hintergrund?Was ist Ihr Hintergrund?AusbildungLehrkraftPflegekraftPflegende Angehörigeanderer Hintergrund  Danke für Ihre Nachricht. Wir haben diese erhalten.×Es ist ein Fehler aufgetreten. Bitte versuchen Sie es erneut.×Jetzt anmelden\n  \n     
URL:https://smart-living-health.de/veranstaltung/demenz-einfluss-von-dueften-auf-das-gedaechtnis/
LOCATION:Haus der Zukunft am ukb\, Blumberger Damm 2k\, Berlin\, Berlin\, 12683\, Deutschland
CATEGORIES:Informationsveranstaltung
ORGANIZER;CN="Smart Living & Health Center e.V.":MAILTO:info@haus-der-zukunft-am-ukb.de
END:VEVENT
BEGIN:VEVENT
DTSTART;TZID=Europe/Berlin:20231020T140000
DTEND;TZID=Europe/Berlin:20231020T170000
DTSTAMP:20260421T002028
CREATED:20231012T075836Z
LAST-MODIFIED:20231012T080023Z
UID:3641-1697810400-1697821200@smart-living-health.de
SUMMARY:Weltosteoporosetag - Osteoporose erkennen & behandeln
DESCRIPTION:-Liebe deine Knochen-\n\nVorträge\nErnährungstipps\nTrainingsworkshops\n\n  \nOsteoporose-Sprechstunde in der Poliklinik am ukb \nOsteoporose-Training im Therapiezentrum am ukb
URL:https://smart-living-health.de/veranstaltung/weltosteoporosetag/
LOCATION:Gesundheitszentrum am ukb\, Warener Str\, 1\, Berlin\, 12683
CATEGORIES:Informationsveranstaltung
ORGANIZER;CN="Gesundheitszentrum am ukb":MAILTO:info@therapiezentrum-ukb.de
END:VEVENT
BEGIN:VEVENT
DTSTART;TZID=Europe/Berlin:20231025T180000
DTEND;TZID=Europe/Berlin:20231025T200000
DTSTAMP:20260421T002028
CREATED:20231013T081300Z
LAST-MODIFIED:20231013T081300Z
UID:3651-1698256800-1698264000@smart-living-health.de
SUMMARY:„Humor im Umgang mit Menschen mit Demenz“
DESCRIPTION:Positive Erfahrungen und Momente des Glücks schaffen\nDie Alzheimer-Gesellschaft Baden-Württemberg informiert am 25. Oktober von 18 bis 20 Uhr in einer hybriden Veranstaltung darüber\, wie das Schaffen von humorigen Situationen den Alltag der Betroffenen und ihrer Angehörigen leichter machen und die zwischenmenschliche Verbindung stärken kann.
URL:https://smart-living-health.de/veranstaltung/humor-im-umgang-mit-menschen-mit-demenz/
LOCATION:Online
ORGANIZER;CN="Alzheimer-Gesellschaft Baden-W%C3%BCrttemberg":MAILTO:beratung@alzheimer-bw.de
END:VEVENT
END:VCALENDAR