BEGIN:VCALENDAR
VERSION:2.0
PRODID:-//SLHC - ECPv6.15.20//NONSGML v1.0//EN
CALSCALE:GREGORIAN
METHOD:PUBLISH
X-WR-CALNAME:SLHC
X-ORIGINAL-URL:https://smart-living-health.de
X-WR-CALDESC:Veranstaltungen für SLHC
REFRESH-INTERVAL;VALUE=DURATION:PT1H
X-Robots-Tag:noindex
X-PUBLISHED-TTL:PT1H
BEGIN:VTIMEZONE
TZID:Europe/Berlin
BEGIN:DAYLIGHT
TZOFFSETFROM:+0100
TZOFFSETTO:+0200
TZNAME:CEST
DTSTART:20220327T010000
END:DAYLIGHT
BEGIN:STANDARD
TZOFFSETFROM:+0200
TZOFFSETTO:+0100
TZNAME:CET
DTSTART:20221030T010000
END:STANDARD
BEGIN:DAYLIGHT
TZOFFSETFROM:+0100
TZOFFSETTO:+0200
TZNAME:CEST
DTSTART:20230326T010000
END:DAYLIGHT
BEGIN:STANDARD
TZOFFSETFROM:+0200
TZOFFSETTO:+0100
TZNAME:CET
DTSTART:20231029T010000
END:STANDARD
BEGIN:DAYLIGHT
TZOFFSETFROM:+0100
TZOFFSETTO:+0200
TZNAME:CEST
DTSTART:20240331T010000
END:DAYLIGHT
BEGIN:STANDARD
TZOFFSETFROM:+0200
TZOFFSETTO:+0100
TZNAME:CET
DTSTART:20241027T010000
END:STANDARD
END:VTIMEZONE
BEGIN:VEVENT
DTSTART;VALUE=DATE:20230901
DTEND;VALUE=DATE:20230906
DTSTAMP:20260421T042238
CREATED:20221209T091507Z
LAST-MODIFIED:20221209T091507Z
UID:2938-1693526400-1693958399@smart-living-health.de
SUMMARY:IFA
DESCRIPTION:
URL:https://smart-living-health.de/veranstaltung/ifa/
LOCATION:Messe Berlin
CATEGORIES:Messe,Vor-Ort-Veranstaltung
END:VEVENT
BEGIN:VEVENT
DTSTART;VALUE=DATE:20230905
DTEND;VALUE=DATE:20230906
DTSTAMP:20260421T042238
CREATED:20230706T095326Z
LAST-MODIFIED:20230706T121125Z
UID:3417-1693872000-1693958399@smart-living-health.de
SUMMARY:Netzwerkforum „Gesundheit und Versorgung“
DESCRIPTION:Die Versorgungslandschaft in Deutschland ist im Wandel. Herausforderungen wie u.a. die regionale Verteilung der Versorgungstandorte\, die steigenden Finanzierungsleistungen sowie der Mangel an Fachpersonal beeinflussen die Weiterentwicklung der Gesundheitsversorgung in Deutschland. Des Weiteren spielt das Thema Digitalisierung eine wichtige Rolle. Es besteht die Notwendigkeit\, die IT-Infrastruktur und die Kompetenzen der Mitarbeiterinnen und Mitarbeiter in der Nutzung digitaler Anwendungen auszubauen. \nDiese und viele weitere Themen werden mit allen Teilnehmenden zusammen zu unserem Netzwerkforum Gesundheit und Versorgung einmal näher betrachtet\, um gemeinsam mit allen Akteuren der Versorgungslandschaft in Deutschland die Herausforderungen und Chancen einer zukunftssicheren Versorgung zu diskutieren.
URL:https://smart-living-health.de/veranstaltung/netzwerkforum-gesundheit-und-versorgung/
LOCATION:Salles de Pologne Events & Konferenzen\, Hainstraße 16\, Leipzig\, 04109
CATEGORIES:Netzwerkforum
END:VEVENT
BEGIN:VEVENT
DTSTART;TZID=Europe/Berlin:20230909T100000
DTEND;TZID=Europe/Berlin:20230909T180000
DTSTAMP:20260421T042238
CREATED:20230707T081226Z
LAST-MODIFIED:20230707T081226Z
UID:3427-1694253600-1694282400@smart-living-health.de
SUMMARY:1. Campustag
DESCRIPTION:Auf dem ca. 96ha großen Gesundheitscampus befinden sich neben vier Kliniken\, zwei Hochschulen sowie je einem Gesundheits-\, Zahn- und psychosozialem Zentrum diverse klein- und mittelständische Unternehmen\, Einrichtungen und Institutionen aus dem Gesundheits- und Sozialwesen.\n\n Am 09.09.2023 ab 10 Uhröffnen diese Einrichtungen ihre Tore. Lernen Sie das Gelände und die Einrichtungen auf dem Gesundheitscampus kennen und werden Sie einen Blick hinter die Kulissen.\n\nNeben Besichtigungen der Kliniken und vielen verschiedenen Vorträgen zu spannenden Themen rund um das Thema Gesundheit\, werden wir ein buntes Programm für Sie organisieren. Vom Streichelzoo mit Lamas und Ponys\, Bubblekicker und Karussell für die Kleinen\, bis hin zu geführten Campusrundgängen.\nTermin unbedingt vormerken!
URL:https://smart-living-health.de/veranstaltung/1-campustag/
LOCATION:ukb – Kesselhaus\, Warener Str. 7\, Berlin\, 12683
CATEGORIES:Vor-Ort-Veranstaltung
ATTACH;FMTTYPE=image/jpeg:https://smart-living-health.de/wp-content/uploads/2023/06/Save_HP-Seite001.jpg
ORGANIZER;CN="Gesundheitscampus am ukb Berlin e. V.":MAILTO:info@gesundheitscampus-am-ukb.de
END:VEVENT
BEGIN:VEVENT
DTSTART;TZID=Europe/Berlin:20230912T100000
DTEND;TZID=Europe/Berlin:20230912T150000
DTSTAMP:20260421T042238
CREATED:20230731T092104Z
LAST-MODIFIED:20230731T092104Z
UID:3513-1694512800-1694530800@smart-living-health.de
SUMMARY:Personalbindung im Gesundheitswesen – Strategien gegen Fluktuation und Fachkräftemangel entwickeln
DESCRIPTION:Schon seit Jahren klagt das Gesundheitswesen in Deutschland über Fachkräftemangel. Waren es anfangs noch primär Pflegekräfte\, die fehlten\, geht der Mangel inzwischen weit darüber hinaus und betrifft nahezu alle Berufsgruppen.\nGleichzeitig meinen viele im Gesundheitswesen Tätige\, dass sie ihren Beruf nicht bis zur Rente werden ausüben können. Auch das betrifft längst nicht mehr nur die Pflegekräfte. Nicht wenige sind bereits in andere Berufe abgewandert. Nach einer PWC-Studie könn(t)en 2035 etwa 35 Prozent der offenen Stellen im Gesundheitswesen nicht mehr besetzt werden. Was also tun? \nDie Veranstaltung gibt verschiedene Impulse für die Entwicklung von Strategien gegen Fluktuation und Fachkräftemangel im Gesundheitswesen. Im ersten Teil stehen ein Problemaufriss sowie mögliche Lösungsansätzen und Best-Practice-Beispiele im Vordergrund. Im zweiten Teil arbeiten die Teilnehmenden in Kleingruppen an den Themen „Gewinnung“\, „Bindung“ und „Bildung“ von Fachkräften.
URL:https://smart-living-health.de/veranstaltung/personalbindung-im-gesundheitswesen-strategien-gegen-fluktuation-und-fachkraeftemangel-entwickeln/
LOCATION:Fraunhofer Konferenzzentrum\, Am Mühlenberg 12\, Potsdam- Golm\, 14476
CATEGORIES:Konferenz
END:VEVENT
BEGIN:VEVENT
DTSTART;VALUE=DATE:20230913
DTEND;VALUE=DATE:20230917
DTSTAMP:20260421T042238
CREATED:20221209T091618Z
LAST-MODIFIED:20221209T091618Z
UID:2940-1694563200-1694908799@smart-living-health.de
SUMMARY:RehaCare
DESCRIPTION:Fachmesse für Rehabilitation und Pflege
URL:https://smart-living-health.de/veranstaltung/rehacare/
LOCATION:Düsseldorf
CATEGORIES:Messe,Vor-Ort-Veranstaltung
END:VEVENT
BEGIN:VEVENT
DTSTART;VALUE=DATE:20230919
DTEND;VALUE=DATE:20230921
DTSTAMP:20260421T042238
CREATED:20230814T095941Z
LAST-MODIFIED:20230814T095941Z
UID:3558-1695081600-1695254399@smart-living-health.de
SUMMARY:GESUND­HEITS­WIRT­SCHAFTS­KONGRESS 2023
DESCRIPTION:Der GESUND­­HEITS­­WIRT­­SCHAFTS­­KONGRESS im Spätsommer in Hamburg ist der wichtigste Ort der Begegnung der Unternehmerinnen und Unternehmer sowie Manager­innen und Manager der verschiedenen Bereiche der Zukunftsbranche. Er ist deshalb ein festes Datum im Kalender der Verantwortlichen in der Gesund­heits­wirtschaft und greift die aktuellen Themen auf\, die die Zukunft dieses bedeutenden Wirt­schafts­bereichs bestimmen werden.
URL:https://smart-living-health.de/veranstaltung/gesundheitswirtschaftskongress-2023/
LOCATION:GRAND ELYSÉE HAMBURG HOTEL\, ROTHENBAUMCHAUSSEE 10\, Hamburg\, 20148
CATEGORIES:Kongress
ORGANIZER;CN="WISO HANSE management GmbH":MAILTO:ines.kehrein@gesundheitswirtschaftskongress.de
END:VEVENT
BEGIN:VEVENT
DTSTART;VALUE=DATE:20230919
DTEND;VALUE=DATE:20230923
DTSTAMP:20260421T042238
CREATED:20230127T154508Z
LAST-MODIFIED:20230127T154508Z
UID:3189-1695081600-1695427199@smart-living-health.de
SUMMARY:CMS Berlin
DESCRIPTION:Internationale Fachmesse für Gebäudemanagement und Dienstleistungen
URL:https://smart-living-health.de/veranstaltung/cms-berlin/
LOCATION:Berlin
CATEGORIES:Messe
END:VEVENT
BEGIN:VEVENT
DTSTART;TZID=Europe/Berlin:20230919T093000
DTEND;TZID=Europe/Berlin:20230921T170000
DTSTAMP:20260421T042238
CREATED:20230302T145050Z
LAST-MODIFIED:20230706T093412Z
UID:3233-1695115800-1695315600@smart-living-health.de
SUMMARY:AROMAPFLEGE BASIS-TRAINING - Anwendung ätherischer Öle in Pflege und Therapie
DESCRIPTION:Ätherische Öle werden seit vielen Jahren erfolgreich in der Krankenpflege eingesetzt. Die Anwendung erfolgt über die Nase oder über die Haut als Einreibung\, Massage\, Waschung oder Kompresse. Die verwendeten Essenzen haben sowohl einen pharmakologischen Effekt als auch eine positive Wirkung auf die Psyche. Patient*innen und Pflegepersonal erleben die Kombination aus Duft und Berührung als wahre Bereicherung. \nDas Basis-Training vermittelt Ihnen das Grundlagenwissen auf dem Gebiet der Aromapflege. \nSEMINARINHALTE \n  \nTAG 1 \n\nGeschichte der ätherischen Öle\nÄtherische Öle: Anbau\, Gewinnung und Qualität\nAnwendungsbereiche ätherischer Öle\nEinteilung der Öle in Kopf-\, Herz- und Basisnoten\nMischen und Dosieren\nPRAXIS: Gletscherschock-Massage\n\n  \nTAG 2 \n\nWie funktioniert Riechen? Was passiert beim Riechen mit uns? • Botenstoffausschüttung\, Erinnerungen und Riechtraining\nWichtige psychisch wirksame ätherische Öle\nDie fetten Pflanzenöle – Bio Pflegeöle\nPRAXIS: „HappyMind“-Armmassage\n\n  \nTAG 3 \n\nChemische Inhaltsstoffe ätherischer Öle\nFachgerechte Anwendung ätherischer Öle für Einreibungen\,\nBäder\, Wickel\, Waschungen und Mundpflege\nRichtiger Umgang mit den wichtigsten Therapeutenölen\nStandardmischungen in der Kranken- und Altenpflege\nPRAXIS: Ohrmassage und Herstellen eines Körperöls\n\nWeitere Informationen zur Anmeldung\, Termin und Preisen entnehmen Sie bitte dem Anhang. \nPVL_Bewerbung_Aromapflege Basis-Training_02-2023
URL:https://smart-living-health.de/veranstaltung/aromapflege-basis-training-anwendung-aetherischer-oele-in-pflege-und-therapie/
LOCATION:Haus der Zukunft am ukb\, Blumberger Damm 2k\, Berlin\, Berlin\, 12683\, Deutschland
CATEGORIES:Pflege,Schulung
ORGANIZER;CN="Primavera":MAILTO:info@primaveralife.com
END:VEVENT
BEGIN:VEVENT
DTSTART;TZID=Europe/Berlin:20230920T100000
DTEND;TZID=Europe/Berlin:20230920T163000
DTSTAMP:20260421T042238
CREATED:20230726T133253Z
LAST-MODIFIED:20230726T134938Z
UID:3499-1695204000-1695227400@smart-living-health.de
SUMMARY:Fachtag 2023 – Ältere Menschen und Digitalisierung?! Potenziale und Teilhabechancen
DESCRIPTION:In vielerlei Kontexten wird über den Mehrwert digitaler Technologien und Werkzeuge gesprochen. Mit der Veranstaltung möchten wir Impulse geben\, welche Potenziale sich für das alltägliche Leben älterer Menschen aus der Digitalisierung ergeben können. Wir möchten nicht nur den aktuellen Stand diskutieren\, sondern auch einen Blick in die Zukunft wagen und unterschiedliche Lebensbereiche in den Fokus rücken. \nDabei steht Vielfalt im Alter im Mittelpunkt. Also die vielfältigen Lebensrealitäten\, Bedürfnisse und Teilhabechancen von älteren Menschen: Wann bedeutet digitale Teilhabe auch soziale Teilhabe und was braucht es dazu? \nIn verschiedenen Impulsen werden konkrete Praxisbeispiele\, Anwendungen oder Forschungsprojekte vorgestellt und gleichzeitig auch grundlegende Fragestellungen der Teilhabechancen für und von älteren Menschen diskutiert. \nNach der Veranstaltung werden die einzelnen Beiträge und Präsentationen im Rahmen einer Dokumentation bereitgestellt. Weitere Formate sind möglich.
URL:https://smart-living-health.de/veranstaltung/fachtag-2023-aeltere-menschen-und-digitalisierung-potenziale-und-teilhabechancen/
LOCATION:Townhouse Düsseldorf\, Kolpingsaal\, Bilker Straße 36\, Düsseldorf\, 40213
CATEGORIES:Symposium
ORGANIZER;CN="Kuratorium Deutsche Altershilfe  %E2%80%93 KDA %E2%80%93 gemeinn%C3%BCtzige GmbH":MAILTO:info@forum-seniorenarbeit.de
END:VEVENT
BEGIN:VEVENT
DTSTART;TZID=Europe/Berlin:20230926T160000
DTEND;TZID=Europe/Berlin:20230926T190000
DTSTAMP:20260421T042238
CREATED:20230907T124822Z
LAST-MODIFIED:20230919T091339Z
UID:3598-1695744000-1695754800@smart-living-health.de
SUMMARY:Wie gestalte ich ein pflegegerechtes Bad?
DESCRIPTION:Für ein eigenständiges und selbstbestimmtes Leben in den eignen vier Wänden ist das Badezimmer in vielen Fällen das Nadelöhr. Hier kommt es auf einen barrierefreien Zugang\, die Möglichkeit der pflegeregechten Nutzung und Anpassung an. Gerade im Bestand treten hier Herausforderungen auf: Wie kann eine bodengleiche Dusche im Mehrfamilienhaus ermöglicht werden? Wie können WC und Waschtisch auf unterschiedliche Größen oder die Rollstuhlnutzung eingestellt werden? \nIm Rahmen einer Fachtagnung zeigen wir Lösungen für die Herausforderungen einer pflegerechten Badgestaltung im Bestand. Vor Ort sind Experten aus dem Zentralverband für Sanitär\, Heizung\, Klima\, der Handwerkskammer und der pflegerischen Versorgung. \n \n  \nZur Anmeldung: \nAnredeFrauHerrDiv  BrancheWählen Sie hier aus\, welcher Branche Sie angehören.WohnungswirtschaftHandwerkHerstellerFachhandel  Kontaktmöglichkeit für Rückfragen *PersonenzahlDanke für Ihre Nachricht. Wir haben diese erhalten.×Es ist ein Fehler aufgetreten. Bitte versuchen Sie es erneut.×Jetzt anmelden
URL:https://smart-living-health.de/veranstaltung/bad/
LOCATION:Haus der Zukunft am ukb\, Blumberger Damm 2k\, Berlin\, Berlin\, 12683\, Deutschland
CATEGORIES:Fachtagung,Konferenz,Vor-Ort-Veranstaltung
ORGANIZER;CN="Smart Living & Health Center e.V.":MAILTO:info@haus-der-zukunft-am-ukb.de
END:VEVENT
BEGIN:VEVENT
DTSTART;TZID=Europe/Berlin:20230927T090000
DTEND;TZID=Europe/Berlin:20230927T153000
DTSTAMP:20260421T042238
CREATED:20230717T075357Z
LAST-MODIFIED:20230717T174212Z
UID:3443-1695805200-1695828600@smart-living-health.de
SUMMARY:Gesundheitskongress - Digital
DESCRIPTION:Mutig Mitarbeitende stärken\n– mit Herz und Technik –\n\n\n\n\nSie sind Leitung in der ambulanten / stationären Pflege oder einem anderen Bereich der Sozialwirtschaft? Oder Sie arbeiten als Fachkraft im BGM\, BGF oder Arbeitsschutz? Dann nutzen Sie die Chance\, bei unserem interaktiven\, digitalen Kongress neue Impulse aus dem Projekt pulsnetz MuTiG und durch viele weitere Referent*innen zu erhalten.
URL:https://smart-living-health.de/veranstaltung/gesundheitskongress-digital/
LOCATION:Berlin
CATEGORIES:Digital,Konferenz
END:VEVENT
BEGIN:VEVENT
DTSTART;TZID=Europe/Berlin:20230927T140000
DTEND;TZID=Europe/Berlin:20230927T180000
DTSTAMP:20260421T042238
CREATED:20230731T091739Z
LAST-MODIFIED:20230731T091739Z
UID:3509-1695823200-1695837600@smart-living-health.de
SUMMARY:Clusterkonferenz Gesundheitswirtschaft Berlin-Brandenburg 2023
DESCRIPTION:Liebe Akteure der Gesundheitsregion Berlin-Brandenburg! \nDas Cluster HealthCapital Berlin-Brandenburg lädt Sie am 27.09.2023 herzlich zur Clusterkonferenz Gesundheitswirtschaft 2023 ein. \nDiversität in Gesundheitswesen und -wirtschaft
URL:https://smart-living-health.de/veranstaltung/clusterkonferenz-gesundheitswirtschaft-berlin-brandenburg-2023/
LOCATION:Landesvertretung Brandenburg
CATEGORIES:Konferenz
END:VEVENT
BEGIN:VEVENT
DTSTART;VALUE=DATE:20230928
DTEND;VALUE=DATE:20230930
DTSTAMP:20260421T042238
CREATED:20230706T092548Z
LAST-MODIFIED:20230706T092548Z
UID:3407-1695859200-1696031999@smart-living-health.de
SUMMARY:Reha Symposium der BG Kliniken 2023
DESCRIPTION:Die interdisziplinäre Fach­konferenz zu den Heraus­forderungen und Entwicklungen der berufs­genossenschaft­lichen Rehabilitation findet am 28. und 29. September 2023 in Berlin statt. \nErfahrung von heute – Visionen für morgen \n\nKönnen Robotersysteme die Aufgaben von Therapeutinnen und Therapeuten oder Pflegekräften übernehmen\, wenn es immer schwerer wird\, qualifiziertes Personal zu finden?\nWelche Konzepte müssen entwickelt werden\, um die Rehabilitation von Long-COVID-Erkrankten wirklich nachhaltig voranzutreiben?\n\nDas sind nur zwei der wichtigen Themen\, die beim diesjährigen Reha Symposium der BG Kliniken auf dem Campus des BG Klinikums Unfallkrankenhaus Berlin behandelt werden. Die traditionelle Fachtagung schafft ein Forum für Expertinnen und Experten aus den ärztlichen\, therapeutischen und pflegerischen Bereichen zum aktiven Austausch über verschiedene Aspekte der Rehabilitation Unfallverletzter.
URL:https://smart-living-health.de/veranstaltung/reha-symposium-der-bg-kliniken-2023/
LOCATION:BG Klinikum Unfallkrankenhaus Berlin\, Warener Str. 7\, Berlin\, 12683
END:VEVENT
BEGIN:VEVENT
DTSTART;VALUE=DATE:20230928
DTEND;VALUE=DATE:20230930
DTSTAMP:20260421T042238
CREATED:20230718T125258Z
LAST-MODIFIED:20230718T131447Z
UID:3467-1695859200-1696031999@smart-living-health.de
SUMMARY:DEUTSCHER FACHPFLEGEKONGRESS\, Deutscher OP-Tag
DESCRIPTION:DER BRANCHENTREFF \nfür Fachpflegende aus den Tätigkeitsbereichen \nAnästhesie | Intensivstation | OP | Notaufnahme \n  \nDas Event findet einmal jährlich in Münster statt und wird veranstaltet von der Deutschen Gesellschaft für Fachkrankenpflege und Funktionsdienste e.V. (DGF) mit Unterstützung des Bibliomed Verlags.
URL:https://smart-living-health.de/veranstaltung/deutscher-fachpflegekongress-deutscher-op-tag/
LOCATION:Messe und Congress Centrum\, Halle Münsterland\, Albersloher Weg 32\, Münster\, 48155
CATEGORIES:Konferenz
END:VEVENT
BEGIN:VEVENT
DTSTART;VALUE=DATE:20230928
DTEND;VALUE=DATE:20230930
DTSTAMP:20260421T042238
CREATED:20230731T115120Z
LAST-MODIFIED:20230731T115120Z
UID:3517-1695859200-1696031999@smart-living-health.de
SUMMARY:Deutscher Pflegetag 2023
DESCRIPTION:Der Deutsche Pflegetag fand erstmals im Jahr 2014 statt. Als einzige nationale Veranstaltung wird er direkt von Vertretern der Pflege für Pflegefachpersonen organisiert. Der Deutsche Pflegetag ist in den 10 Jahren seines Bestehens zur zentralen Veranstaltung für die Profession Pflege in Deutschland mit großer medialer und politischer Aufmerksamkeit herangewachsen. Dabei liegt der Fokus des Deutschen Pflegetages auf dem Dialog. \nDie Bundespflegekammer e.V. hat gemeinsam mit den bestehenden Landespflegekammern und dem Deutschen Pflegerat e.V. die zentrale inhaltliche Funktion zur Weiterentwicklung der Pflege in Deutschland inne. Sie schlagen die Mitglieder des Programmbeirats vor und sind Mitausrichter des Kongresses. \nJedes Jahr werden mehrere tausend Teilnehmer:innen aus der Profession\, Politik\, Wirtschaft und Verbänden über die Weiterentwicklung des Berufsbildes Pflege und dessen Rolle in der Gesellschaft vor Ort und virtuell diskutieren und gemeinsame Lösungsansätze zur Bewältigung der Herausforderungen entwickeln.
URL:https://smart-living-health.de/veranstaltung/deutscher-pflegetag-2023/
LOCATION:Messe Berlin
CATEGORIES:Kongress
END:VEVENT
BEGIN:VEVENT
DTSTART;TZID=Europe/Berlin:20230930T100000
DTEND;TZID=Europe/Berlin:20230930T183000
DTSTAMP:20260421T042238
CREATED:20230724T084856Z
LAST-MODIFIED:20230724T084856Z
UID:3487-1696068000-1696098600@smart-living-health.de
SUMMARY:2. Notfallmedizinisches Symposium Berlin-Nordost
DESCRIPTION:Das 2. Notfallmedizinische Symposium ist eine gemeinsame Veranstaltung mit dem Sana Klinikum Lichtenberg und dem BG Klinikum Unfallkrankenhaus Berlin. Nach dem großen Zuspruch im vergangenen Jahr sind Notfallmedizinerinnen und -mediziner sowie Mitarbeiterinnen und Mitarbeiter von Rettungsstellen und Rettungsdiensten wieder herzlich eingeladen.
URL:https://smart-living-health.de/veranstaltung/2-notfallmedizinisches-symposium-berlin-nordost/
LOCATION:Berlin
CATEGORIES:Symposium,Vor-Ort-Veranstaltung
END:VEVENT
END:VCALENDAR