BEGIN:VCALENDAR
VERSION:2.0
PRODID:-//SLHC - ECPv6.15.20//NONSGML v1.0//EN
CALSCALE:GREGORIAN
METHOD:PUBLISH
X-ORIGINAL-URL:https://smart-living-health.de
X-WR-CALDESC:Veranstaltungen für SLHC
REFRESH-INTERVAL;VALUE=DURATION:PT1H
X-Robots-Tag:noindex
X-PUBLISHED-TTL:PT1H
BEGIN:VTIMEZONE
TZID:Europe/Berlin
BEGIN:DAYLIGHT
TZOFFSETFROM:+0100
TZOFFSETTO:+0200
TZNAME:CEST
DTSTART:20220327T010000
END:DAYLIGHT
BEGIN:STANDARD
TZOFFSETFROM:+0200
TZOFFSETTO:+0100
TZNAME:CET
DTSTART:20221030T010000
END:STANDARD
BEGIN:DAYLIGHT
TZOFFSETFROM:+0100
TZOFFSETTO:+0200
TZNAME:CEST
DTSTART:20230326T010000
END:DAYLIGHT
BEGIN:STANDARD
TZOFFSETFROM:+0200
TZOFFSETTO:+0100
TZNAME:CET
DTSTART:20231029T010000
END:STANDARD
BEGIN:DAYLIGHT
TZOFFSETFROM:+0100
TZOFFSETTO:+0200
TZNAME:CEST
DTSTART:20240331T010000
END:DAYLIGHT
BEGIN:STANDARD
TZOFFSETFROM:+0200
TZOFFSETTO:+0100
TZNAME:CET
DTSTART:20241027T010000
END:STANDARD
END:VTIMEZONE
BEGIN:VEVENT
DTSTART;TZID=Europe/Berlin:20230509T160000
DTEND;TZID=Europe/Berlin:20230509T180000
DTSTAMP:20260423T174401
CREATED:20230421T153840Z
LAST-MODIFIED:20230427T110429Z
UID:3286-1683648000-1683655200@smart-living-health.de
SUMMARY:Rettet künstliche Intelligenz unsere Altenpflege?
DESCRIPTION:Digitale Technologie und künstliche Intelligenz könnten den Alltag unseres Pflegepersonals erleichtern und die Situation der pflegebedürftigen Menschen verbessern. Warum nutzen wir das bisher so wenig? \nWas hindert uns daran\, unsere Einrichtungenmit den neuesten Technologien auszustatten? \n\nWas hindert uns daran\, unsere Einrichtungen mit den neuesten Technologien auszustatten?\nHält uns unsere unzureichende technische Infrastruktur vom nächsten Schritt in der digitalisierten Altenpflege ab?\nWas muss sich bei unserer Gesetzgebung\, den Vorgaben der Kranken- und Pflegekassen und bei der Ausbildung unseres Pflegepersonals ändern\, damit wir neue Technologien endlich sinnvoll einsetzen?\n\nDiskutieren Sie mit: \n\nDr. Kathrin Seibert – Universität Bremen\, Institut für Public Health und P¨flegeforschung (IPP)\nSascha Saẞen – Korian ZQM\, Bereichsleitung\nMenia Ettrich – Spitzenverband digitale Gesundheitsversorgung\, AK leiterin für den Bereich DiPA und Digitale Pflege\nVera Led – Nobi\, Leitung DACH\n\n Zur Anmeldung
URL:https://smart-living-health.de/veranstaltung/rettet-kuenstliche-intelligenz-unsere-altenpflege/
LOCATION:Haus der Zukunft am ukb\, Blumberger Damm 2k\, Berlin\, Berlin\, 12683\, Deutschland
CATEGORIES:Konferenz,Pflege,Vor-Ort-Veranstaltung
ORGANIZER;CN="Smart Living & Health Center e.V.":MAILTO:info@haus-der-zukunft-am-ukb.de
END:VEVENT
BEGIN:VEVENT
DTSTART;VALUE=DATE:20230510
DTEND;VALUE=DATE:20230513
DTSTAMP:20260423T174401
CREATED:20230127T153752Z
LAST-MODIFIED:20230127T153752Z
UID:3178-1683676800-1683935999@smart-living-health.de
SUMMARY:Deutscher Wundkongress und Bremer Pflegekongress
DESCRIPTION:Kombikongress mit Fachausstellung für Teilnehmende aus ambulanter\, stationärer und akutklinischer Pflege\, Wundexpert*innen\, Mediziner*innen und Mitarbeitende der Gesundheitsbranche.
URL:https://smart-living-health.de/veranstaltung/deutscher-wundkongress-und-bremer-pflegekongress/
LOCATION:Bremen
CATEGORIES:Konferenz
END:VEVENT
BEGIN:VEVENT
DTSTART;TZID=Europe/Berlin:20230511T083000
DTEND;TZID=Europe/Berlin:20230511T133000
DTSTAMP:20260423T174401
CREATED:20230404T112616Z
LAST-MODIFIED:20230509T092438Z
UID:3270-1683793800-1683811800@smart-living-health.de
SUMMARY:1. Fachtag Adipositas - Verschiedene Aspekte der Adipositaspflege
DESCRIPTION:Starkes Übergewicht – Adipositas – ist eine Zivilisationskrankheit. Es gibt viele Gründe\, warum Menschen über das Normalgewicht hinaus zunehmen und eine Adipositas entwickeln. Häufig sind mehrere Ursachen miteinander verknüpft\, etwa eine hormonelle Störung oder genetische Faktoren. Auch psychische Faktoren haben Einfluss – etwa bei Einsamkeit\, Niederlagen\, Partner- oder Jobverlust oder im Zuge einer handfesten Depression. Essen kann dann die Rolle des Seelentrösters spielen. Man „versüßt“ sich all das Unangenehme des Alltags oder „frisst sie in sich hinein“\, die Sorgen. \nAm 1. Fachtag Adipositas der Renafan GmbH werden verschiedene Aspekte und Blickwinkel auf die „Pandemie der Jetzt-Zeit“ geworfen und mögliche Lösungsansätze in Bezug auf den Pflegealltag diskutiert. \nAnmeldungen unter: https://publish.renafan-akademie.de/LS/77/INF \nFlyer_A5_Adipositas
URL:https://smart-living-health.de/veranstaltung/1-fachtag-adipositas-verschiedene-aspekte-der-adipositaspflege/
LOCATION:Renafan Akademie gGmbH\, Berliner Straße 36/37\, Berlin\, 13507
CATEGORIES:Pflege,Vor-Ort-Veranstaltung
ATTACH;FMTTYPE=application/pdf:https://smart-living-health.de/wp-content/uploads/2023/04/Flyer_A5_1-1.pdf
ORGANIZER;CN="Renafan Akademie":MAILTO:akademie@renafan.de
END:VEVENT
BEGIN:VEVENT
DTSTART;VALUE=DATE:20230523
DTEND;VALUE=DATE:20230526
DTSTAMP:20260423T174401
CREATED:20221209T091329Z
LAST-MODIFIED:20221209T091329Z
UID:2933-1684800000-1685059199@smart-living-health.de
SUMMARY:Eltec 2023
DESCRIPTION:Fachmesse für Elektro- und Energietechnik
URL:https://smart-living-health.de/veranstaltung/eltec-2023/
LOCATION:Nürnberg
CATEGORIES:Messe,Vor-Ort-Veranstaltung
END:VEVENT
BEGIN:VEVENT
DTSTART;TZID=Europe/Berlin:20230531T123000
DTEND;TZID=Europe/Berlin:20230531T200000
DTSTAMP:20260423T174401
CREATED:20230210T082309Z
LAST-MODIFIED:20230210T082309Z
UID:3209-1685536200-1685563200@smart-living-health.de
SUMMARY:4. WIRTSCHAFTSTAG DER METROPOLREGION OST - “GESUNDHEITSVERSORGUNG VON MORGEN”
DESCRIPTION:Der Wirtschaftstag 2023 soll sich den immer wichtiger werdenden Zukunftsfragen der Gesundheits- branche widmen. Fragen nach den Voraussetzungen einer modernen Daseinsversorgung sowie zur medizinischen Versorgung im (ländlichen) Raum rücken angesichts des demografischen und digitalen Wandels immer mehr in den Fokus. Der thematische Schwerpunkt der Veranstaltung liegt deshalb vorrangig in den Bereichen eHealth/Telemedizin und Vernetzung/Kollaboration. \nMit Expertinnen und Experten aus den Bereichen Pflege\, Medizin und eHealth/Technologie\, Unternehmerinnen und Unternehmer sowie Institutionen der Gesundheitswirtschaft\, mit Entscheidungsträgerinnen und Entscheidungsträgern\, mit Versorgerinnen und Versorger aus Berlin und Brandenburg wollen wir zur Gesundheitsversorgung von Morgen in der Metropolregion Ost tagen. \n\n\n\n\nDer diesjährige Wirtschaftstag findet am Mittwoch\, den 31. Mai 2023\, ca. 12:30 – 20 Uhr im Historischen Kesselhaus am UKB statt.
URL:https://smart-living-health.de/veranstaltung/4-wirtschaftstag-der-metropolregion-ost-gesundheitsversorgung-von-morgen/
LOCATION:ukb – Kesselhaus\, Warener Str. 7\, Berlin\, 12683
END:VEVENT
END:VCALENDAR