BEGIN:VCALENDAR
VERSION:2.0
PRODID:-//SLHC - ECPv6.15.20//NONSGML v1.0//EN
CALSCALE:GREGORIAN
METHOD:PUBLISH
X-WR-CALNAME:SLHC
X-ORIGINAL-URL:https://smart-living-health.de
X-WR-CALDESC:Veranstaltungen für SLHC
REFRESH-INTERVAL;VALUE=DURATION:PT1H
X-Robots-Tag:noindex
X-PUBLISHED-TTL:PT1H
BEGIN:VTIMEZONE
TZID:Europe/Berlin
BEGIN:DAYLIGHT
TZOFFSETFROM:+0100
TZOFFSETTO:+0200
TZNAME:CEST
DTSTART:20220327T010000
END:DAYLIGHT
BEGIN:STANDARD
TZOFFSETFROM:+0200
TZOFFSETTO:+0100
TZNAME:CET
DTSTART:20221030T010000
END:STANDARD
BEGIN:DAYLIGHT
TZOFFSETFROM:+0100
TZOFFSETTO:+0200
TZNAME:CEST
DTSTART:20230326T010000
END:DAYLIGHT
BEGIN:STANDARD
TZOFFSETFROM:+0200
TZOFFSETTO:+0100
TZNAME:CET
DTSTART:20231029T010000
END:STANDARD
BEGIN:DAYLIGHT
TZOFFSETFROM:+0100
TZOFFSETTO:+0200
TZNAME:CEST
DTSTART:20240331T010000
END:DAYLIGHT
BEGIN:STANDARD
TZOFFSETFROM:+0200
TZOFFSETTO:+0100
TZNAME:CET
DTSTART:20241027T010000
END:STANDARD
END:VTIMEZONE
BEGIN:VEVENT
DTSTART;TZID=Europe/Berlin:20230309T090000
DTEND;TZID=Europe/Berlin:20230309T160000
DTSTAMP:20260425T223150
CREATED:20221208T163352Z
LAST-MODIFIED:20230223T163342Z
UID:2896-1678352400-1678377600@smart-living-health.de
SUMMARY:Hilfsmittel-Sprechstunde
DESCRIPTION:Ob Pflegebett\, Personenlifter\, Rollstuhl oder Haltegriffe fürs Bad – das alles sind rehatechnische Hilfsmittel\, die den Alltag leichter und vor allem sicherer machen können. Bei der Vielzahl an Möglichkeiten\, verliert man schnell den Überblick. Lassen Sie sich deshalb von unseren Reha-Fachberatern und Fachberaterinnen ausführlich und kostenlos informieren.\nWelche Hilfsmittel werden benötigt\, welchen gesetzlichen Anspruch habe ich und was gibt es darüber hinaus an Hilfsmitteln? Vereinbaren Sie am besten gleich Ihren persönlichen Beratungstermin. \n\n\n Hilfsmittel\, die die Bewegung und Mobilität erleichtern\n Hilfsmittel\, die Sicherheit geben\n Hilfsmittel\, die das Greifen erleichtern\n Hilfsmittel\, die die Orientierung erleichtern\n Hilfsmittel\, die die Pflege erleichtern\n\n\n Jeden 2. Donnerstag im Monat zwischen 09:00-16:00 Uhr\n Anmeldung unter 030/61 79 50 42\n 
URL:https://smart-living-health.de/veranstaltung/hilfsmittel-sprechstunde/
LOCATION:Haus der Zukunft am ukb\, Blumberger Damm 2k\, Berlin\, Berlin\, 12683\, Deutschland
CATEGORIES:Pflege,Sprechstunde,Vor-Ort-Veranstaltung
ORGANIZER;CN="Smart Living & Health Center e.V.":MAILTO:info@haus-der-zukunft-am-ukb.de
END:VEVENT
BEGIN:VEVENT
DTSTART;VALUE=DATE:20230310
DTEND;VALUE=DATE:20230316
DTSTAMP:20260425T223150
CREATED:20230121T080810Z
LAST-MODIFIED:20230121T080810Z
UID:3157-1678406400-1678924799@smart-living-health.de
SUMMARY:Singapur - Ein Blick auf eines der besten Gesundheitssysteme weltweit
DESCRIPTION:Das Gesundheitssystem in Singapur zählt zu den besten weltweit. Im Rahmen einer Delegationsreise  bieten wir einen Blick in ein Land\, in welchem die Digitalisierung viel stärker vorangeschritten ist und in dem die potenziale von Smart Home bereits die Versorgung in der Altenpflege in der Breite konkret verbessern. \nIn einem umfangreichen Programm vor Ort steht die Vernetzung mit Institutionen und Akteuren aus den Bereichen Gesundheits- und Pflegewirtschaft sowie der Immobilien- und Wohnungswirtschaft im Mittelpunkt. \nTeilnehmen können Unternehmen aus den Bereichen der Gesundheits-\, Immobilien- und Wohnungswirtschaft. Melden Sie sich dazu bitte per Mail an office@smart-living-health.de
URL:https://smart-living-health.de/veranstaltung/singapur-ein-blick-auf-eines-der-besten-gesundheitssysteme-weltweit/
LOCATION:Berlin
ORGANIZER;CN="Smart Living & Health Center e.V.":MAILTO:info@haus-der-zukunft-am-ukb.de
END:VEVENT
BEGIN:VEVENT
DTSTART;VALUE=DATE:20230313
DTEND;VALUE=DATE:20230318
DTSTAMP:20260425T223150
CREATED:20221209T090905Z
LAST-MODIFIED:20221209T090905Z
UID:2923-1678665600-1679097599@smart-living-health.de
SUMMARY:ISH - Weltleitmesse für Wasser\, Wärme\, Luft
DESCRIPTION:
URL:https://smart-living-health.de/veranstaltung/ish-weltleitmesse-fuer-wasser-waerme-luft/
LOCATION:Berlin
CATEGORIES:Messe,Vor-Ort-Veranstaltung
END:VEVENT
BEGIN:VEVENT
DTSTART;TZID=Europe/Berlin:20230328T080000
DTEND;TZID=Europe/Berlin:20230330T170000
DTSTAMP:20260425T223150
CREATED:20221209T091005Z
LAST-MODIFIED:20221209T091005Z
UID:2925-1679990400-1680195600@smart-living-health.de
SUMMARY:21. Fachmesse für Elektro\, Energie\, Gebäude und Industrie
DESCRIPTION:
URL:https://smart-living-health.de/veranstaltung/21-fachmesse-fuer-elektro-energie-gebaeude-und-industrie/
LOCATION:Berlin
CATEGORIES:Messe,Vor-Ort-Veranstaltung
END:VEVENT
END:VCALENDAR