BEGIN:VCALENDAR
VERSION:2.0
PRODID:-//SLHC - ECPv6.15.20//NONSGML v1.0//EN
CALSCALE:GREGORIAN
METHOD:PUBLISH
X-WR-CALNAME:SLHC
X-ORIGINAL-URL:https://smart-living-health.de
X-WR-CALDESC:Veranstaltungen für SLHC
REFRESH-INTERVAL;VALUE=DURATION:PT1H
X-Robots-Tag:noindex
X-PUBLISHED-TTL:PT1H
BEGIN:VTIMEZONE
TZID:Europe/Berlin
BEGIN:DAYLIGHT
TZOFFSETFROM:+0100
TZOFFSETTO:+0200
TZNAME:CEST
DTSTART:20220327T010000
END:DAYLIGHT
BEGIN:STANDARD
TZOFFSETFROM:+0200
TZOFFSETTO:+0100
TZNAME:CET
DTSTART:20221030T010000
END:STANDARD
BEGIN:DAYLIGHT
TZOFFSETFROM:+0100
TZOFFSETTO:+0200
TZNAME:CEST
DTSTART:20230326T010000
END:DAYLIGHT
BEGIN:STANDARD
TZOFFSETFROM:+0200
TZOFFSETTO:+0100
TZNAME:CET
DTSTART:20231029T010000
END:STANDARD
BEGIN:DAYLIGHT
TZOFFSETFROM:+0100
TZOFFSETTO:+0200
TZNAME:CEST
DTSTART:20240331T010000
END:DAYLIGHT
BEGIN:STANDARD
TZOFFSETFROM:+0200
TZOFFSETTO:+0100
TZNAME:CET
DTSTART:20241027T010000
END:STANDARD
END:VTIMEZONE
BEGIN:VEVENT
DTSTART;TZID=Europe/Berlin:20230125T110000
DTEND;TZID=Europe/Berlin:20230125T150000
DTSTAMP:20260426T010119
CREATED:20221209T140154Z
LAST-MODIFIED:20230103T092657Z
UID:3073-1674644400-1674658800@smart-living-health.de
SUMMARY:Assistierte Telemedizin für die Versorgung im ländlichen Raum
DESCRIPTION:Fachworkshop zum Thema Assistierte Telemedizin für die Versorgung im ländlichen Raum. \n  \nDie Anmeldung erfolgt über as@evermind.de.
URL:https://smart-living-health.de/veranstaltung/assistierte-telemedizin-fuer-de-versorgung-im-laendichen-raum/
LOCATION:Haus der Zukunft am ukb\, Blumberger Damm 2k\, Berlin\, Berlin\, 12683\, Deutschland
CATEGORIES:Vor-Ort-Veranstaltung
END:VEVENT
END:VCALENDAR