BEGIN:VCALENDAR
VERSION:2.0
PRODID:-//SLHC - ECPv6.15.20//NONSGML v1.0//EN
CALSCALE:GREGORIAN
METHOD:PUBLISH
X-WR-CALNAME:SLHC
X-ORIGINAL-URL:https://smart-living-health.de
X-WR-CALDESC:Veranstaltungen für SLHC
REFRESH-INTERVAL;VALUE=DURATION:PT1H
X-Robots-Tag:noindex
X-PUBLISHED-TTL:PT1H
BEGIN:VTIMEZONE
TZID:Europe/Berlin
BEGIN:DAYLIGHT
TZOFFSETFROM:+0100
TZOFFSETTO:+0200
TZNAME:CEST
DTSTART:20210328T010000
END:DAYLIGHT
BEGIN:STANDARD
TZOFFSETFROM:+0200
TZOFFSETTO:+0100
TZNAME:CET
DTSTART:20211031T010000
END:STANDARD
BEGIN:DAYLIGHT
TZOFFSETFROM:+0100
TZOFFSETTO:+0200
TZNAME:CEST
DTSTART:20220327T010000
END:DAYLIGHT
BEGIN:STANDARD
TZOFFSETFROM:+0200
TZOFFSETTO:+0100
TZNAME:CET
DTSTART:20221030T010000
END:STANDARD
BEGIN:DAYLIGHT
TZOFFSETFROM:+0100
TZOFFSETTO:+0200
TZNAME:CEST
DTSTART:20230326T010000
END:DAYLIGHT
BEGIN:STANDARD
TZOFFSETFROM:+0200
TZOFFSETTO:+0100
TZNAME:CET
DTSTART:20231029T010000
END:STANDARD
END:VTIMEZONE
BEGIN:VEVENT
DTSTART;TZID=Europe/Berlin:20221213T150000
DTEND;TZID=Europe/Berlin:20221213T170000
DTSTAMP:20260426T052109
CREATED:20221208T163619Z
LAST-MODIFIED:20221208T163619Z
UID:2902-1670943600-1670950800@smart-living-health.de
SUMMARY:Workshop - Resilienz in der Pflege
DESCRIPTION:Resilienz ist in der Pflege besonders wichtig\, um sich vor mentaler Überlastung zu schützen. Nicht nur Corona\, Fachkräftemangel\, Überstunden und Einsparmaßnahmen zerren an den Nerven von Pflegekräften. Sie sehen ebenfalls häufig schlimme Verletzungen durch Unfälle\, bekommen das Leid von Patienten/-innen und Angehörigen hautnah mit und müssen stets professionell distanziert bleiben. Auch Personen\, die sich von Schicksalsschlägen erholen wollen\, hilft ein höheres Maß an Resilienz. \nWas Resilienz genau ist\, welche Strategien es zur Stärkung der Psyche gibt sowie Tipps für Ihren Arbeitsalltag erhalten Sie bei unserem „Workshop – Resilienz für Pflegekräfte“ im Smart Living & Health Center im Haus der Zukunft am ukb. \n Andrea FischerKurzinput zur Bedeutung von Resilienz in der Pflege und Angeboten zur Unterstützung. \n Tuula MisfeldAromapflege als Resilienzunterstützung für Pflegekräfte (m/w/d) – inkl. Workshop zur Duftmischung\n  \nEine Anmedlung ist erforderlich unter: info@haus-der-zukunft-am-ukb.de odere unter 030 61795042.
URL:https://smart-living-health.de/veranstaltung/workshop-resilienz-in-der-pflege/
LOCATION:Haus der Zukunft am ukb\, Blumberger Damm 2k\, Berlin\, Berlin\, 12683\, Deutschland
CATEGORIES:Pflege,Vor-Ort-Veranstaltung
END:VEVENT
BEGIN:VEVENT
DTSTART;TZID=Europe/Berlin:20221213T160000
DTEND;TZID=Europe/Berlin:20221213T180000
DTSTAMP:20260426T052109
CREATED:20221209T083527Z
LAST-MODIFIED:20221209T083527Z
UID:2921-1670947200-1670954400@smart-living-health.de
SUMMARY:CoP Pflege und AAL - Netzwerktreffen
DESCRIPTION:Community of Practice: Pflege und AAL\nNetzwerktreffen #3\nAm 13. Dezember von 16.00 – 18.00 Uhr veranstaltet die ZD.B-Themenplattform Digitale Gesundheit/Medizin zusammen mit Bruno Ristok (C&S GmbH) und Peter Kaiser (Kaiser-Amm GmbH) das dritte Netzwerktreffen der „Community of Practice: Pflege und AAL“. Seien Sie mit dabei bei der dritten Veranstaltung und lassen Sie sich über aktuelle Projekte informieren und diskutieren Sie mit uns! Das CoP-Treffen findet online statt und ist für Sie kostenlos.
URL:https://smart-living-health.de/veranstaltung/cop-pflege-und-aal-netzwerktreffen/
LOCATION:Berlin
CATEGORIES:Digital
END:VEVENT
END:VCALENDAR