BEGIN:VCALENDAR
VERSION:2.0
PRODID:-//SLHC - ECPv6.15.20//NONSGML v1.0//EN
CALSCALE:GREGORIAN
METHOD:PUBLISH
X-WR-CALNAME:SLHC
X-ORIGINAL-URL:https://smart-living-health.de
X-WR-CALDESC:Veranstaltungen für SLHC
REFRESH-INTERVAL;VALUE=DURATION:PT1H
X-Robots-Tag:noindex
X-PUBLISHED-TTL:PT1H
BEGIN:VTIMEZONE
TZID:Europe/Berlin
BEGIN:DAYLIGHT
TZOFFSETFROM:+0100
TZOFFSETTO:+0200
TZNAME:CEST
DTSTART:20250330T010000
END:DAYLIGHT
BEGIN:STANDARD
TZOFFSETFROM:+0200
TZOFFSETTO:+0100
TZNAME:CET
DTSTART:20251026T010000
END:STANDARD
BEGIN:DAYLIGHT
TZOFFSETFROM:+0100
TZOFFSETTO:+0200
TZNAME:CEST
DTSTART:20260329T010000
END:DAYLIGHT
BEGIN:STANDARD
TZOFFSETFROM:+0200
TZOFFSETTO:+0100
TZNAME:CET
DTSTART:20261025T010000
END:STANDARD
BEGIN:DAYLIGHT
TZOFFSETFROM:+0100
TZOFFSETTO:+0200
TZNAME:CEST
DTSTART:20270328T010000
END:DAYLIGHT
BEGIN:STANDARD
TZOFFSETFROM:+0200
TZOFFSETTO:+0100
TZNAME:CET
DTSTART:20271031T010000
END:STANDARD
END:VTIMEZONE
BEGIN:VEVENT
DTSTART;TZID=Europe/Berlin:20260429T140000
DTEND;TZID=Europe/Berlin:20260429T160000
DTSTAMP:20260425T155449
CREATED:20260306T110228Z
LAST-MODIFIED:20260420T103732Z
UID:5241-1777471200-1777478400@smart-living-health.de
SUMMARY:Hilfsmittelversorgung im Überblick: Orientierung für die therapeutische Praxis
DESCRIPTION:Der Workshop gibt Therapeutinnen und Therapeuten einen praxisnahen Überblick über die Grundlagen der Hilfsmittelversorgung. Im Fokus stehen zentrale Prinzipien der Versorgung\, Zuständigkeiten sowie wichtige Ansprechpartner und Anlaufstellen für Patientinnen und Patienten. \nZiel ist es\, Sicherheit für kurze Beratungsgespräche im Therapiealltag zu vermitteln: Welche Möglichkeiten gibt es? Wohin können Patientinnen und Patienten verwiesen werden? Und welche Rolle spielen Krankenkassen und andere Akteure im Versorgungsprozess? \nDieser Fachworkshop bietet Orientierung und praktische Tipps\, damit Therapeutinnen und Therapeuten ihre Patientinnen und Patienten künftig noch gezielter informieren und unterstützen können. \n Um Voranmeldung\, bis zum 27.April wird gebeten. Der Workshop findet ab 5 Teilnehmern statt. E-Mail: info@haus-der-zukunft-am-ukb.de Tel: 030 – 6179 5042
URL:https://smart-living-health.de/veranstaltung/hilfsmittelversorgung-im-ueberblick-orientierung-fuer-die-therapeutische-praxis/
LOCATION:Haus der Zukunft am ukb\, Blumberger Damm 2k\, Berlin\, Berlin\, 12683\, Deutschland
CATEGORIES:Workshop
ORGANIZER;CN="Smart Living & Health Center e.V.":MAILTO:info@haus-der-zukunft-am-ukb.de
END:VEVENT
BEGIN:VEVENT
DTSTART;VALUE=DATE:20260505
DTEND;VALUE=DATE:20260508
DTSTAMP:20260425T155449
CREATED:20251212T104428Z
LAST-MODIFIED:20251212T104428Z
UID:5083-1777939200-1778198399@smart-living-health.de
SUMMARY:Pflege Plus
DESCRIPTION:Die Fachmesse PFLEGE PLUS bringt Fachbesuchende mit ausstellenden Unternehmen\, Branchenverbände sowie Expertinnen  und Experten des Pflegemarkts zusammen.
URL:https://smart-living-health.de/veranstaltung/pflege-plus/
LOCATION:Landesmesse Stuttgart GmbH\, Messepiazza 1\, Stuttgart\, 70629
CATEGORIES:Messe
ORGANIZER;CN="Landesmesse Stuttgart":MAILTO:info@messe-stuttgart.de
END:VEVENT
BEGIN:VEVENT
DTSTART;VALUE=DATE:20260507
DTEND;VALUE=DATE:20260508
DTSTAMP:20260425T155449
CREATED:20260205T135931Z
LAST-MODIFIED:20260205T140114Z
UID:5186-1778112000-1778198399@smart-living-health.de
SUMMARY:Digitalforum Gesundheit
DESCRIPTION:Digitalforum Gesundheit 2026\nSouverän\, sicher\, vertraulich: Das deutsche Gesundheitswesen auf dem Weg zum digitalen Champion.
URL:https://smart-living-health.de/veranstaltung/digitalforum-gesundheit/
LOCATION:Design Offices Berlin Humboldthafen\, Alexanderufer 3-7\, Berlin\, 10117
END:VEVENT
BEGIN:VEVENT
DTSTART;TZID=Europe/Berlin:20260509T100000
DTEND;TZID=Europe/Berlin:20260509T150000
DTSTAMP:20260425T155449
CREATED:20251124T190632Z
LAST-MODIFIED:20260204T151352Z
UID:5034-1778320800-1778338800@smart-living-health.de
SUMMARY:Erster Gesundheitstag Marzahn-Hellersdorf
DESCRIPTION:Großer Gesundheitstag auf dem Gesundheitscampus am ukb Berlin \nUnter dem Motto „Unser Gesundheitstag – Vorsorge\, Versorgung\, Pflege und Karriere an einem Ort“ lädt der Gesundheitscampus gemeinsam mit zahlreichen Partnern von 10:00 bis 15:00 Uhr alle Bürgerinnen und Bürger herzlich ein.
URL:https://smart-living-health.de/veranstaltung/erster-gesundheitstag-marzahn-hellersdorf/
LOCATION:Gesundheitscampus am ukb\, Berlin\, 12683
CATEGORIES:Tag der offenen Tür
ORGANIZER;CN="Gesundheitscampus am ukb Berlin e. V.":MAILTO:info@gesundheitscampus-am-ukb.de
END:VEVENT
BEGIN:VEVENT
DTSTART;TZID=Europe/Berlin:20260512T110000
DTEND;TZID=Europe/Berlin:20260512T140000
DTSTAMP:20260425T155449
CREATED:20260324T083642Z
LAST-MODIFIED:20260423T093343Z
UID:5265-1778583600-1778594400@smart-living-health.de
SUMMARY:Pflege im Wandel
DESCRIPTION:Praxis\, Digitalisierung und neue Lösungen im Dialog\n\nWie verändert sich Pflege im Alltag? Wo steht die Praxis heute bei Digitalisierung und unterstützenden Lösungen – und was wird wirklich gebraucht? \nZum Tag der Pflege bringt das Haus der Zukunft Akteur:innen aus Pflege\, Versorgung\, Trägerschaft\, Startups und Innovation zusammen. \nDrei Praxisimpulse aus unterschiedlichen Versorgungsbereichen zeigen\, was bereits funktioniert\, wo Hürden bestehen und welche Lösungen aus Sicht der Praxis sinnvoll sind. Im Anschluss lädt die Veranstaltung zu Austausch\, Begegnung und Gesprächen über konkrete Bedarfe und tragfähige Ansätze für die Versorgung ein. \n\n\nDie Veranstaltung richtet sich an Akteur:innen aus Pflege\, Versorgung\, Medizin\, Trägerschaft sowie an Startups und Projekte\, die neue Lösungen für die Pflege entwickeln. Gerade deshalb ist uns die Perspektive der Praxis besonders wichtig. \n\n Agendaentwurf*\n– \n11:00 Uhr Ankommen und Begrüßung \n\nVorstellung und Einführung zum Ziel der Veranstaltung: Praxis\, Bedarf und neue Lösungen in einen gemeinsamen Dialog zu bringen. \n\n11:15 Uhr Praxisimpulse: Wo steht die Pflege in der Digitalisierung? \n\n\nTagesklinik: Wie digital ist der Versorgungsalltag heute? (Arona Kliniken) \n\n\nAmbulanter Pflegedienst: Wo entlasten digitale Lösungen tatsächlich – wo ist der Mensch „unumgänglich“? (Martina Müller-Claud\, GF und PDL\, Gesundheitspflege Helle-Mitte GmbH) \n\n\nStationäre Einrichtung: Was funktioniert bereits und wo bestehen weiterhin Lücken? (Sascha Saßen\, GF hesena Gruppe) \n\n\n11:45 Uhr Gemeinsame Gesprächsrunde / Q&A \n12:30 Uhr Netzwerk / Austausch / Markt der Möglichkeiten / Mittagssnack \n14:00 Uhr Ende  \n— \nEinladung_PFLEGE IM WANDEL \n*Änderungen sind jederzeit möglich. \n\n**Diese Veranstaltung ist eine Zusammenarbeit von der Digital Care Solutions und dem Smart Living & Health Center e. V. \n\n Um Voranmeldung wird gebeten: \nKaren Janda  janda@smart-living-health.de Tel: 030 – 6179 5042 \nJulia Backhaus julia.backhaus@digitalcaresolutions.de
URL:https://smart-living-health.de/veranstaltung/pflege-im-wandel/
LOCATION:Haus der Zukunft am ukb\, Blumberger Damm 2k\, Berlin\, Berlin\, 12683\, Deutschland
CATEGORIES:Netzwerkforum
ORGANIZER;CN="Smart Living & Health Center e.V.":MAILTO:info@haus-der-zukunft-am-ukb.de
END:VEVENT
BEGIN:VEVENT
DTSTART;VALUE=DATE:20260518
DTEND;VALUE=DATE:20260523
DTSTAMP:20260425T155449
CREATED:20260204T153606Z
LAST-MODIFIED:20260421T094706Z
UID:5171-1779062400-1779494399@smart-living-health.de
SUMMARY:Woche der pflegenden Angehörigen
DESCRIPTION:Die Woche der pflegenden Angehörigen im Haus der Zukunft am ukb bietet Raum für Information\, Austausch und Entlastung – mit einem Tag der offenen Tür\, Impulsen zu Transfer und Erholung\, musikalischen Angeboten sowie praktischen Einblicken in technische Unterstützung für den Pflegealltag und das eigene Zuhause. \n Programm*\n– \nMo\, 18. Mai 2026 – 10:00 -15:00 Uhr  \nTag der offenen Tür im Beratungszentrum Pflege und Soziales.  \n10:00 Uhr: Was heißt „Pflegebedürftigkeit“ und wann erhalte ich einen Pflegegrad? (Grit Churfürst\, Berliner Pflegestützpunkte) \n13:00 Uhr: Vorsorgevollmacht oder Betreuung? Was brauche ich? (Herr Gallmeister\, Betreuungsbehörde Bezirksamt Marzahn-Hellersdorf) \n— \nDie\, 19. Mai  2026 – 10:00 Uhr  \nTransfer für pflegende Angehörige. (Matthias Schwarz\, etac) \nIn diesem praxisnahen Workshop lernen pflegende Angehörige\, wie sie ihre Liebsten sicher und rückenschonend beim Aufstehen\, Hinsetzen oder Umlagern unterstützen können. Mit einfachen Techniken und Tipps für den Alltag stärken Sie Ihre eigene Gesundheit und erleichtern die Pflege. \n— \nMi\, 20. Mai 2026 – 10:00 Uhr  \nReisemöglichkeiten für Menschen mit Beeinträchtigungen – was ist zu beachten? (Stefan Frhr. von Schlotheim\, FDS Hotel gGmbH)\nErhalten Sie einen Einblick\, worauf es bei der Reiseplanung für Menschen mit Beeinträchtigungen besonders ankommt. \nDabei geht es unter anderem um Fragen wie: \n\nWelches Reiseziel ist geeignet?\nWie kann die An- und Abreise organisiert werden?\nWie lässt sich die Versorgung einer pflegebedürftigen Person sicherstellen?\nWelche räumlichen Voraussetzungen sowie Hilfsmittel sollten vor Ort vorhanden sein?\n\nAnhand dieser Aspekte stellt er außerdem zwei barrierefreie Hotels der Fürst Donnersmarck-Stiftung vor. \n— \nDo\, 21. Mai 2026 – 10:00 Uhr  \nEin mobiler Werkzeugkasten für kleine Glücksmomente im Pflegealltag. (Juliane Bahr & Christiane Klinger\, Kontaktstelle PflegeEngagement) \nEinfache Dinge\, die den Alltag ein Stück heller machen. \n\nRiechen & Schmecken\nTasten & Fühlen\nSehen & Erinnern\nHörne & Klingen\nBewegung & Aktivierung\n\n— \nFr\, 22. Mai 2026 – 10:00 Uhr (hybrid) \nTechnische Unterstützung für Angehörige im eigenen Zuhause \nPflegende Angehörige stehen im Alltag oft vor großen organisatorischen und körperlichen Herausforderungen. Technische Lösungen können dabei helfen\, Sicherheit zu erhöhen\, Entlastung zu schaffen und ein möglichst selbstständiges Leben in den eigenen vier Wänden zu unterstützen. \nThemen u. a.: \n\n\nTechnische Unterstützung im Pflegealltag \n\n\nMehr Sicherheit und Orientierung im eigenen Zuhause \n\n\nEntlastung für pflegende Angehörige \n\n\nBeratung\, Umsetzung und praktische Beispiele aus der Praxis \n\n\n— \nFlyer_Woche der pflegenden Angehörigen \n*Änderungen sind jederzeit möglich. \n**Die Veranstaltungen im Rahmen der Themenwochen sind eine Zusammenarbeit vom Smart Living & Health Center e. V. und der Kontaktstelle PflegeEngagement Marzahn-Hellersdorf. Sie finden im Haus der Zukunft am ukb im 1. OG statt. \n📌 Um Voranmeldung wird gebeten:✉️ E-Mail: info@haus-der-zukunft-am-ukb.de📞 Tel: 030 – 6179 5042 \n \n 
URL:https://smart-living-health.de/veranstaltung/woche-der-pflegenden-angehoerigen/
LOCATION:Haus der Zukunft am ukb\, Blumberger Damm 2k\, Berlin\, Berlin\, 12683\, Deutschland
CATEGORIES:Themenwoche
END:VEVENT
BEGIN:VEVENT
DTSTART;TZID=Europe/Berlin:20260528T160000
DTEND;TZID=Europe/Berlin:20260528T180000
DTSTAMP:20260425T155449
CREATED:20251216T111839Z
LAST-MODIFIED:20251216T111839Z
UID:5105-1779984000-1779991200@smart-living-health.de
SUMMARY:Aromapflege: Frisch durch den Sommer
DESCRIPTION:Frisch durch den Sommer – Welche Anwendungsmöglichkeiten bietet die Aromapflege? \n  \n Um Voranmeldung wird gebeten. Der Workshop findet ab 5 TN statt. \n E-Mail: info@haus-der-zukunft-am-ukb.de Tel: 030 – 6179 5042
URL:https://smart-living-health.de/veranstaltung/aromapflege-frisch-durch-den-sommer/
LOCATION:Haus der Zukunft am ukb\, Blumberger Damm 2k\, Berlin\, Berlin\, 12683\, Deutschland
CATEGORIES:Workshop
ORGANIZER;CN="Primavera":MAILTO:info@primaveralife.com
END:VEVENT
BEGIN:VEVENT
DTSTART;VALUE=DATE:20260622
DTEND;VALUE=DATE:20260627
DTSTAMP:20260425T155449
CREATED:20260305T101739Z
LAST-MODIFIED:20260323T100010Z
UID:5237-1782086400-1782518399@smart-living-health.de
SUMMARY:Woche der Gesundheit
DESCRIPTION:Gesundheit hat viele Facetten. In unserer Woche der Gesundheit erwartet Sie ein abwechslungsreiches Programm mit Informationen\, praktischen Impulsen und Gelegenheit zum Austausch. \nFreuen Sie sich auf spannende Veranstaltungen zu Themen wie Herz- und Kreislaufgesundheit\, Schlaganfallprävention\, Gesundheitsförderung mit Aromatherapie sowie Einblicke in die Angebote der modernen Apotheke. Außerdem stellt sich die Deutsche Rheuma-Liga Berlin e. V. mit ihrer Arbeit und ihren Unterstützungsangeboten vor. \n Programmentwurf*\n– \nMo\, 22. Juni 2026 – 10:00 Uhr  \nÜberblick Herz- Kreislauf-Gesundheit (Dr. Niefer\, ARONA Klinik) \nDetails folgen. \n— \nDie\, 23. Juni  2026 – 10:00 Uhr  \nSchlaganfallprävention (Christiane Klinger\, Kontaktstelle PflegeEngagement Marzahn-Hellersdorf) \nDetails folgen. \n— \nMi\, 24. Juni 2026 – 10:00 Uhr  \nAromapflege für psychisches und physisches Wohlbefinden (Annette Last\, Primavera)\nDetails folgen \n— \nDo\, 25. Juni 2026 – 10:00 Uhr  \nDetails folgen. \n— \nFr\, 26. Juni 2026 – 10:00 Uhr  \nDie Rheuma Liga Berlin e. V. stellt sich und ihre Angebote vor.  \n  \n— \n*Änderungen sind jederzeit möglich. \n**Die Veranstaltungen im Rahmen der Themenwochen sind eine Zusammenarbeit vom Smart Living & Health Center e. V. und der Kontaktstelle PflegeEngagement Marzahn-Hellersdorf. Sie finden im Haus der Zukunft am ukb im 1. OG statt. \n📌 Um Voranmeldung wird gebeten:✉️ E-Mail: info@haus-der-zukunft-am-ukb.de📞 Tel: 030 – 6179 5042 \n \n 
URL:https://smart-living-health.de/veranstaltung/woche-der-gesundheit/
LOCATION:Haus der Zukunft am ukb\, Blumberger Damm 2k\, Berlin\, Berlin\, 12683\, Deutschland
CATEGORIES:Informationsveranstaltung,Themenwoche
ORGANIZER;CN="Smart Living & Health Center e.V.":MAILTO:info@haus-der-zukunft-am-ukb.de
END:VEVENT
BEGIN:VEVENT
DTSTART;VALUE=DATE:20260623
DTEND;VALUE=DATE:20260625
DTSTAMP:20260425T155449
CREATED:20251212T104812Z
LAST-MODIFIED:20251212T104812Z
UID:5085-1782172800-1782345599@smart-living-health.de
SUMMARY:EXPO LIVING & CARE
DESCRIPTION:Der Strategiekongress für Betreiber\, Planer und Investoren ist die einzigartige Gelegenheit… \n… konkrete Strategien aus der Krise zu finden und zu diskutieren\n… sich über innovative Ansätze zu informieren\n… wichtige Kontakte zu knüpfen\n… gemeinsam die Weichen für eine erfolgreiche Zukunft in der Altenpflege zu stellen!
URL:https://smart-living-health.de/veranstaltung/expo-living-care-2/
LOCATION:Estrel Berlin\, Sonnenallee 225\, Berlin\, 12057
CATEGORIES:Kongress
ORGANIZER;CN="Vincentz Network GmbH & Co. KG":MAILTO:christoph.schulz@vincentz.net
END:VEVENT
BEGIN:VEVENT
DTSTART;VALUE=DATE:20260623
DTEND;VALUE=DATE:20260626
DTSTAMP:20260425T155449
CREATED:20251216T113600Z
LAST-MODIFIED:20251216T113600Z
UID:5109-1782172800-1782431999@smart-living-health.de
SUMMARY:HSK 2026
DESCRIPTION:
URL:https://smart-living-health.de/veranstaltung/hsk-2026/
LOCATION:HUB27 Messe Berlin\, Jafféstraße 2\, Berlin\, 14055
CATEGORIES:Kongress
END:VEVENT
BEGIN:VEVENT
DTSTART;VALUE=DATE:20260910
DTEND;VALUE=DATE:20260911
DTSTAMP:20260425T155449
CREATED:20260205T140416Z
LAST-MODIFIED:20260205T140416Z
UID:5189-1788998400-1789084799@smart-living-health.de
SUMMARY:Kongress für Prävention und Langlebigkeit
DESCRIPTION:
URL:https://smart-living-health.de/veranstaltung/kongress-fuer-praevention-und-langlebigkeit/
LOCATION:Berlin
CATEGORIES:Kongress
END:VEVENT
BEGIN:VEVENT
DTSTART;VALUE=DATE:20260922
DTEND;VALUE=DATE:20260926
DTSTAMP:20260425T155449
CREATED:20260324T112402Z
LAST-MODIFIED:20260324T112402Z
UID:5270-1790035200-1790380799@smart-living-health.de
SUMMARY:Woche der Demenz
DESCRIPTION:Demenz betrifft viele Menschen – Erkrankte wie Angehörige – und stellt den Alltag oft vor große Herausforderungen\, macht aber zugleich deutlich\, wie wichtig Verständnis\, Unterstützung und passende Angebote sind. \nIm Rahmen der bundesweiten Woche der Demenz im September lädt auch das Haus der Zukunft am ukb zu informativen und praxisnahen Veranstaltungen ein – mit Vorträgen der Alzheimer Gesellschaft\, Einblicken in Wohnformen für Menschen mit Demenz sowie Angeboten der Aromatherapie. \n Programmentwurf*\n– \nDie\, 22. September 2026 – 10:00 Uhr  \nDemenz – Eine Einführung (Andrea von der Heydt\, Alzheimer Gesellschaft Berlin e. V.) \nDetails folgen. \n— \nMi\, 23. September 2026 – 14:00 Uhr  \nAromapflege zur Begleitung bei Demenz (Annette Last\, Primavera)\nDetails folgen \n— \nDo\, 24. September 2026 – 10:00 Uhr  \nDetails folgen. \n— \nFr\, 25. September 2026 – 10:00 Uhr  \nDetails folgen. \n  \n— \n*Änderungen sind jederzeit möglich. \n**Die Veranstaltungen im Rahmen der Themenwochen sind eine Zusammenarbeit vom Smart Living & Health Center e. V. und der Kontaktstelle PflegeEngagement Marzahn-Hellersdorf. Sie finden im Haus der Zukunft am ukb im 1. OG statt. \n📌 Um Voranmeldung wird gebeten:✉️ E-Mail: info@haus-der-zukunft-am-ukb.de📞 Tel: 030 – 6179 5042 \n \n 
URL:https://smart-living-health.de/veranstaltung/woche-der-demenz/
LOCATION:Haus der Zukunft am ukb\, Blumberger Damm 2k\, Berlin\, Berlin\, 12683\, Deutschland
CATEGORIES:Themenwoche
ORGANIZER;CN="Smart Living & Health Center e.V.":MAILTO:info@haus-der-zukunft-am-ukb.de
END:VEVENT
BEGIN:VEVENT
DTSTART;VALUE=DATE:20260923
DTEND;VALUE=DATE:20260927
DTSTAMP:20260425T155449
CREATED:20251212T111754Z
LAST-MODIFIED:20251212T111754Z
UID:5087-1790121600-1790467199@smart-living-health.de
SUMMARY:REHACARE
DESCRIPTION:Internationale Fachmesse für Rehabilitation\, Prävention\, Inklusion und Pflege
URL:https://smart-living-health.de/veranstaltung/rehacare-2/
LOCATION:Messe Düsseldorf\, Stockumer Kirchstraße 61\, Düsseldorf\, 40474
CATEGORIES:Messe
ORGANIZER;CN="Messe D%C3%BCsseldorf":MAILTO:info@messe-duesseldorf.de
END:VEVENT
BEGIN:VEVENT
DTSTART;VALUE=DATE:20261116
DTEND;VALUE=DATE:20261120
DTSTAMP:20260425T155449
CREATED:20251216T095803Z
LAST-MODIFIED:20251216T095803Z
UID:5097-1794787200-1795132799@smart-living-health.de
SUMMARY:MEDICA
DESCRIPTION:
URL:https://smart-living-health.de/veranstaltung/medica-4/
LOCATION:Messe Düsseldorf\, Stockumer Kirchstraße 61\, Düsseldorf\, 40474
CATEGORIES:Messe
END:VEVENT
BEGIN:VEVENT
DTSTART;TZID=Europe/Berlin:20261124T160000
DTEND;TZID=Europe/Berlin:20261124T180000
DTSTAMP:20260425T155449
CREATED:20251216T112347Z
LAST-MODIFIED:20251216T112347Z
UID:5107-1795536000-1795543200@smart-living-health.de
SUMMARY:Aromaworkshop: Zimt und Sterne
DESCRIPTION:Zimt und Sterne – mit weihnachtlichen Düften gesund durch die Adventszeit. \n  \n Um Voranmeldung wird gebeten. Der Workshop findet ab 5 TN statt: E-Mail: info@haus-der-zukunft-am-ukb.de Tel: 030 – 6179 5042
URL:https://smart-living-health.de/veranstaltung/aromaworkshop-zimt-und-sterne/
LOCATION:Haus der Zukunft am ukb\, Blumberger Damm 2k\, Berlin\, Berlin\, 12683\, Deutschland
CATEGORIES:Workshop
ORGANIZER;CN="Primavera":MAILTO:info@primaveralife.com
END:VEVENT
END:VCALENDAR