BEGIN:VCALENDAR
VERSION:2.0
PRODID:-//SLHC - ECPv6.15.20//NONSGML v1.0//EN
CALSCALE:GREGORIAN
METHOD:PUBLISH
X-WR-CALNAME:SLHC
X-ORIGINAL-URL:https://smart-living-health.de
X-WR-CALDESC:Veranstaltungen für SLHC
REFRESH-INTERVAL;VALUE=DURATION:PT1H
X-Robots-Tag:noindex
X-PUBLISHED-TTL:PT1H
BEGIN:VTIMEZONE
TZID:Europe/Berlin
BEGIN:DAYLIGHT
TZOFFSETFROM:+0100
TZOFFSETTO:+0200
TZNAME:CEST
DTSTART:20240331T010000
END:DAYLIGHT
BEGIN:STANDARD
TZOFFSETFROM:+0200
TZOFFSETTO:+0100
TZNAME:CET
DTSTART:20241027T010000
END:STANDARD
BEGIN:DAYLIGHT
TZOFFSETFROM:+0100
TZOFFSETTO:+0200
TZNAME:CEST
DTSTART:20250330T010000
END:DAYLIGHT
BEGIN:STANDARD
TZOFFSETFROM:+0200
TZOFFSETTO:+0100
TZNAME:CET
DTSTART:20251026T010000
END:STANDARD
BEGIN:DAYLIGHT
TZOFFSETFROM:+0100
TZOFFSETTO:+0200
TZNAME:CEST
DTSTART:20260329T010000
END:DAYLIGHT
BEGIN:STANDARD
TZOFFSETFROM:+0200
TZOFFSETTO:+0100
TZNAME:CET
DTSTART:20261025T010000
END:STANDARD
END:VTIMEZONE
BEGIN:VEVENT
DTSTART;TZID=Europe/Berlin:20251008T100000
DTEND;TZID=Europe/Berlin:20251008T120000
DTSTAMP:20260421T054220
CREATED:20250701T102312Z
LAST-MODIFIED:20250925T103452Z
UID:4792-1759917600-1759924800@smart-living-health.de
SUMMARY:Onlinebanking einfach erklärt
DESCRIPTION:Onlinebanking bietet älteren Menschen viele praktische Vorteile im Alltag. Es ermöglicht ihnen\, Bankgeschäfte bequem von zu Hause aus zu erledigen – ohne lange Wege oder Wartezeiten in der Filiale. Rechnungen können einfach per Mausklick bezahlt\, Kontostände jederzeit überprüft und Überweisungen schnell erledigt werden. Dank benutzerfreundlicher Oberflächen und Sicherheitsfunktionen wie TAN-Verfahren oder Gesichtserkennung ist das Onlinebanking heute auch für Einsteiger gut zugänglich. Viele Banken bieten zudem Schulungen oder telefonischen Support an\, um Senioren den Einstieg zu erleichtern. \nBankfilialen sind nicht mehr immer fußläufig erreichbar. Doch nicht nur deswegen\, hat Onlinebanking viele Vorteile. \nGemeinsam mit Marco Jäkel\, von der Berliner Sparkasse zeigen wir im Rahmen dieser Informationsveranstaltung wie Kontoauszug und Überweisung von zuhause aus funktionieren und wie man die Voraussetzungen dafür schafft. \n\n\nUm Voranmeldung wird gebeten!\nEmail: info@haus-der-zukunft-am-ukb.de\nTel: 030-6179 5042
URL:https://smart-living-health.de/veranstaltung/onlinebanking/
LOCATION:Haus der Zukunft am ukb\, Blumberger Damm 2k\, Berlin\, Berlin\, 12683\, Deutschland
CATEGORIES:Informationsveranstaltung,Vor-Ort-Veranstaltung
END:VEVENT
END:VCALENDAR