BEGIN:VCALENDAR
VERSION:2.0
PRODID:-//SLHC - ECPv6.15.20//NONSGML v1.0//EN
CALSCALE:GREGORIAN
METHOD:PUBLISH
X-WR-CALNAME:SLHC
X-ORIGINAL-URL:https://smart-living-health.de
X-WR-CALDESC:Veranstaltungen für SLHC
REFRESH-INTERVAL;VALUE=DURATION:PT1H
X-Robots-Tag:noindex
X-PUBLISHED-TTL:PT1H
BEGIN:VTIMEZONE
TZID:Europe/Berlin
BEGIN:DAYLIGHT
TZOFFSETFROM:+0100
TZOFFSETTO:+0200
TZNAME:CEST
DTSTART:20240331T010000
END:DAYLIGHT
BEGIN:STANDARD
TZOFFSETFROM:+0200
TZOFFSETTO:+0100
TZNAME:CET
DTSTART:20241027T010000
END:STANDARD
BEGIN:DAYLIGHT
TZOFFSETFROM:+0100
TZOFFSETTO:+0200
TZNAME:CEST
DTSTART:20250330T010000
END:DAYLIGHT
BEGIN:STANDARD
TZOFFSETFROM:+0200
TZOFFSETTO:+0100
TZNAME:CET
DTSTART:20251026T010000
END:STANDARD
BEGIN:DAYLIGHT
TZOFFSETFROM:+0100
TZOFFSETTO:+0200
TZNAME:CEST
DTSTART:20260329T010000
END:DAYLIGHT
BEGIN:STANDARD
TZOFFSETFROM:+0200
TZOFFSETTO:+0100
TZNAME:CET
DTSTART:20261025T010000
END:STANDARD
END:VTIMEZONE
BEGIN:VEVENT
DTSTART;TZID=Europe/Berlin:20250924T100000
DTEND;TZID=Europe/Berlin:20250924T140000
DTSTAMP:20260421T042558
CREATED:20250604T094552Z
LAST-MODIFIED:20250917T125051Z
UID:4763-1758708000-1758722400@smart-living-health.de
SUMMARY:Demenz bewegt:  Verstehen - Begleiten - Handeln
DESCRIPTION:Demenz betrifft uns alle – ein Tag für Begegnung und Wissen. \nDemenz betrifft viele – und wir alle können dazu beitragen\, Alltag und Begleitung besser zu gestalten.Im Rahmen dieses Fachtages erhalten Sie einen verständlichen Einblick in das Krankheitsbild und lernen\, wie Sie Menschen mit Demenz sicher und einfühlsam begleiten können. \nWir sprechen über:🔹 Grundlagen & Veränderungen bei Demenz🔹 Praktische Alltagshilfen für Angehörige und Pflegende🔹 Reisen & Mobilität trotz Diagnose🔹 Technische Unterstützung und kleine Helfer für Zuhause \n— \n Vortragsprogramm*\n10:00 – 11:30 Uhr „Leben mit einer demenziellen Erkrankung? – eine Einführung.“ Andrea von der Heydt (Alzheimer Gesellschaft Berlin e. V.) \n12:00 Uhr  „Ein Überblick über Wohn- und Betreungsformen“ Katrin Bronsert (PDL Amb. Pflege + Leitung Wohngemeinschaften\, Berlin- Buch\, Renafan GmbH) \n13:00 Uhr „Reisen mit Demenz – ein Überblick“ Sascha Hannemann (Alzheimer Angehörigen-Initiative e.V.) \n14:00 Uhr „Möglichkeiten der technischen Unterstützung bei dementiell erkranken Menschen“ Axel Albrecht (Assisted Home Solution GmbH ) \n*wird fortlaufend aktualisiert! \n— \n✨ Begleitende Fotoausstellung von Kento Tamakoshi – „Demenz neu sehen / Unscharf“ ✨ \nErinnerungen müssen nicht immer scharf sein\, um Bedeutung zu haben. Im Fragmentarischen liegt eine besondere Schönheit – Unschärfe schafft Raum für Herz und Gegenwart. Erleben Sie eine Premiere im Haus der Zukunft – Die unbearbeiteten Fotografien von Kento Tamakoshi\, aufgenommen mit einer alten Filmkamera\, machen diese Idee eindrucksvoll sichtbar. \n📸 Die Ausstellung ist ein neuer Weg\, das Thema Demenz erlebbar zu machen. \n— \nMit Raum für Austausch\, Fragen und hilfreichen Tipps für mehr Sicherheit\, Selbstständigkeit und Lebensqualität \nFür Angehörige\, Betroffene\, Interessierte & Fachkräfte. \nHINWEIS: Zwischen den einzelnen Vorträgen gibt es eine jeweils kleine Pausen – d.h. Man kann sowohl den ganzen Tag miterleben oder auch nur einzelnen Referenten zuhören.  \nDie Teilnahme ist kostenfrei – um Voranmeldung wird gebeten. \nTel: 030-6179 5042 \nEmail: info@haus-der-zukunft-am-ukb.de
URL:https://smart-living-health.de/veranstaltung/demenz-bewegt-verstehen-begleiten-handeln/
LOCATION:Haus der Zukunft am ukb\, Blumberger Damm 2k\, Berlin\, Berlin\, 12683\, Deutschland
CATEGORIES:Informationsveranstaltung
ORGANIZER;CN="Smart Living & Health Center e.V.":MAILTO:info@haus-der-zukunft-am-ukb.de
END:VEVENT
END:VCALENDAR