BEGIN:VCALENDAR
VERSION:2.0
PRODID:-//SLHC - ECPv6.15.20//NONSGML v1.0//EN
CALSCALE:GREGORIAN
METHOD:PUBLISH
X-WR-CALNAME:SLHC
X-ORIGINAL-URL:https://smart-living-health.de
X-WR-CALDESC:Veranstaltungen für SLHC
REFRESH-INTERVAL;VALUE=DURATION:PT1H
X-Robots-Tag:noindex
X-PUBLISHED-TTL:PT1H
BEGIN:VTIMEZONE
TZID:Europe/Berlin
BEGIN:DAYLIGHT
TZOFFSETFROM:+0100
TZOFFSETTO:+0200
TZNAME:CEST
DTSTART:20240331T010000
END:DAYLIGHT
BEGIN:STANDARD
TZOFFSETFROM:+0200
TZOFFSETTO:+0100
TZNAME:CET
DTSTART:20241027T010000
END:STANDARD
BEGIN:DAYLIGHT
TZOFFSETFROM:+0100
TZOFFSETTO:+0200
TZNAME:CEST
DTSTART:20250330T010000
END:DAYLIGHT
BEGIN:STANDARD
TZOFFSETFROM:+0200
TZOFFSETTO:+0100
TZNAME:CET
DTSTART:20251026T010000
END:STANDARD
BEGIN:DAYLIGHT
TZOFFSETFROM:+0100
TZOFFSETTO:+0200
TZNAME:CEST
DTSTART:20260329T010000
END:DAYLIGHT
BEGIN:STANDARD
TZOFFSETFROM:+0200
TZOFFSETTO:+0100
TZNAME:CET
DTSTART:20261025T010000
END:STANDARD
END:VTIMEZONE
BEGIN:VEVENT
DTSTART;VALUE=DATE:20250916
DTEND;VALUE=DATE:20250919
DTSTAMP:20260421T024436
CREATED:20250430T110854Z
LAST-MODIFIED:20250430T110854Z
UID:4649-1757980800-1758239999@smart-living-health.de
SUMMARY:Workshop: Aromapflege Basis-Training
DESCRIPTION:Ätherische Öle haben sich seit vielen Jahren in der Krankenpflegebewährt. Sie werden über die Nase oder über die Haut angewendet\, sei es als Einreibung\, Massage\, Waschung oder Kompresse. Die verwendeten Essenzen haben nicht nur einen pharmakologischen Effekt\, sondern beeinflussen auch die Psyche auf positive Weise. Patient*innen und Pflegepersonal erleben die Kombination aus Duft und Berührung als Bereicherung. Unser Basis-Training bietet Ihnen eine fundierte Einführung in die Welt der Aromapflege. \nWeitere Informationen erhalten Sie HIER
URL:https://smart-living-health.de/veranstaltung/workshop-aromapflege-basis-training/
LOCATION:Haus der Zukunft am ukb\, Blumberger Damm 2k\, Berlin\, Berlin\, 12683\, Deutschland
CATEGORIES:Workshop
ORGANIZER;CN="Primavera":MAILTO:info@primaveralife.com
END:VEVENT
END:VCALENDAR