BEGIN:VCALENDAR
VERSION:2.0
PRODID:-//SLHC - ECPv6.15.20//NONSGML v1.0//EN
CALSCALE:GREGORIAN
METHOD:PUBLISH
X-ORIGINAL-URL:https://smart-living-health.de
X-WR-CALDESC:Veranstaltungen für SLHC
REFRESH-INTERVAL;VALUE=DURATION:PT1H
X-Robots-Tag:noindex
X-PUBLISHED-TTL:PT1H
BEGIN:VTIMEZONE
TZID:Europe/Berlin
BEGIN:DAYLIGHT
TZOFFSETFROM:+0100
TZOFFSETTO:+0200
TZNAME:CEST
DTSTART:20240331T010000
END:DAYLIGHT
BEGIN:STANDARD
TZOFFSETFROM:+0200
TZOFFSETTO:+0100
TZNAME:CET
DTSTART:20241027T010000
END:STANDARD
BEGIN:DAYLIGHT
TZOFFSETFROM:+0100
TZOFFSETTO:+0200
TZNAME:CEST
DTSTART:20250330T010000
END:DAYLIGHT
BEGIN:STANDARD
TZOFFSETFROM:+0200
TZOFFSETTO:+0100
TZNAME:CET
DTSTART:20251026T010000
END:STANDARD
BEGIN:DAYLIGHT
TZOFFSETFROM:+0100
TZOFFSETTO:+0200
TZNAME:CEST
DTSTART:20260329T010000
END:DAYLIGHT
BEGIN:STANDARD
TZOFFSETFROM:+0200
TZOFFSETTO:+0100
TZNAME:CET
DTSTART:20261025T010000
END:STANDARD
END:VTIMEZONE
BEGIN:VEVENT
DTSTART;TZID=Europe/Berlin:20250912T080000
DTEND;TZID=Europe/Berlin:20250912T170000
DTSTAMP:20260423T113400
CREATED:20250520T101110Z
LAST-MODIFIED:20250911T121552Z
UID:4683-1757664000-1757696400@smart-living-health.de
SUMMARY:Um- und Ausbaumesse
DESCRIPTION:„Die Zukunft barrierefrei gestalten – für alle!“\nArchitektur & Umbau: barrierefrei | altersgerecht | zukunftsfähig \nErleben Sie auf unserer Um- und Ausbaumesse innovative Lösungen rund um barrierefreies\, altersgerechtes und sicheres Wohnen. Ob Handwerker:in\, Architekt:in\, Fachplaner:in oder interessierte Bürger:in – hier kommen alle zusammen:👉 mit Fachausstellern\, die ihre Produkte und Dienstleistungen präsentieren👉 mit spannenden Vorträgen & Podiumsdiskussionen zu aktuellen Trends und Herausforderungen👉 und mit Raum für Austausch\, Inspiration und konkrete Projektideen \n📍Jetzt informieren\, erleben und mitgestalten – für mehr Lebensqualität im Wandel unserer gebauten Umwelt! \n Fachbesucher  Öffentlichkeit\n\nAngebot für Fachbesucher\nSie sind Architekt\, Fachplaner\, Handwerker oder kommen direkt aus der Industrie? \n Jetzt Stand sichernMelden Sie sich für einen Stand im Rahmen der ganztägigen Messe bei Karen Janda: janda@smart-living-health.de\n Handwerk und Wohnungswirtschaft 08:00 Uhr: Seien Sie Gast beim Handwerkerfrühstück und erfahren Sie mehr über aktuelle Ausschreibungskriterien von Wohnungsgenossenschaften. \n08:00 Uhr  N.N.  \n08:30 Uhr „Altersgerechter Wohnraum – Im Gespräch mit der Charlottenburger Baugenossenschaft“ Carsten-Michael Röding  (Charlottenburger Baugenossenschaft eG) \n09:00 Uhr „Seniorengerechter Badumbau – neuste Trends und kompetente Unterstützung durch die Innung SHK Berlin“ Andreas Koch-Martin (SHK Berlin)\n Planung und PolitikSeien Sie Teilnehmer beim Businesslunch und erfahren Sie\, welche Bauvorhaben in Berlin 2025 noch anstehen und welche Besonderheiten die Barrierefreiheit in der Projekt- und Bauplanung mit sich bringen. \n11:00 – 11:30 Uhr „Barrierefreiheit – ein zukunftsfähiger Wohnraum“ Sebastian Brüning (Urbansky Architekten) \n11:30 – 12:00 Uhr „Perspektiven einer zukunftsfähigen Stadt- und Wohnraumentwicklung“ Christian Gaebler\, Senator für Stadtentwicklung\, Bauen und Wohnen des Landes Berlin) \n12:00 – 12:30 Uhr Podiumsdiskussion zu Wohnungsneubau und Barrierefreiheit in Berlin (Christian Gaebler\, Sebastian Brüning/Urbansky Architekten\, Maren Kern/ BBU\, Matthias Trunk/ GASAG) \nTauschen Sie sich zu aktuellen Themen mit Kolleginnen und Kollegen aus. Erweitern Sie Ihr Netzwerk.\n Fach-/Weiterbildungsvortrag 13:00 – 15:30 Uhr „4 Perspektiven\, 1 Ziel: Barrierefreies Bauen im Bad.“* \nFlyer_Fortbildung_Barrierefreies Bad \nHIER ANMELDEN! \n*Fortbildungspunkte durch die Architektenkammer Berlin. \nMelden Sie sich an und seien Sie dabei: \nAnredeFrauHerrDiv  Was ist Ihr Hintergrund?HandwerkFachplanung/ArchitekturWohnungswirtschaftÖffentlichkeit  Danke für Ihre Nachricht. Wir haben diese erhalten.×Es ist ein Fehler aufgetreten. Bitte versuchen Sie es erneut.×Jetzt anmelden\n\nAngebot für die Öffentlichkeit | ab 13 Uhr\nSie wollen sich zu den praktischen Möglichkeiten für einen barrierefreien und altersgerechten Umbau informieren? Kommen Sie vorbei: \n Beraten lassenBesuchen Sie Messestände\, die Ausstellung und erfahren alles über Lösungen und Dienstleistungen für Ihren geplanten Umbau. Eintritt frei.\n Information zur FörderungDie Beantragung von „Wohnumfeldverbessernden Maßnahmen“ und Möglichkeiten im Rahmen der IBB-Förderung.\n Warum sich ein Umbau lohnt Erfahren Sie u.a. mehr über Energieeinsparmöglichkeiten für Ihre Häuslichkeit und dem barrierefreien Badumbau uvm.\n— \n Vortragsprogramm* -> Die Vorträge finden im Veranstaltungszelt statt. \n14:00 Uhr „Wohnumfeldverbessernde Maßnahmen über die Pflegeversicherung – So kann es gelingen.“ Jenny Kopka (Pflegestützpunkt Marzahn-Hellersdorf) \n14:30 Uhr „Damit zu Hause zu Hause bleibt! Lifta: Treppen- und Heimlifte“ Matthias Haase (Lifta GmbH) \n15:00 Uhr „Den Weg zum Traumbad ohne Grenzen – zuhause wohnen bis ins hohe Alter.“ Kerstin Peukert/ Matthias Friedrich (G.U.T. Brandenburg/ Emporhaus) \n15:30 Uhr „Energieeinsparung: Die Wärmepumpe als energetische Lösung.“ Thomas Herzog (EnergieEinsparInitiative Berlin) \n16:00 Uhr „Küchensanierung – modern und altersgerecht.“ Stephan Huenzt (Ruder Küchen- und Hausgeräte GmbH) \n!Komplette Programmübersicht!
URL:https://smart-living-health.de/veranstaltung/save-the-date-aus-und-umbaumesse/
LOCATION:Haus der Zukunft am ukb\, Blumberger Damm 2k\, Berlin\, Berlin\, 12683\, Deutschland
CATEGORIES:Expertenforum,Messe,Netzwerkforum
ORGANIZER;CN="Smart Living & Health Center e.V.":MAILTO:info@haus-der-zukunft-am-ukb.de
END:VEVENT
END:VCALENDAR