BEGIN:VCALENDAR
VERSION:2.0
PRODID:-//SLHC - ECPv6.15.20//NONSGML v1.0//EN
CALSCALE:GREGORIAN
METHOD:PUBLISH
X-ORIGINAL-URL:https://smart-living-health.de
X-WR-CALDESC:Veranstaltungen für SLHC
REFRESH-INTERVAL;VALUE=DURATION:PT1H
X-Robots-Tag:noindex
X-PUBLISHED-TTL:PT1H
BEGIN:VTIMEZONE
TZID:Europe/Berlin
BEGIN:DAYLIGHT
TZOFFSETFROM:+0100
TZOFFSETTO:+0200
TZNAME:CEST
DTSTART:20240331T010000
END:DAYLIGHT
BEGIN:STANDARD
TZOFFSETFROM:+0200
TZOFFSETTO:+0100
TZNAME:CET
DTSTART:20241027T010000
END:STANDARD
BEGIN:DAYLIGHT
TZOFFSETFROM:+0100
TZOFFSETTO:+0200
TZNAME:CEST
DTSTART:20250330T010000
END:DAYLIGHT
BEGIN:STANDARD
TZOFFSETFROM:+0200
TZOFFSETTO:+0100
TZNAME:CET
DTSTART:20251026T010000
END:STANDARD
BEGIN:DAYLIGHT
TZOFFSETFROM:+0100
TZOFFSETTO:+0200
TZNAME:CEST
DTSTART:20260329T010000
END:DAYLIGHT
BEGIN:STANDARD
TZOFFSETFROM:+0200
TZOFFSETTO:+0100
TZNAME:CET
DTSTART:20261025T010000
END:STANDARD
END:VTIMEZONE
BEGIN:VEVENT
DTSTART;TZID=Europe/Berlin:20250611T140000
DTEND;TZID=Europe/Berlin:20250611T160000
DTSTAMP:20260421T002215
CREATED:20250211T065542Z
LAST-MODIFIED:20250516T061704Z
UID:4488-1749650400-1749657600@smart-living-health.de
SUMMARY:Einkaufen im Internet und sichere Bezahlmethoden
DESCRIPTION:Sie möchten Lebensmittel oder Kleidung im Internet bestellen? \nErfahren Sie mehr über Lieferdienste und Bezahlmöglichkeiten. \nWoran erkennen Sie\, ob der Dienstleister auch vertrauenswürdig und die Bezahlung sicher ist? \nDarüber informieren Referenten des Digitalen Engel und wir Sie gern! \n  \nUm Voranmeldung wird gebeten!\n\nEmail: info@haus-der-zukunft-am-ukb.de\nTel: 030-6179 5042
URL:https://smart-living-health.de/veranstaltung/online-shopping-und-sichere-bezahlmethoden/
LOCATION:Haus der Zukunft am ukb\, Blumberger Damm 2k\, Berlin\, Berlin\, 12683\, Deutschland
CATEGORIES:Informationsveranstaltung
END:VEVENT
END:VCALENDAR