BEGIN:VCALENDAR
VERSION:2.0
PRODID:-//SLHC - ECPv6.15.20//NONSGML v1.0//EN
CALSCALE:GREGORIAN
METHOD:PUBLISH
X-WR-CALNAME:SLHC
X-ORIGINAL-URL:https://smart-living-health.de
X-WR-CALDESC:Veranstaltungen für SLHC
REFRESH-INTERVAL;VALUE=DURATION:PT1H
X-Robots-Tag:noindex
X-PUBLISHED-TTL:PT1H
BEGIN:VTIMEZONE
TZID:Europe/Berlin
BEGIN:DAYLIGHT
TZOFFSETFROM:+0100
TZOFFSETTO:+0200
TZNAME:CEST
DTSTART:20240331T010000
END:DAYLIGHT
BEGIN:STANDARD
TZOFFSETFROM:+0200
TZOFFSETTO:+0100
TZNAME:CET
DTSTART:20241027T010000
END:STANDARD
BEGIN:DAYLIGHT
TZOFFSETFROM:+0100
TZOFFSETTO:+0200
TZNAME:CEST
DTSTART:20250330T010000
END:DAYLIGHT
BEGIN:STANDARD
TZOFFSETFROM:+0200
TZOFFSETTO:+0100
TZNAME:CET
DTSTART:20251026T010000
END:STANDARD
BEGIN:DAYLIGHT
TZOFFSETFROM:+0100
TZOFFSETTO:+0200
TZNAME:CEST
DTSTART:20260329T010000
END:DAYLIGHT
BEGIN:STANDARD
TZOFFSETFROM:+0200
TZOFFSETTO:+0100
TZNAME:CET
DTSTART:20261025T010000
END:STANDARD
END:VTIMEZONE
BEGIN:VEVENT
DTSTART;TZID=Europe/Berlin:20250528T100000
DTEND;TZID=Europe/Berlin:20250528T110000
DTSTAMP:20260420T195444
CREATED:20250521T120907Z
LAST-MODIFIED:20250521T120907Z
UID:4685-1748426400-1748430000@smart-living-health.de
SUMMARY:Länger in der Häuslichkeit bleiben - Hilfsmittel und Wohnberatung
DESCRIPTION:Mit welchen Maßnahmen kann ich länger in der eigenen Häuslichkeit bleiben?\nWelche Hilfsmittel können unterstützen?\nWie kann ich einen Umbau in der Wohnung sinnvoll gestalten?\n\nDiese und weitere Fragen werden in dieser digitalen Informationsveranstaltung besprochen. \nAnmeldungen bitte an: infoveranstaltungen@albatrosggmbh.de\n  \n 
URL:https://smart-living-health.de/veranstaltung/laenger-in-der-haeuslichkeit-bleiben-hilfsmittel-und-wohnberatung/
LOCATION:Online
CATEGORIES:Digital,Informationsveranstaltung
END:VEVENT
BEGIN:VEVENT
DTSTART;TZID=Europe/Berlin:20250528T100000
DTEND;TZID=Europe/Berlin:20250528T120000
DTSTAMP:20260420T195444
CREATED:20250216T164309Z
LAST-MODIFIED:20250216T164918Z
UID:4495-1748426400-1748433600@smart-living-health.de
SUMMARY:Patientenverfügung/ Vorsorgevollmacht - 2. Veranstaltung
DESCRIPTION:Aufgrund der hohen Nachfrage gibt es eine 2. Veranstaltung zu diesem Thema: \nIm Rahmen dieser Informationsveranstaltung erhalten Sie Tipps\, Hinweise und wichtige Informationen rund um die Themen Vorsorgevollmacht und Patientenverfügung. Das Unionhilfswerk\, die Kontaktstelle PflegeEngagement und der Smart Living & Health Center e. V. laden Sie herzlich ein. \n  \nUm Voranmeldung wird gebeten! \nTel: 030-6179 5042 \nEmail: info@haus-der-zukunft-am-ukb.de
URL:https://smart-living-health.de/veranstaltung/patientenverfuegung-vorsorgevollmacht-2/
LOCATION:Haus der Zukunft am ukb\, Blumberger Damm 2k\, Berlin\, Berlin\, 12683\, Deutschland
CATEGORIES:Informationsveranstaltung
END:VEVENT
END:VCALENDAR