BEGIN:VCALENDAR
VERSION:2.0
PRODID:-//SLHC - ECPv6.15.20//NONSGML v1.0//EN
CALSCALE:GREGORIAN
METHOD:PUBLISH
X-ORIGINAL-URL:https://smart-living-health.de
X-WR-CALDESC:Veranstaltungen für SLHC
REFRESH-INTERVAL;VALUE=DURATION:PT1H
X-Robots-Tag:noindex
X-PUBLISHED-TTL:PT1H
BEGIN:VTIMEZONE
TZID:Europe/Berlin
BEGIN:DAYLIGHT
TZOFFSETFROM:+0100
TZOFFSETTO:+0200
TZNAME:CEST
DTSTART:20240331T010000
END:DAYLIGHT
BEGIN:STANDARD
TZOFFSETFROM:+0200
TZOFFSETTO:+0100
TZNAME:CET
DTSTART:20241027T010000
END:STANDARD
BEGIN:DAYLIGHT
TZOFFSETFROM:+0100
TZOFFSETTO:+0200
TZNAME:CEST
DTSTART:20250330T010000
END:DAYLIGHT
BEGIN:STANDARD
TZOFFSETFROM:+0200
TZOFFSETTO:+0100
TZNAME:CET
DTSTART:20251026T010000
END:STANDARD
BEGIN:DAYLIGHT
TZOFFSETFROM:+0100
TZOFFSETTO:+0200
TZNAME:CEST
DTSTART:20260329T010000
END:DAYLIGHT
BEGIN:STANDARD
TZOFFSETFROM:+0200
TZOFFSETTO:+0100
TZNAME:CET
DTSTART:20261025T010000
END:STANDARD
END:VTIMEZONE
BEGIN:VEVENT
DTSTART;VALUE=DATE:20250326
DTEND;VALUE=DATE:20250328
DTSTAMP:20260422T133647
CREATED:20250103T145917Z
LAST-MODIFIED:20250103T145917Z
UID:4451-1742947200-1743119999@smart-living-health.de
SUMMARY:HPI DIGITAL HEALTH INNOVATION FORUM
DESCRIPTION:Das ehrgeizige Ziel dieser zweitägigen Konferenz ist es\, internationale Experten aus der Gesundheitswirtschaft – aus Forschung\, Industrie und Politik – zusammenzubringen\, um die neuesten Entwicklungen und Erkenntnisse zu diskutieren sowie innovative Lösungen für ein digitales Gesundheitssystem vorzustellen.
URL:https://smart-living-health.de/veranstaltung/hpi-digital-health-innovation-forum/
LOCATION:Hasso Plattner Institut\, Prof.-Dr.-Helmert-Str. 2-3\, Potsdam\, 14482
CATEGORIES:Konferenz
ORGANIZER;CN="Hasso Plattner Institut":MAILTO:hpi-info@hpi.de
END:VEVENT
END:VCALENDAR