BEGIN:VCALENDAR
VERSION:2.0
PRODID:-//SLHC - ECPv6.15.20//NONSGML v1.0//EN
CALSCALE:GREGORIAN
METHOD:PUBLISH
X-WR-CALNAME:SLHC
X-ORIGINAL-URL:https://smart-living-health.de
X-WR-CALDESC:Veranstaltungen für SLHC
REFRESH-INTERVAL;VALUE=DURATION:PT1H
X-Robots-Tag:noindex
X-PUBLISHED-TTL:PT1H
BEGIN:VTIMEZONE
TZID:Europe/Berlin
BEGIN:DAYLIGHT
TZOFFSETFROM:+0100
TZOFFSETTO:+0200
TZNAME:CEST
DTSTART:20240331T010000
END:DAYLIGHT
BEGIN:STANDARD
TZOFFSETFROM:+0200
TZOFFSETTO:+0100
TZNAME:CET
DTSTART:20241027T010000
END:STANDARD
BEGIN:DAYLIGHT
TZOFFSETFROM:+0100
TZOFFSETTO:+0200
TZNAME:CEST
DTSTART:20250330T010000
END:DAYLIGHT
BEGIN:STANDARD
TZOFFSETFROM:+0200
TZOFFSETTO:+0100
TZNAME:CET
DTSTART:20251026T010000
END:STANDARD
BEGIN:DAYLIGHT
TZOFFSETFROM:+0100
TZOFFSETTO:+0200
TZNAME:CEST
DTSTART:20260329T010000
END:DAYLIGHT
BEGIN:STANDARD
TZOFFSETFROM:+0200
TZOFFSETTO:+0100
TZNAME:CET
DTSTART:20261025T010000
END:STANDARD
END:VTIMEZONE
BEGIN:VEVENT
DTSTART;TZID=Europe/Berlin:20250313T140000
DTEND;TZID=Europe/Berlin:20250313T163000
DTSTAMP:20260422T111543
CREATED:20241220T135932Z
LAST-MODIFIED:20250108T105551Z
UID:4426-1741874400-1741883400@smart-living-health.de
SUMMARY:Workshop: In Balance - Rituale für mehr Gelassenheit
DESCRIPTION:Angesichts der bewegenden Ereignisse unserer aktuellen Weltsituation stehen wir alle gerade vor der großen Herausforderung\, in diesen wilden Tagen die innere Ruhe und Balance zu bewahren. Gerade in unberechenbaren Zeiten der Unsicherheit und Unruhe können uns die Düfte der Natur als stärkende Begleiter zur Seite stehen.\n\nIn dieser Zeit ist es umso wichtiger sich selbst Achtsamkeit schenken\, in sich hineinhören\, das Innerste ins Gleichgewicht zu bringen und Harmonie mit anderen zu erleben. Die vielfältigen naturreinen Pflanzenkräften schenken wohltuende Momente der Gelassenheit\, die sich positiv auf Psyche und Wohlbefinden auswirken.\n\nUm Voranmeldung wird gebeten. (Der Workshop findet ab 5 TN statt):\n\nEmail: info@haus-der-zukunft-am-ukb.de\nTel: 030-6179 5042
URL:https://smart-living-health.de/veranstaltung/workshop-in-balance-rituale-fuer-mehr-gelassenheit/
LOCATION:Haus der Zukunft am ukb\, Blumberger Damm 2k\, Berlin\, Berlin\, 12683\, Deutschland
CATEGORIES:Workshop
ORGANIZER;CN="Primavera":MAILTO:info@primaveralife.com
END:VEVENT
END:VCALENDAR