BEGIN:VCALENDAR
VERSION:2.0
PRODID:-//SLHC - ECPv6.15.20//NONSGML v1.0//EN
CALSCALE:GREGORIAN
METHOD:PUBLISH
X-ORIGINAL-URL:https://smart-living-health.de
X-WR-CALDESC:Veranstaltungen für SLHC
REFRESH-INTERVAL;VALUE=DURATION:PT1H
X-Robots-Tag:noindex
X-PUBLISHED-TTL:PT1H
BEGIN:VTIMEZONE
TZID:Europe/Berlin
BEGIN:DAYLIGHT
TZOFFSETFROM:+0100
TZOFFSETTO:+0200
TZNAME:CEST
DTSTART:20240331T010000
END:DAYLIGHT
BEGIN:STANDARD
TZOFFSETFROM:+0200
TZOFFSETTO:+0100
TZNAME:CET
DTSTART:20241027T010000
END:STANDARD
BEGIN:DAYLIGHT
TZOFFSETFROM:+0100
TZOFFSETTO:+0200
TZNAME:CEST
DTSTART:20250330T010000
END:DAYLIGHT
BEGIN:STANDARD
TZOFFSETFROM:+0200
TZOFFSETTO:+0100
TZNAME:CET
DTSTART:20251026T010000
END:STANDARD
BEGIN:DAYLIGHT
TZOFFSETFROM:+0100
TZOFFSETTO:+0200
TZNAME:CEST
DTSTART:20260329T010000
END:DAYLIGHT
BEGIN:STANDARD
TZOFFSETFROM:+0200
TZOFFSETTO:+0100
TZNAME:CET
DTSTART:20261025T010000
END:STANDARD
END:VTIMEZONE
BEGIN:VEVENT
DTSTART;TZID=Europe/Berlin:20250219T100000
DTEND;TZID=Europe/Berlin:20250219T120000
DTSTAMP:20260422T124827
CREATED:20241127T144702Z
LAST-MODIFIED:20250216T164450Z
UID:4389-1739959200-1739966400@smart-living-health.de
SUMMARY:!Ausgebucht! Patientenverfügung / Vorsorgevollmacht
DESCRIPTION:Unabhängig von Ihrem Alter oder Gesundheitszustand können Sie plötzlich in eine Lage geraten\, in der Sie nicht mehr selbst über eine medizinische Behandlung oder einen ärztlichen Eingriff entscheiden können. Mit einer Patientenverfügung legen Sie für diesen Fall im Voraus fest\, ob Sie in bestimmte medizinische Maßnahmen einwilligen oder sie ablehnen. \nIm Rahmen dieser Informationsveranstaltung erhalten Sie Tipps\, Hinweise und wichtige Informationen rund um die Themen Vorsorgevollmacht und Patientenverfügung. Das Unionhilfswerk\, die Kontaktstelle PflegeEngagement und der Smart Living & Health Center e. V. laden Sie herzlich ein. \n  \nAufgrund der hohen Nachfrage gibt es einen 2. Termin. Am 28. Mai 2025 / 10Uhr! \n\nPatientenverfügung/ Vorsorgevollmacht – 2. Veranstaltung
URL:https://smart-living-health.de/veranstaltung/patientenverfuegung-vorsorgevollmacht/
LOCATION:Haus der Zukunft am ukb\, Blumberger Damm 2k\, Berlin\, Berlin\, 12683\, Deutschland
CATEGORIES:Informationsveranstaltung
ORGANIZER;CN="Smart Living & Health Center e.V.":MAILTO:info@haus-der-zukunft-am-ukb.de
END:VEVENT
END:VCALENDAR