BEGIN:VCALENDAR
VERSION:2.0
PRODID:-//SLHC - ECPv6.15.20//NONSGML v1.0//EN
CALSCALE:GREGORIAN
METHOD:PUBLISH
X-ORIGINAL-URL:https://smart-living-health.de
X-WR-CALDESC:Veranstaltungen für SLHC
REFRESH-INTERVAL;VALUE=DURATION:PT1H
X-Robots-Tag:noindex
X-PUBLISHED-TTL:PT1H
BEGIN:VTIMEZONE
TZID:Europe/Berlin
BEGIN:DAYLIGHT
TZOFFSETFROM:+0100
TZOFFSETTO:+0200
TZNAME:CEST
DTSTART:20240331T010000
END:DAYLIGHT
BEGIN:STANDARD
TZOFFSETFROM:+0200
TZOFFSETTO:+0100
TZNAME:CET
DTSTART:20241027T010000
END:STANDARD
BEGIN:DAYLIGHT
TZOFFSETFROM:+0100
TZOFFSETTO:+0200
TZNAME:CEST
DTSTART:20250330T010000
END:DAYLIGHT
BEGIN:STANDARD
TZOFFSETFROM:+0200
TZOFFSETTO:+0100
TZNAME:CET
DTSTART:20251026T010000
END:STANDARD
BEGIN:DAYLIGHT
TZOFFSETFROM:+0100
TZOFFSETTO:+0200
TZNAME:CEST
DTSTART:20260329T010000
END:DAYLIGHT
BEGIN:STANDARD
TZOFFSETFROM:+0200
TZOFFSETTO:+0100
TZNAME:CET
DTSTART:20261025T010000
END:STANDARD
END:VTIMEZONE
BEGIN:VEVENT
DTSTART;VALUE=DATE:20250128
DTEND;VALUE=DATE:20250130
DTSTAMP:20260420T032742
CREATED:20241119T095816Z
LAST-MODIFIED:20241119T095816Z
UID:4355-1738022400-1738195199@smart-living-health.de
SUMMARY:BMC - Kongress
DESCRIPTION:Gesundheitsversorgung gemeinsam gestalten
URL:https://smart-living-health.de/veranstaltung/bmc-kongress/
LOCATION:Langenbeck-Virchow-Haus\, Luisenstr. 58/59\, Berlin\, 10117
END:VEVENT
BEGIN:VEVENT
DTSTART;TZID=Europe/Berlin:20250129T140000
DTEND;TZID=Europe/Berlin:20250129T160000
DTSTAMP:20260420T032742
CREATED:20241127T105944Z
LAST-MODIFIED:20250117T135329Z
UID:4384-1738159200-1738166400@smart-living-health.de
SUMMARY:Mit dem Smartphone zum Arzttermin
DESCRIPTION:In dieser Informationsveranstaltung zusammen mit Experten des Netcomputer Lernen e. V. und einer Onlineterminvergabe-Plattform erfahren Sie: \n\nWelche Applikationen auf einem Smartphone benötigt werden\nWie man ein E-Mail-Konto einrichtet &\nWie man bspw. Arzttermine online vereinbart.\n\n  \nUm Voranmeldung wird gebeten! \nTel. 030-6179 5042 \nEmail: info@haus-der-zukunft-am-ukb.de \n 
URL:https://smart-living-health.de/veranstaltung/onlineterminvergabe-uebers-smartphone/
LOCATION:Haus der Zukunft am ukb\, Blumberger Damm 2k\, Berlin\, Berlin\, 12683\, Deutschland
CATEGORIES:Informationsveranstaltung
ORGANIZER;CN="Smart Living & Health Center e.V.":MAILTO:info@haus-der-zukunft-am-ukb.de
END:VEVENT
END:VCALENDAR