BEGIN:VCALENDAR
VERSION:2.0
PRODID:-//SLHC - ECPv6.15.20//NONSGML v1.0//EN
CALSCALE:GREGORIAN
METHOD:PUBLISH
X-ORIGINAL-URL:https://smart-living-health.de
X-WR-CALDESC:Veranstaltungen für SLHC
REFRESH-INTERVAL;VALUE=DURATION:PT1H
X-Robots-Tag:noindex
X-PUBLISHED-TTL:PT1H
BEGIN:VTIMEZONE
TZID:Europe/Berlin
BEGIN:DAYLIGHT
TZOFFSETFROM:+0100
TZOFFSETTO:+0200
TZNAME:CEST
DTSTART:20240331T010000
END:DAYLIGHT
BEGIN:STANDARD
TZOFFSETFROM:+0200
TZOFFSETTO:+0100
TZNAME:CET
DTSTART:20241027T010000
END:STANDARD
BEGIN:DAYLIGHT
TZOFFSETFROM:+0100
TZOFFSETTO:+0200
TZNAME:CEST
DTSTART:20250330T010000
END:DAYLIGHT
BEGIN:STANDARD
TZOFFSETFROM:+0200
TZOFFSETTO:+0100
TZNAME:CET
DTSTART:20251026T010000
END:STANDARD
BEGIN:DAYLIGHT
TZOFFSETFROM:+0100
TZOFFSETTO:+0200
TZNAME:CEST
DTSTART:20260329T010000
END:DAYLIGHT
BEGIN:STANDARD
TZOFFSETFROM:+0200
TZOFFSETTO:+0100
TZNAME:CET
DTSTART:20261025T010000
END:STANDARD
END:VTIMEZONE
BEGIN:VEVENT
DTSTART;TZID=Europe/Berlin:20250127T160000
DTEND;TZID=Europe/Berlin:20250127T180000
DTSTAMP:20260420T032741
CREATED:20240710T114002Z
LAST-MODIFIED:20250110T124413Z
UID:4223-1737993600-1738000800@smart-living-health.de
SUMMARY:Fachgespräch: Onkologische Nachsorge
DESCRIPTION:– Komplementäre Unterstützungsmöglichkeiten durch die Aromapflege – \nEin Team der Berliner Charité hat im renommierten Fachmagazin Supportive Care in Cancer die Ergebnisse einer Pilotstudie (englisch) veröffentlicht\, die gemeinsam mit Primavera durchgeführt wurde. \nDer Untersuchung mit dem Titel „Aromatherapeutische\, individualisierte Anwendungen bei gynäkologischen Krebspatientinnen: Kontext\, Erfahrungen und Auswirkungen (arth4WOMEN)“ lag dabei die Annahme zugrunde\, dass sich aromatherapeutische Interventionen positiv auf Schlaf\, Unruhe und Angst bei Brustkrebspatientinnen auswirken. Weitere Infos HIER! \nIm Rahmen dieses Fachgespräch werden u.a. diese Studie durch Vertreter der Charité vorgestellt\, komplementäre Unterstützungsmöglichkeiten durch die Aromatherapie beleuchtet als auch Stimmen aus der Praxis zu Wort kommen. \nDie Veranstaltung richtet sich an alle Fachkräfte der inter-professionellen Berufsgruppe „Onkologie“\, die Interesse an innovativen und komplementären Ansätzen in der Nachsorge haben.  \n  \nProgramm \n\n16:00 Uhr Begrüßung (Primavera; SLHC)\n16:10 Uhr Einführung Aromatherapie\n16:25 Uhr Vorstellung der Studienergebnisse durch die Charité\n16:45 Uhr Erfahrungsbericht aus der Praxis\n17:00 Uhr Interaktive Fragerunde\nIm Anschluss Netzwerkrunde\n\n  \nDie offizielle Einladung finden Sie HIER! \nAnredeFrauHerrDiv  Kontaktmöglichkeit für Rückfragen *PersonenzahlWas ist Ihr Hintergrund?Was ist Ihr Hintergrund?medizinische/pflegerische FachkraftPflegende AngehörigeKostenträgerAusbildunganderer Hintergrund  Wie haben Sie von der Veranstaltung erfahren?Wie haben Sie von der Veranstaltung erfahren?Social MediaGesundheitscampus am ukb e. V.PresseLinkedInFacebook/ Nebenan.depersönliche EinladungNewsletterandere  Danke für Ihre Nachricht. Wir haben diese erhalten.×Es ist ein Fehler aufgetreten. Bitte versuchen Sie es erneut.×Jetzt anmelden
URL:https://smart-living-health.de/veranstaltung/aromatherapie-in-der-onkologie/
LOCATION:Haus der Zukunft am ukb\, Blumberger Damm 2k\, Berlin\, Berlin\, 12683\, Deutschland
CATEGORIES:Fachtagung
ORGANIZER;CN="Smart Living & Health Center e.V.":MAILTO:info@haus-der-zukunft-am-ukb.de
END:VEVENT
END:VCALENDAR