BEGIN:VCALENDAR
VERSION:2.0
PRODID:-//SLHC - ECPv6.15.20//NONSGML v1.0//EN
CALSCALE:GREGORIAN
METHOD:PUBLISH
X-ORIGINAL-URL:https://smart-living-health.de
X-WR-CALDESC:Veranstaltungen für SLHC
REFRESH-INTERVAL;VALUE=DURATION:PT1H
X-Robots-Tag:noindex
X-PUBLISHED-TTL:PT1H
BEGIN:VTIMEZONE
TZID:Europe/Berlin
BEGIN:DAYLIGHT
TZOFFSETFROM:+0100
TZOFFSETTO:+0200
TZNAME:CEST
DTSTART:20230326T010000
END:DAYLIGHT
BEGIN:STANDARD
TZOFFSETFROM:+0200
TZOFFSETTO:+0100
TZNAME:CET
DTSTART:20231029T010000
END:STANDARD
BEGIN:DAYLIGHT
TZOFFSETFROM:+0100
TZOFFSETTO:+0200
TZNAME:CEST
DTSTART:20240331T010000
END:DAYLIGHT
BEGIN:STANDARD
TZOFFSETFROM:+0200
TZOFFSETTO:+0100
TZNAME:CET
DTSTART:20241027T010000
END:STANDARD
BEGIN:DAYLIGHT
TZOFFSETFROM:+0100
TZOFFSETTO:+0200
TZNAME:CEST
DTSTART:20250330T010000
END:DAYLIGHT
BEGIN:STANDARD
TZOFFSETFROM:+0200
TZOFFSETTO:+0100
TZNAME:CET
DTSTART:20251026T010000
END:STANDARD
END:VTIMEZONE
BEGIN:VEVENT
DTSTART;TZID=Europe/Berlin:20241118T153000
DTEND;TZID=Europe/Berlin:20241118T200000
DTSTAMP:20260419T221540
CREATED:20241108T121755Z
LAST-MODIFIED:20241108T121755Z
UID:4347-1731943800-1731960000@smart-living-health.de
SUMMARY:Clusterkonferenz Gesundheitswirtschaft 2024
DESCRIPTION:Gesundheitswirtschaft 2035: Herausforderungen angehen und Zukunft gestalten.\nDas Cluster HealthCapital Berlin-Brandenburg lädt herzlich zur Clusterkonferenz Gesundheitswirtschaft 2024 ein. \nIn diesem Jahr freuen wir uns auf interessante Beiträge\, spannende Diskussionen sowie einen kollegialen Austausch zum Thema: Gesundheitswirtschaft in 10 Jahren: Herausforderungen angehen und Zukunft gestalten.
URL:https://smart-living-health.de/veranstaltung/clusterkonferenz-gesundheitswirtschaft-2024/
LOCATION:IHK Berlin / Ludwig Erhard Haus\, Fasanenstraße 85\, Berlin\, 10623
CATEGORIES:Konferenz
END:VEVENT
END:VCALENDAR