BEGIN:VCALENDAR
VERSION:2.0
PRODID:-//SLHC - ECPv6.15.20//NONSGML v1.0//EN
CALSCALE:GREGORIAN
METHOD:PUBLISH
X-WR-CALNAME:SLHC
X-ORIGINAL-URL:https://smart-living-health.de
X-WR-CALDESC:Veranstaltungen für SLHC
REFRESH-INTERVAL;VALUE=DURATION:PT1H
X-Robots-Tag:noindex
X-PUBLISHED-TTL:PT1H
BEGIN:VTIMEZONE
TZID:Europe/Berlin
BEGIN:DAYLIGHT
TZOFFSETFROM:+0100
TZOFFSETTO:+0200
TZNAME:CEST
DTSTART:20230326T010000
END:DAYLIGHT
BEGIN:STANDARD
TZOFFSETFROM:+0200
TZOFFSETTO:+0100
TZNAME:CET
DTSTART:20231029T010000
END:STANDARD
BEGIN:DAYLIGHT
TZOFFSETFROM:+0100
TZOFFSETTO:+0200
TZNAME:CEST
DTSTART:20240331T010000
END:DAYLIGHT
BEGIN:STANDARD
TZOFFSETFROM:+0200
TZOFFSETTO:+0100
TZNAME:CET
DTSTART:20241027T010000
END:STANDARD
BEGIN:DAYLIGHT
TZOFFSETFROM:+0100
TZOFFSETTO:+0200
TZNAME:CEST
DTSTART:20250330T010000
END:DAYLIGHT
BEGIN:STANDARD
TZOFFSETFROM:+0200
TZOFFSETTO:+0100
TZNAME:CET
DTSTART:20251026T010000
END:STANDARD
END:VTIMEZONE
BEGIN:VEVENT
DTSTART;TZID=Europe/Berlin:20241115T080000
DTEND;TZID=Europe/Berlin:20241115T140000
DTSTAMP:20260420T010312
CREATED:20240506T114550Z
LAST-MODIFIED:20240506T114550Z
UID:4091-1731657600-1731679200@smart-living-health.de
SUMMARY:1. Fachtag Cannabis in der Pflege
DESCRIPTION:Von Legalisierungsforderungen der Drogenbeauftragten der Bundesregierung bis hin zu Rückrufaktionen von Supermärkten und Ermittlungen der Staatsanwaltschaft – Fragen rund um den legalen Gebrauch von Cannabisprodukten sind und bleiben aktuell. Weniger in den Blick genommen werden dabei oft die Vorgaben zum medizinischen Gebrauch von THC\, obwohl dieser gerade im Pflegebereich eine große Rolle spielt.
URL:https://smart-living-health.de/veranstaltung/1-fachtag-cannabis-in-der-pflege/
LOCATION:Renafan Akademie gGmbH\, Berliner Straße 36/37\, Berlin\, 13507
CATEGORIES:Digital,Fachtagung
ORGANIZER;CN="Renafan Akademie":MAILTO:akademie@renafan.de
END:VEVENT
END:VCALENDAR