BEGIN:VCALENDAR
VERSION:2.0
PRODID:-//SLHC - ECPv6.15.20//NONSGML v1.0//EN
CALSCALE:GREGORIAN
METHOD:PUBLISH
X-WR-CALNAME:SLHC
X-ORIGINAL-URL:https://smart-living-health.de
X-WR-CALDESC:Veranstaltungen für SLHC
REFRESH-INTERVAL;VALUE=DURATION:PT1H
X-Robots-Tag:noindex
X-PUBLISHED-TTL:PT1H
BEGIN:VTIMEZONE
TZID:Europe/Berlin
BEGIN:DAYLIGHT
TZOFFSETFROM:+0100
TZOFFSETTO:+0200
TZNAME:CEST
DTSTART:20230326T010000
END:DAYLIGHT
BEGIN:STANDARD
TZOFFSETFROM:+0200
TZOFFSETTO:+0100
TZNAME:CET
DTSTART:20231029T010000
END:STANDARD
BEGIN:DAYLIGHT
TZOFFSETFROM:+0100
TZOFFSETTO:+0200
TZNAME:CEST
DTSTART:20240331T010000
END:DAYLIGHT
BEGIN:STANDARD
TZOFFSETFROM:+0200
TZOFFSETTO:+0100
TZNAME:CET
DTSTART:20241027T010000
END:STANDARD
BEGIN:DAYLIGHT
TZOFFSETFROM:+0100
TZOFFSETTO:+0200
TZNAME:CEST
DTSTART:20250330T010000
END:DAYLIGHT
BEGIN:STANDARD
TZOFFSETFROM:+0200
TZOFFSETTO:+0100
TZNAME:CET
DTSTART:20251026T010000
END:STANDARD
END:VTIMEZONE
BEGIN:VEVENT
DTSTART;VALUE=DATE:20241111
DTEND;VALUE=DATE:20241115
DTSTAMP:20260419T221440
CREATED:20240705T090022Z
LAST-MODIFIED:20240705T090022Z
UID:4212-1731283200-1731628799@smart-living-health.de
SUMMARY:Medica
DESCRIPTION:Die MEDICA in Düsseldorf ist mit über 5.300 Ausstellern aus fast 70 Nationen und 83.000 Besuchern eine der größten medizinischen B2B-Fachmessen weltweit. \nHier werden eine Vielzahl von innovativen Produkten und Dienstleistungen aus den Bereichen Medizinische Bildgebung\, Labortechnik\, Diagnostika\, Health-IT\, mobile Health sowie Physiotherapie-/ Orthopädietechnik und medizinische Verbrauchsmaterialien präsentiert. Das umfangreiche Programm der erstklassigen Foren\, Konferenzen und Sonderschauen bietet Gelegenheiten für interessante Präsentationen und Diskussionen mit Experten und Politikern und umfasst auch Pitches von neuen Produkten und Preisverleihungen.
URL:https://smart-living-health.de/veranstaltung/medica-2/
LOCATION:Messe Düsseldorf\, Stockumer Kirchstraße 61\, Düsseldorf\, 40474
CATEGORIES:Messe
ORGANIZER;CN="Messe D%C3%BCsseldorf":MAILTO:info@messe-duesseldorf.de
END:VEVENT
BEGIN:VEVENT
DTSTART;TZID=Europe/Berlin:20241111T180000
DTEND;TZID=Europe/Berlin:20241111T200000
DTSTAMP:20260419T221440
CREATED:20241108T114657Z
LAST-MODIFIED:20241108T121336Z
UID:4345-1731348000-1731355200@smart-living-health.de
SUMMARY:Berlin-Brandenburg Reception | MEDICA 2024 - Halle 14 D21
DESCRIPTION:Wir\, das Team vom Smart Living & Health Center e. V. sind in diesem Jahr erstmalig Teil des Berlin-Brandenburg Standes (Halle 14 / D21) auf der Medica 2024.\n\nTreffen Sie uns am Abend des 1. Messetages auf dem Berlin-Brandenburg Empfang!\n\n—-\n\nGermany‘s Capital region cordially invites you to the Berlin-Brandenburg Reception.\nJoin us at the start of the Carnival season for a get-together with fingerfood and drinks. Seize the opportunity to network with the community and to explore cutting-edge technology from Germany’s HealthCapital! \nHALL 14\, BOOTH D21
URL:https://smart-living-health.de/veranstaltung/berlin-brandenburg-reception-medica-2024-halle-14-d21/
LOCATION:Messe Düsseldorf\, Stockumer Kirchstraße 61\, Düsseldorf\, 40474
CATEGORIES:Empfang,Messe
END:VEVENT
END:VCALENDAR