BEGIN:VCALENDAR
VERSION:2.0
PRODID:-//SLHC - ECPv6.15.20//NONSGML v1.0//EN
CALSCALE:GREGORIAN
METHOD:PUBLISH
X-WR-CALNAME:SLHC
X-ORIGINAL-URL:https://smart-living-health.de
X-WR-CALDESC:Veranstaltungen für SLHC
REFRESH-INTERVAL;VALUE=DURATION:PT1H
X-Robots-Tag:noindex
X-PUBLISHED-TTL:PT1H
BEGIN:VTIMEZONE
TZID:Europe/Berlin
BEGIN:DAYLIGHT
TZOFFSETFROM:+0100
TZOFFSETTO:+0200
TZNAME:CEST
DTSTART:20230326T010000
END:DAYLIGHT
BEGIN:STANDARD
TZOFFSETFROM:+0200
TZOFFSETTO:+0100
TZNAME:CET
DTSTART:20231029T010000
END:STANDARD
BEGIN:DAYLIGHT
TZOFFSETFROM:+0100
TZOFFSETTO:+0200
TZNAME:CEST
DTSTART:20240331T010000
END:DAYLIGHT
BEGIN:STANDARD
TZOFFSETFROM:+0200
TZOFFSETTO:+0100
TZNAME:CET
DTSTART:20241027T010000
END:STANDARD
BEGIN:DAYLIGHT
TZOFFSETFROM:+0100
TZOFFSETTO:+0200
TZNAME:CEST
DTSTART:20250330T010000
END:DAYLIGHT
BEGIN:STANDARD
TZOFFSETFROM:+0200
TZOFFSETTO:+0100
TZNAME:CET
DTSTART:20251026T010000
END:STANDARD
END:VTIMEZONE
BEGIN:VEVENT
DTSTART;VALUE=DATE:20240925
DTEND;VALUE=DATE:20240929
DTSTAMP:20260419T180428
CREATED:20240121T135053Z
LAST-MODIFIED:20240121T135053Z
UID:3898-1727222400-1727567999@smart-living-health.de
SUMMARY:REHACARE 2024
DESCRIPTION:REHACARE 2024 – Selbstbestimmt leben\n\n \n \n\n\n\nEs lohnt sich\, vom 25. – 28. September 2024 in Düsseldorf dabei zu sein: Sie erleben die weltweit größte Fachmesse für Rehabilitation und Pflege mit der größten Bandbreite an Marktteilnehmern live vor Ort. \n\n\n\n\n\n \n \n\n\nDas erwartet Sie: \n\nInternationale Produktschau für Hilfsmittel\nÜber 700 Aussteller aus mehr als 35 Ländern\nVerschiedene Themenparks und Fachforen zu sozialer und beruflicher Rehabilitation\, Hilfsmitteln und deren Versorgung\nGrößte Bandbreite an bekannten Hilfsmittelherstellern\nInnovative Lösungen für jeden Lebensbereich und jede Behinderung
URL:https://smart-living-health.de/veranstaltung/rehacare-2024/
LOCATION:Messe Düsseldorf\, Stockumer Kirchstraße 61\, Düsseldorf\, 40474
CATEGORIES:Messe
ORGANIZER;CN="Messe D%C3%BCsseldorf":MAILTO:info@messe-duesseldorf.de
END:VEVENT
END:VCALENDAR