BEGIN:VCALENDAR
VERSION:2.0
PRODID:-//SLHC - ECPv6.15.20//NONSGML v1.0//EN
CALSCALE:GREGORIAN
METHOD:PUBLISH
X-ORIGINAL-URL:https://smart-living-health.de
X-WR-CALDESC:Veranstaltungen für SLHC
REFRESH-INTERVAL;VALUE=DURATION:PT1H
X-Robots-Tag:noindex
X-PUBLISHED-TTL:PT1H
BEGIN:VTIMEZONE
TZID:Europe/Berlin
BEGIN:DAYLIGHT
TZOFFSETFROM:+0100
TZOFFSETTO:+0200
TZNAME:CEST
DTSTART:20230326T010000
END:DAYLIGHT
BEGIN:STANDARD
TZOFFSETFROM:+0200
TZOFFSETTO:+0100
TZNAME:CET
DTSTART:20231029T010000
END:STANDARD
BEGIN:DAYLIGHT
TZOFFSETFROM:+0100
TZOFFSETTO:+0200
TZNAME:CEST
DTSTART:20240331T010000
END:DAYLIGHT
BEGIN:STANDARD
TZOFFSETFROM:+0200
TZOFFSETTO:+0100
TZNAME:CET
DTSTART:20241027T010000
END:STANDARD
BEGIN:DAYLIGHT
TZOFFSETFROM:+0100
TZOFFSETTO:+0200
TZNAME:CEST
DTSTART:20250330T010000
END:DAYLIGHT
BEGIN:STANDARD
TZOFFSETFROM:+0200
TZOFFSETTO:+0100
TZNAME:CET
DTSTART:20251026T010000
END:STANDARD
END:VTIMEZONE
BEGIN:VEVENT
DTSTART;TZID=Europe/Berlin:20240608T090000
DTEND;TZID=Europe/Berlin:20240608T170000
DTSTAMP:20260419T233005
CREATED:20240227T133057Z
LAST-MODIFIED:20240408T122724Z
UID:3995-1717837200-1717866000@smart-living-health.de
SUMMARY:Paulas Pflege in Familien fördern (PfiFf)
DESCRIPTION:Pflegene Angehörige sind der größte Pflegdienst. Sie meistern die Pflege ihrer Liebsten und kümmern sich zugleich um die bürokrtaischen Verfahren. Pflege in Familien fördern (PfiFf) soll hier unterstützen und bietet einen Überblick und Hilfe bei vielen Fragen zur Pflege von Angehörigen. Von der Antragsstellung bis zu Transferschulungen stehen in diesem Kurs praxisnahe Informationen im Vordergrund. \nAnmeldung\nBitte melden Sie sich telefonisch an unter: 030 130 173 922 oder  030 130 173 900. Die Teilnahme ist kostenfrei.
URL:https://smart-living-health.de/veranstaltung/paulas-pflege-in-familien-foerdern-pfiff-2/
LOCATION:Haus der Zukunft am ukb\, Blumberger Damm 2k\, Berlin\, Berlin\, 12683\, Deutschland
CATEGORIES:Vor-Ort-Veranstaltung
END:VEVENT
END:VCALENDAR