BEGIN:VCALENDAR
VERSION:2.0
PRODID:-//SLHC - ECPv6.15.20//NONSGML v1.0//EN
CALSCALE:GREGORIAN
METHOD:PUBLISH
X-ORIGINAL-URL:https://smart-living-health.de
X-WR-CALDESC:Veranstaltungen für SLHC
REFRESH-INTERVAL;VALUE=DURATION:PT1H
X-Robots-Tag:noindex
X-PUBLISHED-TTL:PT1H
BEGIN:VTIMEZONE
TZID:Europe/Berlin
BEGIN:DAYLIGHT
TZOFFSETFROM:+0100
TZOFFSETTO:+0200
TZNAME:CEST
DTSTART:20230326T010000
END:DAYLIGHT
BEGIN:STANDARD
TZOFFSETFROM:+0200
TZOFFSETTO:+0100
TZNAME:CET
DTSTART:20231029T010000
END:STANDARD
BEGIN:DAYLIGHT
TZOFFSETFROM:+0100
TZOFFSETTO:+0200
TZNAME:CEST
DTSTART:20240331T010000
END:DAYLIGHT
BEGIN:STANDARD
TZOFFSETFROM:+0200
TZOFFSETTO:+0100
TZNAME:CET
DTSTART:20241027T010000
END:STANDARD
BEGIN:DAYLIGHT
TZOFFSETFROM:+0100
TZOFFSETTO:+0200
TZNAME:CEST
DTSTART:20250330T010000
END:DAYLIGHT
BEGIN:STANDARD
TZOFFSETFROM:+0200
TZOFFSETTO:+0100
TZNAME:CET
DTSTART:20251026T010000
END:STANDARD
END:VTIMEZONE
BEGIN:VEVENT
DTSTART;TZID=Europe/Berlin:20240529T140000
DTEND;TZID=Europe/Berlin:20240529T160000
DTSTAMP:20260419T233552
CREATED:20240326T152148Z
LAST-MODIFIED:20240424T102020Z
UID:4036-1716991200-1716998400@smart-living-health.de
SUMMARY:Bewegung im Alter
DESCRIPTION:Medizinische Aspekte und Besonderheiten – Übungen zum fit bleiben\nWer rastet\, der rostet – das Sprichwort gilt auch heute noch. Unser Körper braucht Bewegung\, um gesund zu bleiben. Bewegung ist alles\, was dem Körper mehr Energie abverlangt als Ruhe. Unsere Muskeln werden angespannt\, unser Herz schlägt schneller. \nWir klären Fragen wie: \n\nWas fällt alles unter dem Begriff „Bewegung“?\n Kann ich durch bestimmte Übungen Krankheiten vermeiden?\nIst Sport auch bei Bluthochdruck empfehlenswert?\nHilft Bewegung bei Rheuma?\nGibt es Übungen für Zuhause?\nWas muss ich als Diabetiker beachten?\n\nKommen Sie vorbei und kommen mit den Experten vor Ort ins Gespräch. \n\nMit dabei Vertreter des Therapiezentrums am ukb\, die Deutsche Rheuma-Liga Berlin e.V. sowie Osentec GmbH \n\n\nUm Anmeldung wird gebeten:\nTel: 030 – 6179 5042 \nEmail: info@haus-der-zukunft-am-ukb.de
URL:https://smart-living-health.de/veranstaltung/bewegung-im-alter/
LOCATION:Haus der Zukunft am ukb\, Blumberger Damm 2k\, Berlin\, Berlin\, 12683\, Deutschland
CATEGORIES:Informationsveranstaltung
END:VEVENT
END:VCALENDAR