BEGIN:VCALENDAR
VERSION:2.0
PRODID:-//SLHC - ECPv6.15.20//NONSGML v1.0//EN
CALSCALE:GREGORIAN
METHOD:PUBLISH
X-WR-CALNAME:SLHC
X-ORIGINAL-URL:https://smart-living-health.de
X-WR-CALDESC:Veranstaltungen für SLHC
REFRESH-INTERVAL;VALUE=DURATION:PT1H
X-Robots-Tag:noindex
X-PUBLISHED-TTL:PT1H
BEGIN:VTIMEZONE
TZID:Europe/Berlin
BEGIN:DAYLIGHT
TZOFFSETFROM:+0100
TZOFFSETTO:+0200
TZNAME:CEST
DTSTART:20230326T010000
END:DAYLIGHT
BEGIN:STANDARD
TZOFFSETFROM:+0200
TZOFFSETTO:+0100
TZNAME:CET
DTSTART:20231029T010000
END:STANDARD
BEGIN:DAYLIGHT
TZOFFSETFROM:+0100
TZOFFSETTO:+0200
TZNAME:CEST
DTSTART:20240331T010000
END:DAYLIGHT
BEGIN:STANDARD
TZOFFSETFROM:+0200
TZOFFSETTO:+0100
TZNAME:CET
DTSTART:20241027T010000
END:STANDARD
BEGIN:DAYLIGHT
TZOFFSETFROM:+0100
TZOFFSETTO:+0200
TZNAME:CEST
DTSTART:20250330T010000
END:DAYLIGHT
BEGIN:STANDARD
TZOFFSETFROM:+0200
TZOFFSETTO:+0100
TZNAME:CET
DTSTART:20251026T010000
END:STANDARD
END:VTIMEZONE
BEGIN:VEVENT
DTSTART;VALUE=DATE:20240514
DTEND;VALUE=DATE:20240517
DTSTAMP:20260420T034310
CREATED:20240222T172128Z
LAST-MODIFIED:20240222T172128Z
UID:3981-1715644800-1715903999@smart-living-health.de
SUMMARY:Pflege Plus - Fachmesse für den Pflegemarkt
DESCRIPTION:Die Fachmesse PFLEGE PLUS bringt FachbesucherInnen mit ausstellenden Unternehmen\, Branchenverbände sowie ExpertInnen des Pflegemarkts zusammen. Seit 1995 informiert die Veranstaltung EntscheiderInnen und Fachpersonal aus Süddeutschland sowie den angrenzenden Regionen zu Produktneuheiten\, Trends und Entwicklungen in der Branche.
URL:https://smart-living-health.de/veranstaltung/pflege-plus-fachmesse-fuer-den-pflegemarkt/
LOCATION:Landesmesse Stuttgart GmbH\, Messepiazza 1\, Stuttgart\, 70629
CATEGORIES:Fachtagung,Messe
ORGANIZER;CN="Landesmesse Stuttgart":MAILTO:info@messe-stuttgart.de
END:VEVENT
BEGIN:VEVENT
DTSTART;VALUE=DATE:20240515
DTEND;VALUE=DATE:20240517
DTSTAMP:20260420T034310
CREATED:20231117T114951Z
LAST-MODIFIED:20231117T114951Z
UID:3738-1715731200-1715903999@smart-living-health.de
SUMMARY:18. Kongress für Gesundheitsnetzwerker
DESCRIPTION:Versorgung 2030: regional. digital. nachhaltig. \nDer 18. Kongress für Gesundheitsnetzwerker widmet sich vom 15. bis 16. Mai 2024 unter diesem Motto den Megatrends der zukünftigen Gesundheitsversorgung. Im Fokus stehen die Regionalisierung durch Gesundheitsregionen\, die digitale Transformation sowie der Wandel hin zu einer klimabewussten und nachhaltigen Versorgung. Alles Themen\, die in der aktuellen Legislatur und darüber hinaus im Mittelpunkt stehen.
URL:https://smart-living-health.de/veranstaltung/18-kongress-fuer-gesundheitsnetzwerker/
LOCATION:Campus der ESMT Berlin\, Schlossplatz 1\, Berlin\, 10117
CATEGORIES:Kongress,Vor-Ort-Veranstaltung
ORGANIZER;CN="BERLIN-CHEMIE AG":MAILTO:info@berlin-chemie.de
END:VEVENT
BEGIN:VEVENT
DTSTART;TZID=Europe/Berlin:20240516T100000
DTEND;TZID=Europe/Berlin:20240516T160000
DTSTAMP:20260420T034310
CREATED:20240219T190217Z
LAST-MODIFIED:20240221T124011Z
UID:3969-1715853600-1715875200@smart-living-health.de
SUMMARY:Fachtagung: Gesundheit auf E-Rezept?
DESCRIPTION:Digitale Entwicklungen verstehen und Kompetenzen stärken \nDie Digitalisierung im Gesundheitswesen eröffnet vielfältige Chancen: Sie hat das Potenzial\, effektive Vorsorge zu bieten\, hochwertige medizinische Gesundheitsversorgung bereitzustellen und nachhaltige Patientenversorgung zu unterstützen. Doch die aktuellen Entwicklungen stellen besonders ältere Menschen eher vor Herausforderungen\, wenn ihnen die nötigen digitalen Kenntnisse fehlen und sie die vielfältigen Angebote nicht kennen. \nDie Fachtagung richtet sich an Menschen\, die Älteren Unterstützung beim Erlangen digitaler Gesundheitskompetenzen anbieten. Gemeinsam sollen Chancen aufgezeigt und Herausforderungen und notwendige Voraussetzungen diskutiert werden. Zudem werden praktische Anwendungsbeispiele und zielgruppenorientierte Bildungs- und Beratungsangebote vorgestellt.
URL:https://smart-living-health.de/veranstaltung/fachtagung-gesundheit-auf-e-rezept/
LOCATION:Kongresszentrum des BMFSFJ\, Mauerstraße 27\, Berlin\, 10117
CATEGORIES:Fachtagung,Vor-Ort-Veranstaltung
ORGANIZER;CN="DigitalPakt Alter":MAILTO:digitalpakt@bagso.de
END:VEVENT
END:VCALENDAR