BEGIN:VCALENDAR
VERSION:2.0
PRODID:-//SLHC - ECPv6.15.20//NONSGML v1.0//EN
CALSCALE:GREGORIAN
METHOD:PUBLISH
X-WR-CALNAME:SLHC
X-ORIGINAL-URL:https://smart-living-health.de
X-WR-CALDESC:Veranstaltungen für SLHC
REFRESH-INTERVAL;VALUE=DURATION:PT1H
X-Robots-Tag:noindex
X-PUBLISHED-TTL:PT1H
BEGIN:VTIMEZONE
TZID:Europe/Berlin
BEGIN:DAYLIGHT
TZOFFSETFROM:+0100
TZOFFSETTO:+0200
TZNAME:CEST
DTSTART:20230326T010000
END:DAYLIGHT
BEGIN:STANDARD
TZOFFSETFROM:+0200
TZOFFSETTO:+0100
TZNAME:CET
DTSTART:20231029T010000
END:STANDARD
BEGIN:DAYLIGHT
TZOFFSETFROM:+0100
TZOFFSETTO:+0200
TZNAME:CEST
DTSTART:20240331T010000
END:DAYLIGHT
BEGIN:STANDARD
TZOFFSETFROM:+0200
TZOFFSETTO:+0100
TZNAME:CET
DTSTART:20241027T010000
END:STANDARD
BEGIN:DAYLIGHT
TZOFFSETFROM:+0100
TZOFFSETTO:+0200
TZNAME:CEST
DTSTART:20250330T010000
END:DAYLIGHT
BEGIN:STANDARD
TZOFFSETFROM:+0200
TZOFFSETTO:+0100
TZNAME:CET
DTSTART:20251026T010000
END:STANDARD
END:VTIMEZONE
BEGIN:VEVENT
DTSTART;VALUE=DATE:20240423
DTEND;VALUE=DATE:20240426
DTSTAMP:20260420T062924
CREATED:20240115T134555Z
LAST-MODIFIED:20240115T134637Z
UID:3881-1713830400-1714089599@smart-living-health.de
SUMMARY:Altenpflege
DESCRIPTION:Die Leitmesse der Pflegebranche\n\nVom 23. bis 25. April 2024 wird das Essener Messegelände das zweiten Mal zum Zentrum der nationalen Pflegebranche und wichtigster Treffpunkt des Jahres! Erleben Sie täglich von 09.00 bis 17.00 Uhr aktuelle Entwicklungen\, Produkte und Dienstleistungen rund um die stationäre und ambulante Pflege. Themen wie Nachhaltigkeit\, Energie\, Digitalisierung\, vernetztes Wohnen und Innovationen stehen bei der diesjährigen Leitmesse im Mittelpunkt.
URL:https://smart-living-health.de/veranstaltung/altenpflege/
LOCATION:Messe Essen\, Messepl. 1\, Essen\, 45131
CATEGORIES:Messe
ORGANIZER;CN="Vincentz Network GmbH & Co. KG":MAILTO:christoph.schulz@vincentz.net
END:VEVENT
END:VCALENDAR