BEGIN:VCALENDAR
VERSION:2.0
PRODID:-//SLHC - ECPv6.15.20//NONSGML v1.0//EN
CALSCALE:GREGORIAN
METHOD:PUBLISH
X-ORIGINAL-URL:https://smart-living-health.de
X-WR-CALDESC:Veranstaltungen für SLHC
REFRESH-INTERVAL;VALUE=DURATION:PT1H
X-Robots-Tag:noindex
X-PUBLISHED-TTL:PT1H
BEGIN:VTIMEZONE
TZID:Europe/Berlin
BEGIN:DAYLIGHT
TZOFFSETFROM:+0100
TZOFFSETTO:+0200
TZNAME:CEST
DTSTART:20230326T010000
END:DAYLIGHT
BEGIN:STANDARD
TZOFFSETFROM:+0200
TZOFFSETTO:+0100
TZNAME:CET
DTSTART:20231029T010000
END:STANDARD
BEGIN:DAYLIGHT
TZOFFSETFROM:+0100
TZOFFSETTO:+0200
TZNAME:CEST
DTSTART:20240331T010000
END:DAYLIGHT
BEGIN:STANDARD
TZOFFSETFROM:+0200
TZOFFSETTO:+0100
TZNAME:CET
DTSTART:20241027T010000
END:STANDARD
BEGIN:DAYLIGHT
TZOFFSETFROM:+0100
TZOFFSETTO:+0200
TZNAME:CEST
DTSTART:20250330T010000
END:DAYLIGHT
BEGIN:STANDARD
TZOFFSETFROM:+0200
TZOFFSETTO:+0100
TZNAME:CET
DTSTART:20251026T010000
END:STANDARD
END:VTIMEZONE
BEGIN:VEVENT
DTSTART;TZID=Europe/Berlin:20240418T140000
DTEND;TZID=Europe/Berlin:20240418T163000
DTSTAMP:20260420T093053
CREATED:20240115T125123Z
LAST-MODIFIED:20240122T120433Z
UID:3876-1713448800-1713457800@smart-living-health.de
SUMMARY:Aromapflege in der Pflege zu Hause
DESCRIPTION:Wie kann ich die Pflege zu Hause gestalten? Welche Möglichkeiten bietet die Aromapflege für mich und den zu Pflegenden? \n\n\nWenn Sie sich dafür entscheiden\, Ihren Angehörigen zuhause selbst zu versorgen\, entstehen viele Fragen. Wie wasche oder mobilisiere ich meinen Angehörigen? Was tun bei kleineren und größeren Wehwehchen? Wie kann ich dazu beitragen\, dass er sich in seiner Pflegebedürftigkeit wohl fühlen kann? Was kann ich für mich selbst tun? \n\n\nOb Sie Pflegender Angehöriger oder Pflegekraft sind\, die Aromapflege kann Sie und den zu Pflegenden sanft\, aber wirksam und wohltuend begleiten\, und zwar auf verschiedenen Ebenen\, denn sie wirkt stets auf Körper\, Geist und Seele. Und Sie tun nicht nur dem Pflegenden etwas Gutes\, sondern verwöhnen sich auch selbst\, ob in der pflegerischen Anwendung oder mit einer einfachen Raumbeduftung. \n\nUm Voranmeldung wird gebeten! \nEine Übersicht aller Workshops finden Sie hier Aromaworkshops 2024 \nAnmeldung\nDatum *13.3.2025 - In Balance - Rituale für mehr Gelassenheit6.5.2025 - Trauer-Verlust- und Sterbebegleitung26.6.2025 - Frisch durch den Sommer9.9.2025 - Pflege zu Hause - Unterstützungsmöglichkeiten durch die Aromapflege16.10.2025 - Aromapflege zur Begleitung bei Demenz27.11.2025 - Zimt und Sterne - mit weihnachtlichen Aromen durch die Adventszeit  AnredeFrauHerrDiv  Kontaktmöglichkeit für Rückfragen *PersonenzahlWas ist Ihr Hintergrund?Was ist Ihr Hintergrund?AusbildungLehrkraftPflegekraftPflegende Angehörigeanderer Hintergrund  Danke für Ihre Nachricht. Wir haben diese erhalten.×Es ist ein Fehler aufgetreten. Bitte versuchen Sie es erneut.×Jetzt anmelden\n  \nTel. 030-6179 5042 \nE-Mail: info@haus-der-zukunft-am-ukb.de
URL:https://smart-living-health.de/veranstaltung/aromapflege-in-der-pflege-zu-hause/
LOCATION:Haus der Zukunft am ukb\, Blumberger Damm 2k\, Berlin\, Berlin\, 12683\, Deutschland
CATEGORIES:Workshop
ORGANIZER;CN="Primavera":MAILTO:info@primaveralife.com
END:VEVENT
END:VCALENDAR