BEGIN:VCALENDAR
VERSION:2.0
PRODID:-//SLHC - ECPv6.15.20//NONSGML v1.0//EN
CALSCALE:GREGORIAN
METHOD:PUBLISH
X-WR-CALNAME:SLHC
X-ORIGINAL-URL:https://smart-living-health.de
X-WR-CALDESC:Veranstaltungen für SLHC
REFRESH-INTERVAL;VALUE=DURATION:PT1H
X-Robots-Tag:noindex
X-PUBLISHED-TTL:PT1H
BEGIN:VTIMEZONE
TZID:Europe/Berlin
BEGIN:DAYLIGHT
TZOFFSETFROM:+0100
TZOFFSETTO:+0200
TZNAME:CEST
DTSTART:20230326T010000
END:DAYLIGHT
BEGIN:STANDARD
TZOFFSETFROM:+0200
TZOFFSETTO:+0100
TZNAME:CET
DTSTART:20231029T010000
END:STANDARD
BEGIN:DAYLIGHT
TZOFFSETFROM:+0100
TZOFFSETTO:+0200
TZNAME:CEST
DTSTART:20240331T010000
END:DAYLIGHT
BEGIN:STANDARD
TZOFFSETFROM:+0200
TZOFFSETTO:+0100
TZNAME:CET
DTSTART:20241027T010000
END:STANDARD
BEGIN:DAYLIGHT
TZOFFSETFROM:+0100
TZOFFSETTO:+0200
TZNAME:CEST
DTSTART:20250330T010000
END:DAYLIGHT
BEGIN:STANDARD
TZOFFSETFROM:+0200
TZOFFSETTO:+0100
TZNAME:CET
DTSTART:20251026T010000
END:STANDARD
END:VTIMEZONE
BEGIN:VEVENT
DTSTART;TZID=Europe/Berlin:20240320T140000
DTEND;TZID=Europe/Berlin:20240320T150000
DTSTAMP:20260420T123042
CREATED:20240126T155424Z
LAST-MODIFIED:20240202T132056Z
UID:3938-1710943200-1710946800@smart-living-health.de
SUMMARY:Pflege - was nun?!
DESCRIPTION:Plötzlich auf Hilfe angewiesen?  \nPlötzlich pflegebedürftig?  \nPlötzlich pflegender Angehöriger? \n\nDiese Veranstaltung gibt einen ersten kurzen Überblick über das Thema Pflege und entsprechende Leistungen! \n\nhilfreiche Hinweise zur MDK- Begutachtung\nWelche Pflichten und Fristen muss ich bei einem vorhandenen Pflegegrad einhalten?\nWer übernimmt welche Kosten bei der Pflegebedürftigkeit und was passiert\, wenn ich mir die Pflege nicht leisten kann?\n\n  \nUm Anmeldung wird gebeten: \nTel: 030 – 6179 5042 \nEmail: info@haus-der-zukunft-am-ukb.de
URL:https://smart-living-health.de/veranstaltung/pflege-was-nun/
LOCATION:Haus der Zukunft am ukb\, Blumberger Damm 2k\, Berlin\, Berlin\, 12683\, Deutschland
CATEGORIES:Informationsveranstaltung
ORGANIZER;CN="Renafan":MAILTO:0304381900
END:VEVENT
END:VCALENDAR