BEGIN:VCALENDAR
VERSION:2.0
PRODID:-//SLHC - ECPv6.15.20//NONSGML v1.0//EN
CALSCALE:GREGORIAN
METHOD:PUBLISH
X-WR-CALNAME:SLHC
X-ORIGINAL-URL:https://smart-living-health.de
X-WR-CALDESC:Veranstaltungen für SLHC
REFRESH-INTERVAL;VALUE=DURATION:PT1H
X-Robots-Tag:noindex
X-PUBLISHED-TTL:PT1H
BEGIN:VTIMEZONE
TZID:Europe/Berlin
BEGIN:DAYLIGHT
TZOFFSETFROM:+0100
TZOFFSETTO:+0200
TZNAME:CEST
DTSTART:20230326T010000
END:DAYLIGHT
BEGIN:STANDARD
TZOFFSETFROM:+0200
TZOFFSETTO:+0100
TZNAME:CET
DTSTART:20231029T010000
END:STANDARD
BEGIN:DAYLIGHT
TZOFFSETFROM:+0100
TZOFFSETTO:+0200
TZNAME:CEST
DTSTART:20240331T010000
END:DAYLIGHT
BEGIN:STANDARD
TZOFFSETFROM:+0200
TZOFFSETTO:+0100
TZNAME:CET
DTSTART:20241027T010000
END:STANDARD
BEGIN:DAYLIGHT
TZOFFSETFROM:+0100
TZOFFSETTO:+0200
TZNAME:CEST
DTSTART:20250330T010000
END:DAYLIGHT
BEGIN:STANDARD
TZOFFSETFROM:+0200
TZOFFSETTO:+0100
TZNAME:CET
DTSTART:20251026T010000
END:STANDARD
END:VTIMEZONE
BEGIN:VEVENT
DTSTART;TZID=Europe/Berlin:20240214T100000
DTEND;TZID=Europe/Berlin:20240214T120000
DTSTAMP:20260420T182453
CREATED:20240104T101948Z
LAST-MODIFIED:20240104T101948Z
UID:3827-1707904800-1707912000@smart-living-health.de
SUMMARY:Auftaktveranstaltung: Kooperation opta data ZukunftsStiftung und der IB Hochschule für Gesundheit und Soziales
DESCRIPTION:Das Ansehen von systemrelevanten\, akademischen Gesundheitsfachberufen in der Gesellschaft stärken und die Digitalisierung in diesem Bereich dynamisch vorantreiben – mit diesem Ansatz ergänzt die opta data Zukunfts-Stiftung ideal das Bestreben der IB Hochschule\, moderne\, zeitgemäße Studieninhalte zu vermitteln. Dazu gehören auch die gemeinsam mit dem Unfallkrankenhaus Berlin (ukb) entwickelten praxisorientierten Studiengänge Digital Health (B.Sc. und M.Sc.). \n  \nHinweis zum Veranstaltungsort (+digitale Teilnahme möglich): \nBG Klinikum Unfallkrankenhaus Berlin\, Raum S0.70 im Haus S\, Reha-Klinik Warener Str. 7 12683 Berlin
URL:https://smart-living-health.de/veranstaltung/auftaktveranstaltung-kooperation-opta-data-zukunftsstiftung-und-der-ib-hochschule-fuer-gesundheit-und-soziales/
LOCATION:BG Klinikum Unfallkrankenhaus Berlin\, Warener Str. 7\, Berlin\, 12683
END:VEVENT
END:VCALENDAR