BEGIN:VCALENDAR
VERSION:2.0
PRODID:-//SLHC - ECPv6.15.20//NONSGML v1.0//EN
CALSCALE:GREGORIAN
METHOD:PUBLISH
X-WR-CALNAME:SLHC
X-ORIGINAL-URL:https://smart-living-health.de
X-WR-CALDESC:Veranstaltungen für SLHC
REFRESH-INTERVAL;VALUE=DURATION:PT1H
X-Robots-Tag:noindex
X-PUBLISHED-TTL:PT1H
BEGIN:VTIMEZONE
TZID:Europe/Berlin
BEGIN:DAYLIGHT
TZOFFSETFROM:+0100
TZOFFSETTO:+0200
TZNAME:CEST
DTSTART:20230326T010000
END:DAYLIGHT
BEGIN:STANDARD
TZOFFSETFROM:+0200
TZOFFSETTO:+0100
TZNAME:CET
DTSTART:20231029T010000
END:STANDARD
BEGIN:DAYLIGHT
TZOFFSETFROM:+0100
TZOFFSETTO:+0200
TZNAME:CEST
DTSTART:20240331T010000
END:DAYLIGHT
BEGIN:STANDARD
TZOFFSETFROM:+0200
TZOFFSETTO:+0100
TZNAME:CET
DTSTART:20241027T010000
END:STANDARD
BEGIN:DAYLIGHT
TZOFFSETFROM:+0100
TZOFFSETTO:+0200
TZNAME:CEST
DTSTART:20250330T010000
END:DAYLIGHT
BEGIN:STANDARD
TZOFFSETFROM:+0200
TZOFFSETTO:+0100
TZNAME:CET
DTSTART:20251026T010000
END:STANDARD
END:VTIMEZONE
BEGIN:VEVENT
DTSTART;TZID=Europe/Berlin:20240123T100000
DTEND;TZID=Europe/Berlin:20240123T113000
DTSTAMP:20260420T212010
CREATED:20240104T105558Z
LAST-MODIFIED:20240104T105558Z
UID:3831-1706004000-1706009400@smart-living-health.de
SUMMARY:Online: KI im Alltag älterer Menschen
DESCRIPTION:Was steckt hinter dem Begriff Künstliche Intelligenz (KI) und vor allem: Wo treffen ältere Menschen in ihrem Alltag auf Verfahren und Technologien\, die auf KI basieren? Können KI-basierte Systeme zur Lebensqualität im Alter beitragen und welche Chancen und Herausforderungen sind damit verbunden? Das Projekt „KI für ein gutes Altern“ der BAGSO widmet sich diesen und vielen weiteren Fragen zum Themenfeld Künstliche Intelligenz. Ausgangspunkt sind dabei stets die Lebenswelten und Interessen älterer Menschen.
URL:https://smart-living-health.de/veranstaltung/online-ki-im-alltag-aelterer-menschen/
LOCATION:Online
CATEGORIES:Digital,Informationsveranstaltung
END:VEVENT
BEGIN:VEVENT
DTSTART;TZID=Europe/Berlin:20240123T190000
DTEND;TZID=Europe/Berlin:20240123T190000
DTSTAMP:20260420T212010
CREATED:20231219T150131Z
LAST-MODIFIED:20240104T141720Z
UID:3812-1706036400-1706036400@smart-living-health.de
SUMMARY:Stärkung der ambulanten Pflege im Lichte des demographischen Wandels - Parlamentarischer Abend
DESCRIPTION:Es ist der Wunsch der weit überwiegenden Zahl der Menschen auch im Falle von Pflege­bedürftigkeit im vertrauten Umfeld\, zuhause versorgt zu werden. Doch die Zahl der betrof­fenen Menschen wird in den nächsten Jahren aufgrund des demographischen Wandels bedeutend zunehmen. Der Schlüsselwohnbereich für die ambulanten Pflege ist das Badezimmer. Im Rahmen des Parlamentarischen Abends werden wir die Praxis des Sanitärhandwerks beleuchten\, welches jährlich rund eine Million Bäder saniert. Zudem möchten wir die Perspektive der ambulanten Pflege vermitteln\, denn das Badezimmer ist u.a. auch Arbeitsplatz der ambulant Pflegenden und damit ein wichtiger Fokus auf gute Arbeitsbedingungen in der Pflege. \nProgramm\n 19:00 Uhr Prof. Dr. Christel BiensteinPräsidentin Deutscher Berufsverband für Pflegeberufe e. V.\n 19:05 Uhr Michael HilpertPräsident des Zentralverbandes Sanitär Heizung Klima\n 19:15 Uhr Optimierung der Ausführung und Finanzierung von pflegegerechten BädernVorstellung der Studienergebnisse“\n 19:30 Uhr Podiumsdiskussion der Handlungsempfehlungen\nAnmeldung\nAnredeFrauHerrDiv  Kontaktmöglichkeit *Danke für Ihre Nachricht. Wir haben diese erhalten.×Es ist ein Fehler aufgetreten. Bitte versuchen Sie es erneut.×Jetzt anmelden
URL:https://smart-living-health.de/veranstaltung/staerkung-der-ambulanten-pflege-im-lichte-des-demographischen-wandels-parlamentarischer-abend/
LOCATION:Berlin
END:VEVENT
END:VCALENDAR