BEGIN:VCALENDAR
VERSION:2.0
PRODID:-//SLHC - ECPv6.15.20//NONSGML v1.0//EN
CALSCALE:GREGORIAN
METHOD:PUBLISH
X-WR-CALNAME:SLHC
X-ORIGINAL-URL:https://smart-living-health.de
X-WR-CALDESC:Veranstaltungen für SLHC
REFRESH-INTERVAL;VALUE=DURATION:PT1H
X-Robots-Tag:noindex
X-PUBLISHED-TTL:PT1H
BEGIN:VTIMEZONE
TZID:Europe/Berlin
BEGIN:DAYLIGHT
TZOFFSETFROM:+0100
TZOFFSETTO:+0200
TZNAME:CEST
DTSTART:20220327T010000
END:DAYLIGHT
BEGIN:STANDARD
TZOFFSETFROM:+0200
TZOFFSETTO:+0100
TZNAME:CET
DTSTART:20221030T010000
END:STANDARD
BEGIN:DAYLIGHT
TZOFFSETFROM:+0100
TZOFFSETTO:+0200
TZNAME:CEST
DTSTART:20230326T010000
END:DAYLIGHT
BEGIN:STANDARD
TZOFFSETFROM:+0200
TZOFFSETTO:+0100
TZNAME:CET
DTSTART:20231029T010000
END:STANDARD
BEGIN:DAYLIGHT
TZOFFSETFROM:+0100
TZOFFSETTO:+0200
TZNAME:CEST
DTSTART:20240331T010000
END:DAYLIGHT
BEGIN:STANDARD
TZOFFSETFROM:+0200
TZOFFSETTO:+0100
TZNAME:CET
DTSTART:20241027T010000
END:STANDARD
END:VTIMEZONE
BEGIN:VEVENT
DTSTART;TZID=Europe/Berlin:20231206T140000
DTEND;TZID=Europe/Berlin:20231206T180000
DTSTAMP:20260420T224355
CREATED:20231117T113321Z
LAST-MODIFIED:20231117T113524Z
UID:3720-1701871200-1701885600@smart-living-health.de
SUMMARY:Treffpunkt Gesundheitswirtschaft
DESCRIPTION:Anforderungen an Produkte im Gesundheitsbereich werden auch jenseits regulatorischer Themen immer komplexer.  Wie lässt sich das Zusammenspiel von der Forschung und Entwicklung bis hin zur Anwendung und dem Patientennutzen gestalten? Das erfahren Sie bei der Branchenkonferenz „Treffpunkt Gesundheitswirtschaft“\, zu der die IHK Berlin und Berlin Partner für Wirtschaft und Technologie Sie herzlich einladen. \n\n\nIm Fokus der Veranstaltung stehen beispielhaft Innovationen rund um Herz-Kreislauf-Erkrankungen. Denn: hierbei handelt es sich um Erkrankungen\, die in Deutschland zu den häufigsten Todesursachen führen\, und deren Behandlung und Verhinderung stetige und hochkomplexe Innovationen erfordern.  Freuen Sie sich auf einen interaktiven Austausch mit Akteuren der regionalen Gesundheitswirtschaft und neue Erkenntnisse zu interdisziplinären Kooperationen.
URL:https://smart-living-health.de/veranstaltung/treffpunkt-gesundheitswirtschaft/
LOCATION:IHK Berlin\, Fasanenstr. 85\, Berlin\, 10623
END:VEVENT
END:VCALENDAR