BEGIN:VCALENDAR
VERSION:2.0
PRODID:-//SLHC - ECPv6.15.20//NONSGML v1.0//EN
CALSCALE:GREGORIAN
METHOD:PUBLISH
X-ORIGINAL-URL:https://smart-living-health.de
X-WR-CALDESC:Veranstaltungen für SLHC
REFRESH-INTERVAL;VALUE=DURATION:PT1H
X-Robots-Tag:noindex
X-PUBLISHED-TTL:PT1H
BEGIN:VTIMEZONE
TZID:Europe/Berlin
BEGIN:DAYLIGHT
TZOFFSETFROM:+0100
TZOFFSETTO:+0200
TZNAME:CEST
DTSTART:20220327T010000
END:DAYLIGHT
BEGIN:STANDARD
TZOFFSETFROM:+0200
TZOFFSETTO:+0100
TZNAME:CET
DTSTART:20221030T010000
END:STANDARD
BEGIN:DAYLIGHT
TZOFFSETFROM:+0100
TZOFFSETTO:+0200
TZNAME:CEST
DTSTART:20230326T010000
END:DAYLIGHT
BEGIN:STANDARD
TZOFFSETFROM:+0200
TZOFFSETTO:+0100
TZNAME:CET
DTSTART:20231029T010000
END:STANDARD
BEGIN:DAYLIGHT
TZOFFSETFROM:+0100
TZOFFSETTO:+0200
TZNAME:CEST
DTSTART:20240331T010000
END:DAYLIGHT
BEGIN:STANDARD
TZOFFSETFROM:+0200
TZOFFSETTO:+0100
TZNAME:CET
DTSTART:20241027T010000
END:STANDARD
END:VTIMEZONE
BEGIN:VEVENT
DTSTART;TZID=Europe/Berlin:20231129T140000
DTEND;TZID=Europe/Berlin:20231129T170000
DTSTAMP:20260421T002038
CREATED:20231005T122844Z
LAST-MODIFIED:20231116T094913Z
UID:3622-1701266400-1701277200@smart-living-health.de
SUMMARY:Digital im Alter – Unterstützung und Sicherheit durch digitale Lösungen
DESCRIPTION:Sehr geehrte Damen und Herren\,  liebe pflegende Angehörige\, Pflegeunterstützende und selbst von Pflege Betroffenen\, \ngerne möchten wir Sie zum diesjährigen „Dialogforum Gute Pflege in Marzahn-Hellersdorf“ einladen. \n  \nDieses findet am 29. November 2023 im „Haus der Zukunft am ukb“ (Blumberger Damm 2k\, 12683 Berlin) in der Zeit von 14:00 bis 17:00 Uhr statt. \n„Digitalisierung im Alter – Unterstützung und Sicherheit durch digitale Lösungen“ stehen im Mittelpunkt des Dialogforums. \n  \nAnmeldungen bitte an:  \nE-Mail: netzwerk.alter@ba-mh.berlin.de \nTel: 030 514 30 93 (über den Pflegestützpunkt Marzahn) \nFlyer_Digitalforum Marzahn-Hellersdorf
URL:https://smart-living-health.de/veranstaltung/digital-im-alter-unterstuetzung-und-sicherheit-durch-digitale-loesungen/
LOCATION:Haus der Zukunft am ukb\, Blumberger Damm 2k\, Berlin\, Berlin\, 12683\, Deutschland
ORGANIZER;CN="Gesch%C3%A4ftsstelle Netzwerk im Alter":MAILTO:netzwerk.alter@ba-mh.berlin.de
END:VEVENT
END:VCALENDAR