BEGIN:VCALENDAR
VERSION:2.0
PRODID:-//SLHC - ECPv6.15.20//NONSGML v1.0//EN
CALSCALE:GREGORIAN
METHOD:PUBLISH
X-WR-CALNAME:SLHC
X-ORIGINAL-URL:https://smart-living-health.de
X-WR-CALDESC:Veranstaltungen für SLHC
REFRESH-INTERVAL;VALUE=DURATION:PT1H
X-Robots-Tag:noindex
X-PUBLISHED-TTL:PT1H
BEGIN:VTIMEZONE
TZID:Europe/Berlin
BEGIN:DAYLIGHT
TZOFFSETFROM:+0100
TZOFFSETTO:+0200
TZNAME:CEST
DTSTART:20220327T010000
END:DAYLIGHT
BEGIN:STANDARD
TZOFFSETFROM:+0200
TZOFFSETTO:+0100
TZNAME:CET
DTSTART:20221030T010000
END:STANDARD
BEGIN:DAYLIGHT
TZOFFSETFROM:+0100
TZOFFSETTO:+0200
TZNAME:CEST
DTSTART:20230326T010000
END:DAYLIGHT
BEGIN:STANDARD
TZOFFSETFROM:+0200
TZOFFSETTO:+0100
TZNAME:CET
DTSTART:20231029T010000
END:STANDARD
BEGIN:DAYLIGHT
TZOFFSETFROM:+0100
TZOFFSETTO:+0200
TZNAME:CEST
DTSTART:20240331T010000
END:DAYLIGHT
BEGIN:STANDARD
TZOFFSETFROM:+0200
TZOFFSETTO:+0100
TZNAME:CET
DTSTART:20241027T010000
END:STANDARD
END:VTIMEZONE
BEGIN:VEVENT
DTSTART;VALUE=DATE:20231113
DTEND;VALUE=DATE:20231117
DTSTAMP:20260421T014000
CREATED:20230127T113843Z
LAST-MODIFIED:20230127T113843Z
UID:3170-1699833600-1700179199@smart-living-health.de
SUMMARY:Medica
DESCRIPTION:Die weltführende Medizinmesse und die internationale Nr. 1 für den medizintechnischen Zulieferbereich
URL:https://smart-living-health.de/veranstaltung/medica/
LOCATION:Düsseldorf
CATEGORIES:Messe
END:VEVENT
BEGIN:VEVENT
DTSTART;TZID=Europe/Berlin:20231114T150000
DTEND;TZID=Europe/Berlin:20231114T190000
DTSTAMP:20260421T014000
CREATED:20231031T155441Z
LAST-MODIFIED:20231107T135849Z
UID:3662-1699974000-1699988400@smart-living-health.de
SUMMARY:Hitzeschutz bei Sanierung und Neubau
DESCRIPTION:Die Zahl der heißen Tage und die Anzahl und Dauer von Hitzeperioden hat in den letzten Jahren stark zugenommen. Gerade für ältere und hochaltrige Menschen gehen damit Risiken für die Gesundheit einher. Daher ist es von besonderer Bedeutung Maßnahmen für den Hitzeschutz für Wohnimmobilien und Immobilien\, die der Versorgung älterer und pflegebedürftiger Menschen dienen\, umzusetzen. \nIn einem Fachworkshop wollen wir gemeinsam mit dem Verband Berlin-Brandenburgischer Wohnungsunternehmen e.V. (BBU) auf Best Practice Projekte blicken und innovative Lösungen für einen wirksamen Hitzeschutz zusammenstellen. \nHier geht es zu Anmeldung:\nAnredeFrauHerrDiv  BrancheWählen Sie hier aus\, welcher Branche Sie angehören.WohnungswirtschaftHandwerkHerstellerFachhandelPlanung  Kontaktmöglichkeit für Rückfragen *PersonenzahlDanke für Ihre Nachricht. Wir haben diese erhalten.×Es ist ein Fehler aufgetreten. Bitte versuchen Sie es erneut.×Jetzt anmelden\nProgramm\n 15:00 | Christian GräffGeschäftsführer des Smart Living & Health Center e. V.\n 15:15 | Dr. Jörg LippertLeiter Bereich Technik\, Energie\, Klima BBU\n 15:30 | Sven BlumersGeschäftsführer und Gründer Blumers Architekten Berlin | „Erfahrungen bei Maßnahmen zum Hitzeschutz bei der Sanierung“\n 16:00 | Dr. Malte MaurerManaging Director | Deutsche Wohnen SE | „Hitzeschutz im Neubau/ Bestand“\n 16:30 | Austausch„Erfahrungen bei Maßnahmen zum Hitzeschutz bei der Sanierung“\n Im AnschlussNetzwerken und Get to-gether
URL:https://smart-living-health.de/veranstaltung/hitzeschutz-bei-sanierung-und-neubau/
LOCATION:Haus der Zukunft am ukb\, Blumberger Damm 2k\, Berlin\, Berlin\, 12683\, Deutschland
CATEGORIES:Digital,Fachtagung,Informationsveranstaltung,Vor-Ort-Veranstaltung
END:VEVENT
END:VCALENDAR